Workbook
Name BULAN: #REF!
Name BULAN: #REF!
Name BULAN: #REF!
Name BULAN: #REF!
Name BULAN: #REF!
Name BULAN: #REF!
Name BULAN: #REF!
Name BULAN: #REF!
Name BULAN: #REF!
Name BULAN: #REF!
Name BULAN: #REF!
Name BULAN: #REF!
Name BULAN: #REF!
Name BULAN: #REF!
Name BULAN: #REF!
Name BULAN: #REF!
Name BULAN: #REF!
Name D: #REF!
Name D: #REF!
Name D: #REF!
Name D: #REF!
Name D: #REF!
Name D: #REF!
Name D: #REF!
Name D: #REF!
Name D: #REF!
Name D: #REF!
Name D: #REF!
Name D: #REF!
Name D: #REF!
Name D: #REF!
Name D: #REF!
Name D: #REF!
Name D: #REF!
Name gt: #REF!
Name gt: #REF!
Name gt: #REF!
Name gt: #REF!
Name gt: #REF!
Name gt: #REF!
Name gt: #REF!
Name gt: #REF!
Name gt: #REF!
Name gt: #REF!
Name gt: #REF!
Name gt: #REF!
Name gt: #REF!
Name gt: #REF!
Name gt: #REF!
Name gt: #REF!
Name gt: #REF!
Name S: #REF!
Name S: #REF!
Name S: #REF!
Name S: #REF!
Name S: #REF!
Name S: #REF!
Name S: #REF!
Name S: #REF!
Name S: #REF!

Sheet juli
A1: BUKU KAS UMUM
A2: BULAN JULI 2025
A4: Instansi | C4: : PC AL IRSYAD AL ISLAMIYYAH PURWOKERTO | H4: BKU
A5: Kabupaten | C5: : BANYUMAS
A6: Provinsi | C6: : JAWA TENGAH
A8: Tanggal | B8: No. Kode | C8: No. Bukti | D8: Uraian | E8: Penerimaan (Debit) | F8: Pengeluaran (Kredit) | G8: Saldo Kas-Sub | H8: Saldo Kas Total
A9: 45839 | D9: Saldo rekening 1035241902 - YAYASAN AL IRSYAD PURWOKERTO | E9: 5.9769108e+08 | G9: =E9 -> 5.9769108e+08 | H9: =G9 -> 5.9769108e+08 | J9: rek SPP karangkobar 5558
A10: 45852 | C10: 1 | D10: MAXHUB MOBILE STAND ALIRSYAD PWT | F10: 2900 | G10: =(G9+E10)-F10 -> 5.9768818e+08 | H10: =G10 -> 5.9768818e+08
A11: 45852 | C11: 1 | D11: MAXHUB MOBILE STAND ALIRSYAD PWT | F11: 6100000 | G11: =(G10+E11)-F11 -> 5.9158818e+08 | H11: =G11 -> 5.9158818e+08
A12: 45853 | C12: 2 | D12: PAYMENT SUBJECT WORKSHOP MYP JULY 1 3 PARTICIPANTS (PPAA N064054) | F12: 76798800 | G12: =(G11+E12)-F12 -> 5.1478938e+08 | H12: =G12 -> 5.1478938e+08
A13: 45853 | C13: 2 | D13: PAYMENT SUBJECT WORKSHOP MYP JULY 1 3 PARTICIPANTS (PPAA N064054) | F13: 410250 | G13: =(G12+E13)-F13 -> 5.1437913e+08 | H13: =G13 -> 5.1437913e+08
A14: 45869 | D14: Pendapatan SPP bulan Agustus rek 1035241902 | E14: 6020029500 | G14: =(G13+E14)-F14 -> 6.5344086e+09 | H14: =G14 -> 6.5344086e+09
A15: 45869 | C15: 3 | D15: PAYROLL OPD0001607 2025-07 | F15: 1319052496 | G15: =(G14+E15)-F15 -> 5.2153561e+09 | H15: =G15 -> 5.2153561e+09
A16: 45869 | D16: Biaya Administrasi | F16: 15000 | G16: =(G15+E16)-F16 -> 5.2153411e+09 | H16: =G16 -> 5.2153411e+09
A17: 45869 | C17: 4 | D17: Dropping bulan Juli 2025 LPP | F17: 161461900 | G17: =(G16+E17)-F17 -> 5.0538792e+09 | H17: =G17 -> 5.0538792e+09
A18: 45869 | C18: 5 | D18: Dropping bulan Juli 2025 unit SMA IT | F18: 135550000 | G18: =(G17+E18)-F18 -> 4.9183292e+09 | H18: =G18 -> 4.9183292e+09
A19: 45869 | C19: 6 | D19: Dropping bulan Juli 2025 unit SD 2 | F19: 88600000 | G19: =(G18+E19)-F19 -> 4.8297292e+09 | H19: =G19 -> 4.8297292e+09
A20: 45869 | C20: 7 | D20: Dropping bulan Juli 2025 unit SMP | F20: 138910000 | G20: =(G19+E20)-F20 -> 4.6908192e+09 | H20: =G20 -> 4.6908192e+09
D21: JUMLAH | E21: =SUM(E9:E20) -> 6.6177206e+09 | F21: =SUM(F10:F20) -> 1926901346 | G21: =E21-F21 -> 4.6908192e+09 | H21: =G21 -> 4.6908192e+09 | I21: 4.6908192e+09 | J21: =H21-I21 -> 0
A23: 45839 | D23: Saldo rekening 7099206505 - AL IRSYAD AL ISLAMIYYAH PURWOKERTO | E23: 1.8836859e+09 | G23: =E23 -> 1.8836859e+09 | H23: =H21+G23 -> 6.5745052e+09 | J23: rek spp soedirman 9088
A24: 45839.237 | D24: Bagi Hasil atau Bonus | E24: 1574649.2 | G24: =(G23+E24)-F24 -> 1.8852606e+09 | H24: =(H23+E24)-F24 -> 6.5760798e+09
A25: 45839.237 | D25: Pajak | F25: 314929.84 | G25: =(G24+E25)-F25 -> 1.8849456e+09 | H25: =(H24+E25)-F25 -> 6.5757649e+09
A26: 45840.247 | D26: Biaya Administrasi | F26: 10000 | G26: =(G25+E26)-F26 -> 1.8849356e+09 | H26: =(H25+E26)-F26 -> 6.5757549e+09
A27: 45842.121 | D27: Biaya Administrasi | F27: 15000 | G27: =(G26+E27)-F27 -> 1.8849206e+09 | H27: =(H26+E27)-F27 -> 6.5757399e+09
A28: 45842.488 | C28: 8 | D28: PROYEK SISWA LIBUR SD 01 01 SMP SMA | F28: 81149000 | G28: =(G27+E28)-F28 -> 1.8037716e+09 | H28: =(H27+E28)-F28 -> 6.4945909e+09
A29: 45849.662 | C29: 9 | D29: SARPRAS PC MEJA KURSI ALMARI | F29: 30900000 | G29: =(G28+E29)-F29 -> 1.7728716e+09 | H29: =(H28+E29)-F29 -> 6.4636909e+09
A30: 45852.614 | C30: 10 | D30: PELNSN 33 IFP EDU MAXHUB ALIRSYAD | F30: 745275000 | G30: =(G29+E30)-F30 -> 1.0275966e+09 | H30: =(H29+E30)-F30 -> 5.7184159e+09
A31: 45852.614 | C31: 11 | D31: PELNSN 33 IFP EDU MAXHUB ALIRSYAD | F31: 30000 | G31: =(G30+E31)-F31 -> 1.0275666e+09 | H31: =(H30+E31)-F31 -> 5.7183859e+09
A32: 45859.609 | C32: 13 | D32: PEMBELIAN LAPTOP DAN PRINTER PC AL | F32: 2900 | G32: =(G31+E32)-F32 -> 1.0275637e+09 | H32: =(H31+E32)-F32 -> 5.718383e+09
A33: 45859.609 | C33: 13 | D33: PEMBELIAN LAPTOP DAN PRINTER PC AL | F33: 36240000 | G33: =(G32+E33)-F33 -> 9.9132373e+08 | H33: =(H32+E33)-F33 -> 5.682143e+09
A34: 45863.695 | C34: 14 | D34: SALDO AWAL PT HAJI UMROH AL IRSYAD | F34: 6000000 | G34: =(G33+E34)-F34 -> 9.8532373e+08 | H34: =(H33+E34)-F34 -> 5.676143e+09
A35: 45866.493 | C35: 15 | D35: pembayaran snack acara kajian PC b ersama Drs Muhammmad Taufik AB | F35: 1524500 | G35: =(G34+E35)-F35 -> 9.8379923e+08 | H35: =(H34+E35)-F35 -> 5.6746185e+09
A36: 45866.629 | C36: 16 | D36: Tunjangan pulsa dan transport staff bendahara harian | F36: 500000 | G36: =(G35+E36)-F36 -> 9.8329923e+08 | H36: =(H35+E36)-F36 -> 5.6741185e+09
A37: 45866.629 | C37: 16 | D37: Tunjangan transport dan pulsa ketua lajnah media dan humas | F37: 1000000 | G37: =(G36+E37)-F37 -> 9.8229923e+08 | H37: =(H36+E37)-F37 -> 5.6731185e+09
A38: 45866.629 | C38: 16 | D38: Tunjangan transport dan pulsa ketua lajnah dakwah | F38: 1000000 | G38: =(G37+E38)-F38 -> 9.8129923e+08 | H38: =(H37+E38)-F38 -> 5.6721185e+09
A39: 45866.629 | C39: 16 | D39: Tunj Transport dan pulsa Wasek 2 se kretaris umum | F39: 1000000 | G39: =(G38+E39)-F39 -> 9.8029923e+08 | H39: =(H38+E39)-F39 -> 5.6711185e+09
... A41: 45869.528 | C41: 17 | D41: PERSEDIAN BUKU CEK CHQCC306051-306060.1115757233 | F41: 120000 | G41: =(G40+E41)-F41 -> 9.7917923e+08 | H41: =(H40+E41)-F41 -> 5.6699985e+09
A42: 45869.528 | D42: Pendapatan SPP bulan Juli 2025 | E42: 7668908500 | G42: =(G41+E42)-F42 -> 8.6480877e+09 | H42: =(H41+E42)-F42 -> 1.3338907e+10
A43: 45869.677 | C43: 18 | D43: PAYROLL OPD0002186 2025-07 | F43: 1159106902 | G43: =(G42+E43)-F43 -> 7.4889808e+09 | H43: =(H42+E43)-F43 -> 1.21798e+10
A44: 45869.852 | C44: 19 | D44: Dropping bulan Juli 2025 unit MA Bo arding | F44: 69714500 | G44: =(G43+E44)-F44 -> 7.4192663e+09 | H44: =(H43+E44)-F44 -> 1.2110086e+10
...

Sheet agustus
A1: BUKU KAS UMUM
A2: BULAN AGUSTUS 2025
A4: Instansi | C4: : PC AL IRSYAD AL ISLAMIYYAH PURWOKERTO | H4: BKU
A5: Kabupaten | C5: : BANYUMAS
A6: Provinsi | C6: : JAWA TENGAH
A8: Tanggal | B8: No. Kode | C8: No. Bukti | D8: Uraian | E8: Penerimaan (Debit) | F8: Pengeluaran (Kredit) | G8: Saldo Kas-Sub | H8: Saldo Kas Total | K8: closing balance
A9: 45870 | D9: Saldo rekening 1035241902 - YAYASAN AL IRSYAD PURWOKERTO | E9: 4.6908192e+09 | G9: =E9 -> 4.6908192e+09 | H9: =G9 -> 4.6908192e+09 | J9: rek SPP karangkobar 5558
A10: 45895 | C10: 1 | D10: Dropping LPP dari rek 1035241902 | F10: 924139730 | G10: =(G9+E10)-F10 -> 3.7666795e+09 | H10: =G10 -> 3.7666795e+09
A11: 45895 | C11: 2 | D11: Dropping SMA IT dari rek 1035241902 | F11: 278597500 | G11: =(G10+E11)-F11 -> 3.488082e+09 | H11: =G11 -> 3.488082e+09
A12: 45895 | C12: 3 | D12: Dropping SMP dari rek 1035241902 | F12: 393810500 | G12: =(G11+E12)-F12 -> 3.0942715e+09 | H12: =G12 -> 3.0942715e+09
A13: 45895 | C13: 4 | D13: Dropping SD 02 dari rek 1035241902 | F13: 309374100 | G13: =(G12+E13)-F13 -> 2.7848974e+09 | H13: =G13 -> 2.7848974e+09
A14: 45898 | C14: 5 | D14: Pemindahbukuan dana ke 7777889871 dari 1035241902 | F14: 1500000000 | G14: =(G13+E14)-F14 -> 1.2848974e+09 | H14: =G14 -> 1.2848974e+09
A15: 31 Agustus 2025 | D15: Pendapatan SPP bulan Agustus rek 1035241902 | E15: 1339560750 | G15: =(G14+E15)-F15 -> 2.6244582e+09 | H15: =G15 -> 2.6244582e+09
A16: 45898 | C16: 6 | D16: Payroll Gaji Agustus 2025 BSI Karangkobar dari rek 1035241902 | F16: 1419357366 | G16: =(G15+E16)-F16 -> 1.2051008e+09 | H16: =G16 -> 1.2051008e+09
A17: 45900 | D17: Biaya Administrasi dari rek 1035241902 | F17: 15000 | G17: =(G16+E17)-F17 -> 1.2050858e+09 | H17: =G17 -> 1.2050858e+09
D18: JUMLAH | E18: =SUM(E9:E17) -> 6.03038e+09 | F18: =SUM(F10:F17) -> 4825294196 | G18: =E18-F18 -> 1.2050858e+09 | H18: =G18 -> 1.2050858e+09 | I18: 1.2050858e+09 | J18: =G18-I18 -> 0
A20: 45870 | D20: Saldo rekening 7099206505 - AL IRSYAD AL ISLAMIYYAH PURWOKERTO | E20: 6.0690853e+09 | G20: =E20 -> 6.0690853e+09 | H20: =H18+G20 -> 7.2741711e+09 | J20: rek spp soedirman 9088
A21: 45870.247 | D21: Pajak | F21: 648665.63 | G21: =(G20+E21)-F21 -> 6.0684366e+09 | H21: =(H20+E21)-F21 -> 7.2735224e+09
A22: 45870.247 | D22: Bagi Hasil atau Bonus | E22: 3243328.2 | G22: =(G21+E22)-F22 -> 6.07168e+09 | H22: =(H21+E22)-F22 -> 7.2767658e+09
A23: 45871.271 | D23: By. Adm. BSMNet JUL 25 | F23: 10000 | G23: =(G22+E23)-F23 -> 6.07167e+09 | H23: =(H22+E23)-F23 -> 7.2767558e+09
A24: 45873.146 | D24: Biaya Administrasi | F24: 15000 | G24: =(G23+E24)-F24 -> 6.071655e+09 | H24: =(H23+E24)-F24 -> 7.2767408e+09
A25: 45881.413 | C25: 7 | D25: Tunjangan transport dan pulsa bulan agustus 2025 | F25: 4500000 | G25: =(G24+E25)-F25 -> 6.067155e+09 | H25: =(H24+E25)-F25 -> 7.2722408e+09
A26: 45881.766 | C26: 8 | D26: kunjungan lajnah media dan humas | F26: 450000 | G26: =(G25+E26)-F26 -> 6.066705e+09 | H26: =(H25+E26)-F26 -> 7.2717908e+09
A27: 45899.712 | C27: 8 | D27: pngmbalian knjungan lajnah media Trf Dari - YUNI PRASTIAWAN | E27: 16016 | G27: =(G26+E27)-F27 -> 6.066721e+09 | H27: =(H26+E27)-F27 -> 7.2718068e+09 | M27: 1.2050858e+09
A28: 45883.346 | C28: 9 | D28: konsumsi snack dan honor pembicara pengajian malam jumat | F28: 2625000 | G28: =(G27+E28)-F28 -> 6.064096e+09 | H28: =(H27+E28)-F28 -> 7.2691818e+09
A29: 45883.658 | C29: 10 | D29: DP Desain kantin SMP SMA Reg dan Des kantin Bording | F29: 5000000 | G29: =(G28+E29)-F29 -> 6.059096e+09 | H29: =(H28+E29)-F29 -> 7.2641818e+09
A30: 45883.658 | C30: 10 | D30: Biaya Pemindahbukuan e-Banking | F30: 2500 | G30: =(G29+E30)-F30 -> 6.0590935e+09 | H30: =(H29+E30)-F30 -> 7.2641793e+09
A31: 45888.43 | C31: 11 | D31: Dana operasional pendirian STIT Trf Ke - BIDANG PAUD DIKDASMEN | F31: 110000000 | G31: =(G30+E31)-F31 -> 5.9490935e+09 | H31: =(H30+E31)-F31 -> 7.1541793e+09
A32: 45890.466 | C32: 11 | D32: PENGEMBALIAN DANA OPERASIONAL STIT | E32: 100000000 | G32: =(G31+E32)-F32 -> 6.0490935e+09 | H32: =(H31+E32)-F32 -> 7.2541793e+09
A33: 45891.344 | C33: 11 | D33: PEMINDAHAN DANA Trf Dari - BIDANG PAUD DIKDASMEN AL IRSYAD PWT | E33: 5000000 | G33: =(G32+E33)-F33 -> 6.0540935e+09 | H33: =(H32+E33)-F33 -> 7.2591793e+09
A34: 45899.712 | C34: 11 | D34: pngmbalian sisa dr 110 juta STIT Trf Dari - YUNI PRASTIAWAN | E34: 361500 | G34: =(G33+E34)-F34 -> 6.054455e+09 | H34: =(H33+E34)-F34 -> 7.2595408e+09
A35: 45889.377 | C35: 12 | D35: Pencaiaran dana Bank Garansi PT Al Irsyad | F35: 100000000 | G35: =(G34+E35)-F35 -> 5.954455e+09 | H35: =(H34+E35)-F35 -> 7.1595408e+09
A36: 45894.608 | C36: 13 | D36: Pengembalian daftar ulang an Alhana | F36: 4337500 | G36: =(G35+E36)-F36 -> 5.9501175e+09 | H36: =(H35+E36)-F36 -> 7.1552033e+09
A37: 45894.608 | C37: 13 | D37: Biaya Pemindahbukuan e-Banking | F37: 2500 | G37: =(G36+E37)-F37 -> 5.950115e+09 | H37: =(H36+E37)-F37 -> 7.1552008e+09
A38: 45894.608 | C38: 14 | D38: Pengembalian daftar ulang an Aruna | F38: 12500000 | G38: =(G37+E38)-F38 -> 5.937615e+09 | H38: =(H37+E38)-F38 -> 7.1427008e+09
A39: 45894.608 | C39: 14 | D39: Biaya Pemindahbukuan e-Banking | F39: 2500 | G39: =(G38+E39)-F39 -> 5.9376125e+09 | H39: =(H38+E39)-F39 -> 7.1426983e+09
A40: 45894.608 | C40: 15 | D40: Payment Online Workshop August, 40 participants (PPAA: N064054) | F40: 410000 | G40: =(G39+E40)-F40 -> 5.9372025e+09 | H40: =(H39+E40)-F40 -> 7.1422883e+09
A41: 45894.608 | C41: 15 | D41: Payment Online Workshop August, 40 participants (PPAA: N064054) | F41: 236160000 | G41: =(G40+E41)-F41 -> 5.7010425e+09 | H41: =(H40+E41)-F41 -> 6.9061283e+09 | J41: =F41+F40 -> 236570000
A42: 45894.608 | C42: 16 | D42: Pengembalian kelebihan biaya daftar ulang an Narraya Pilar Mahardika | F42: 1000000 | G42: =(G41+E42)-F42 -> 5.7000425e+09 | H42: =(H41+E42)-F42 -> 6.9051283e+09
A43: 45894.608 | C43: 16 | D43: Biaya Pemindahbukuan e-Banking | F43: 2500 | G43: =(G42+E43)-F43 -> 5.70004e+09 | H43: =(H42+E43)-F43 -> 6.9051258e+09
...

Sheet sept
A1: BUKU KAS UMUM
A2: BULAN SEPTEMBER 2025
A4: Instansi | C4: : PC AL IRSYAD AL ISLAMIYYAH PURWOKERTO | H4: BKU
A5: Kabupaten | C5: : BANYUMAS
A6: Provinsi | C6: : JAWA TENGAH
A8: Tanggal | B8: No. Kode | C8: No. Bukti | D8: Uraian | E8: Penerimaan (Debit) | F8: Pengeluaran (Kredit) | G8: Saldo Kas-Sub | H8: Saldo Kas Total
A9: 45901 | D9: Saldo rekening 1035241902 - YAYASAN AL IRSYAD PURWOKERTO | E9: 1.2050858e+09 | G9: =E9 -> 1.2050858e+09 | H9: =G9 -> 1.2050858e+09
A10: 45918.898 | C10: 1 | D10: Dropping Sept 2025 unit SMA IT Trf Ke - SMA AL IRSYAD PURWOKERTO | F10: 891781000 | G10: =(G9+E10)-F10 -> 3.1330479e+08 | H10: =G10 -> 3.1330479e+08
A11: 45918.898 | C11: 2 | D11: Dropping Sept 2025 unit SD 2 Trf Ke - SD AL IRSYAD 02 PURWOKERTO | F11: 245605900 | G11: =(G10+E11)-F11 -> 67698893 | H11: =G11 -> 67698893
A12: 45930.656 | D12: Diterima pemindahbukuan dari rek 7777889871 | E12: 1500000000 | G12: =(G11+E12)-F12 -> 1.5676989e+09 | H12: =G12 -> 1.5676989e+09
A13: 45930.656 | D13: Pendapatan SPP bulan Agustus rek 1035241902 | E13: 1340335250 | G13: =(G12+E13)-F13 -> 2.9080341e+09 | H13: =G13 -> 2.9080341e+09
A14: 45918.898 | C14: 3 | D14: Dropping Sept 2025 unit SMP Trf Ke - SMP AL IRSYAD PURWOKERTO | F14: 459244400 | G14: =(G13+E14)-F14 -> 2.4487897e+09 | H14: =G14 -> 2.4487897e+09
A15: 45924.83 | C15: 4 | D15: P250924144937335821EJ-Pencairan dan a komite sekolah | F15: 274900000 | G15: =(G14+E15)-F15 -> 2.1738897e+09 | H15: =G15 -> 2.1738897e+09
A16: 45925.604 | C16: 5 | D16: Pencairan dana komite SMA IT Tahap 2 TP 2024 2025 Trf Ke - KOMITE SMA AL IRSYAD PURWOKERTO | F16: 3150000 | G16: =(G15+E16)-F16 -> 2.1707397e+09 | H16: =G16 -> 2.1707397e+09
A17: 45925.604 | C17: 6 | D17: Pencairan dana komite SMA IT Tahap 1 TP 2025 2026 Trf Ke - KOMITE SMA AL IRSYAD PURWOKERTO | F17: 106050000 | G17: =(G16+E17)-F17 -> 2.0646897e+09 | H17: =G17 -> 2.0646897e+09
A18: 45930.577 | D18: Biaya Administrasi | F18: 15000 | G18: =(G17+E18)-F18 -> 2.0646747e+09 | H18: =G18 -> 2.0646747e+09
A19: 45930.656 | C19: 7 | D19: P2509301438309212793H-Gaji September | F19: 1229665166 | G19: =(G18+E19)-F19 -> 8.3500958e+08 | H19: =G19 -> 8.3500958e+08
D20: JUMLAH | E20: =SUM(E9:E19) -> 4.045421e+09 | F20: =SUM(F10:F19) -> 3210411466 | G20: =E20-F20 -> 8.3500958e+08 | H20: =G20 -> 8.3500958e+08 | I20: 8.3500958e+08 | J20: =G20-I20 -> 0
A22: 45901 | D22: Saldo rekening 7099206505 - AL IRSYAD AL ISLAMIYYAH PURWOKERTO | E22: 3.4590769e+09 | G22: =E22 -> 3.4590769e+09 | H22: =H20+G22 -> 4.2940865e+09
A23: 45902.259 | D23: By. Adm. BSMNet AUG 25 | F23: 10000 | G23: =(G22+E23)-F23 -> 3.4590669e+09 | H23: =(H22+E23)-F23 -> 4.2940765e+09
A24: 45902.43 | C24: 8 | D24: Pencairan dana BG Trf Ke - PT ALIRSYAD ALISLAMIYYAH PURWOKERTO | F24: 5000000 | G24: =(G23+E24)-F24 -> 3.4540669e+09 | H24: =(H23+E24)-F24 -> 4.2890765e+09
A25: 45904.149 | D25: Biaya Administrasi | F25: 15000 | G25: =(G24+E25)-F25 -> 3.4540519e+09 | H25: =(H24+E25)-F25 -> 4.2890615e+09
A26: 45905.016 | C26: 9 | D26: Claim makan siang SDM bulan Juli 20 25 Trf Ke - DROPPING BIRO SDM | F26: 204408500 | G26: =(G25+E26)-F26 -> 3.2496434e+09 | H26: =(H25+E26)-F26 -> 4.084653e+09
A27: 45905.016 | C27: 10 | D27: Pengajian malam jumat bulan septemb er oleh lajnah dakwah Trf Ke - SUFYAN | F27: 3500000 | G27: =(G26+E27)-F27 -> 3.2461434e+09 | H27: =(H26+E27)-F27 -> 4.081153e+09
A28: 45909.702 | C28: 11 | D28: pendanaan program pelatihan bhs Ara b dr lajnah kaderisasi bln Septembe r 2025 Trf Ke - AGUS TARDIAN | F28: 5600000 | G28: =(G27+E28)-F28 -> 3.2405434e+09 | H28: =(H27+E28)-F28 -> 4.075553e+09 | I28: pindah ke kas
A29: 45911.493 | C29: 12 | D29: Operasional harian kantor PC bulan Agst dan sept 2025 Trf Ke - PC AL IRSYAD AL ISLAMIYYAH PWT | F29: 13690600 | G29: =(G28+E29)-F29 -> 3.2268528e+09 | H29: =(H28+E29)-F29 -> 4.0618624e+09
A30: 45911.653 | D30: Biaya Pemindahbukuan e-Banking | F30: 2500 | G30: =(G29+E30)-F30 -> 3.2268503e+09 | H30: =(H29+E30)-F30 -> 4.0618599e+09
A31: 45911.653 | C31: 13 | D31: BIFAST - TRF Ke - Bank BCA TAOFIK NAHDI pembayaran 3 buah meja untuk laznas | F31: 2400000 | G31: =(G30+E31)-F31 -> 3.2244503e+09 | H31: =(H30+E31)-F31 -> 4.0594599e+09
A32: 45913.401 | C32: 14 | D32: pembuatan ruang observasi SD 2 Trf Ke - AZIM BI AL KHOIR | F32: 58540900 | G32: =(G31+E32)-F32 -> 3.1659094e+09 | H32: =(H31+E32)-F32 -> 4.000919e+09 | I32: ke kas
A33: 45913.402 | C33: 15 | D33: BIFAST - TRF Ke - Bank BCA IKHSAN ADITYA PRABOWO Production Booth Al Irsyad Al Islam | F33: 8500000 | G33: =(G32+E33)-F33 -> 3.1574094e+09 | H33: =(H32+E33)-F33 -> 3.992419e+09
A34: 45913.402 | D34: Biaya Pemindahbukuan e-Banking | F34: 2500 | G34: =(G33+E34)-F34 -> 3.1574069e+09 | H34: =(H33+E34)-F34 -> 3.9924165e+09
A35: 45918.461 | D35: Pendapatan biaya sewa payment point SD 1 | E35: 98910000 | G35: =(G34+E35)-F35 -> 3.2563169e+09 | H35: =(H34+E35)-F35 -> 4.0913265e+09
A36: 45918.461 | C36: 16 | D36: BIFAST - TRF Ke - Bank Mandiri DANIEL YUSLIFAR RACH DP Pintu stainles masjid Al Irsyad | F36: 7800000 | G36: =(G35+E36)-F36 -> 3.2485169e+09 | H36: =(H35+E36)-F36 -> 4.0835265e+09
A37: 45918.461 | D37: Biaya Pemindahbukuan e-Banking | F37: 2500 | G37: =(G36+E37)-F37 -> 3.2485144e+09 | H37: =(H36+E37)-F37 -> 4.083524e+09
A38: 45918.898 | C38: 17 | D38: Dropping Sept 2025 unit Kepesantren an Trf Ke - KEPESANTRENAN ALIRSYAD BOARDING PWT | F38: 1055337250 | G38: =(G37+E38)-F38 -> 2.1931771e+09 | H38: =(H37+E38)-F38 -> 3.0281867e+09
A39: 45918.898 | C39: 18 | D39: Dropping Sept 2025 unit SMP Boardin g Trf Ke - SMP AL IRSYAD BOARDING SCHOOL PWT | F39: 143715000 | G39: =(G38+E39)-F39 -> 2.0494621e+09 | H39: =(H38+E39)-F39 -> 2.8844717e+09
A40: 45918.898 | C40: 19 | D40: Dropping Sept unit TK Trf Ke - KB & TK AL IRSYAD | F40: 72163000 | G40: =(G39+E40)-F40 -> 1.9772991e+09 | H40: =(H39+E40)-F40 -> 2.8123087e+09
A41: 45918.898 | C41: 20 | D41: Dropping Sept 2025 unit SD 1 Trf Ke - SD AL IRSYAD 01 PURWOKERTO | F41: 262742510 | G41: =(G40+E41)-F41 -> 1.7145566e+09 | H41: =(H40+E41)-F41 -> 2.5495662e+09
A42: 45919.419 | C42: 21 | D42: BIFAST - TRF Ke - Bank BTN YAYASAN AL IRSYAD AL ISLAMIYYAH Sewa Save Deposit Box bank BTN Purw | F42: 8530000 | G42: =(G41+E42)-F42 -> 1.7060266e+09 | H42: =(H41+E42)-F42 -> 2.5410362e+09
A43: 45919.419 | D43: Biaya Pemindahbukuan e-Banking | F43: 2500 | G43: =(G42+E43)-F43 -> 1.7060241e+09 | H43: =(H42+E43)-F43 -> 2.5410337e+09
...

Sheet okt
A1: BUKU KAS UMUM
A2: BULAN OKTOBER 2025
A4: Instansi | C4: : PC AL IRSYAD AL ISLAMIYYAH PURWOKERTO | H4: BKU
A5: Kabupaten | C5: : BANYUMAS
A6: Provinsi | C6: : JAWA TENGAH
A8: Tanggal | B8: No. Kode | C8: No. Bukti | D8: Uraian | E8: Penerimaan (Debit) | F8: Pengeluaran (Kredit) | G8: Saldo Kas-Sub | H8: Saldo Kas Total
A9: 45931 | D9: Saldo rekening 1035241902 - YAYASAN AL IRSYAD PURWOKERTO | E9: =sept!G20 -> 8.3500958e+08 | G9: =E9 -> 8.3500958e+08 | H9: =G9 -> 8.3500958e+08
A10: 45938.454 | C10: 1 | D10: Perjalanan dinasluar kota ust Tris wandi ke Jakarta BP Taskin acara so sialisasi juknis MBG tahun 2025 Trf Ke - TRISWANDI | F10: 3525000 | G10: =(G9+E10)-F10 -> 8.3148458e+08 | H10: =G10 -> 8.3148458e+08
A11: 45939.408 | C11: 2 | D11: Makan siang SDM bulan September 202 5 Trf Ke - DROPPING BIRO SDM | F11: 201737000 | G11: =(G10+E11)-F11 -> 6.2974758e+08 | H11: =G11 -> 6.2974758e+08
A12: 45939.408 | C12: 3 | D12: Gaji OS bulan Agustus 2025 Trf Ke - DROPPING BIRO SDM | F12: 25802112 | G12: =(G11+E12)-F12 -> 6.0394546e+08 | H12: =G12 -> 6.0394546e+08
A13: 45939.408 | C13: 4 | D13: lembur SDM bulan September 2025 Trf Ke - DROPPING BIRO SDM | F13: 74000 | G13: =(G12+E13)-F13 -> 6.0387146e+08 | H13: =G13 -> 6.0387146e+08
A14: 45939.408 | C14: 5 | D14: Dana sosial SDM bulan September 202 5 Trf Ke - DROPPING BIRO SDM | F14: 2500000 | G14: =(G13+E14)-F14 -> 6.0137146e+08 | H14: =G14 -> 6.0137146e+08
A15: 45960.927 | D15: Pendapatan SPP bulan Agustus rek 1035241902 | E15: 1664164550 | G15: =(G14+E15)-F15 -> 2.265536e+09 | H15: =G15 -> 2.265536e+09
A16: 45960.927 | C16: 6 | D16: P2510291823232692059Q-Gaji Oktober 2025 | F16: 1242262298 | G16: =(G15+E16)-F16 -> 1.0232737e+09 | H16: =G16 -> 1.0232737e+09
A17: 45961.713 | D17: Biaya Administrasi | F17: 15000 | G17: =(G16+E17)-F17 -> 1.0232587e+09 | H17: =G17 -> 1.0232587e+09
D18: JUMLAH | E18: =SUM(E9:E17) -> 2.4991741e+09 | F18: =SUM(F10:F17) -> 1475915410 | G18: =E18-F18 -> 1.0232587e+09 | H18: =G18 -> 1.0232587e+09 | I18: 1.0232587e+09 | J18: =G18-I18 -> 0
A20: 45931 | D20: Saldo rekening 7099206505 - AL IRSYAD AL ISLAMIYYAH PURWOKERTO | E20: =sept!G58 -> 2.3703474e+09 | G20: =E20 -> 2.3703474e+09 | H20: =H18+G20 -> 3.3936062e+09
A21: 45931.555 | D21: Sisa dana program kelas bahasa arab Alquran periode September 2025 Trf Dari - AGUS TARDIAN | E21: 600000 | G21: =(G20+E21)-F21 -> 2.3709474e+09 | H21: =(H20+E21)-F21 -> 3.3942062e+09
A22: 45931.566 | D22: sisa pengajian malam jumat sept Trf Dari - YUNI PRASTIAWAN | E22: 900000 | G22: =(G21+E22)-F22 -> 2.3718474e+09 | H22: =(H21+E22)-F22 -> 3.3951062e+09 | I22: =sept!F27-okt!E22 -> 2600000
A23: 45932.217 | D23: By. Adm. BSMNet SEP 25 | F23: 10000 | G23: =(G22+E23)-F23 -> 2.3718374e+09 | H23: =(H22+E23)-F23 -> 3.3950962e+09
A24: 45932.597 | D24: Biaya Pemindahbukuan e-Banking | F24: 2500 | G24: =(G23+E24)-F24 -> 2.3718349e+09 | H24: =(H23+E24)-F24 -> 3.3950937e+09
A25: 45932.597 | C25: 7 | D25: BIFAST - TRF Ke - Bank Mandiri DANIEL YUSLIFAR RACH Pelunasan pintu masjid Al Irsyad | F25: 7800000 | G25: =(G24+E25)-F25 -> 2.3640349e+09 | H25: =(H24+E25)-F25 -> 3.3872937e+09
A26: 45932.597 | C26: 8 | D26: Pengajian malam jumat bulan oktober 2025 Trf Ke - SUFYAN | F26: 4375000 | G26: =(G25+E26)-F26 -> 2.3596599e+09 | H26: =(H25+E26)-F26 -> 3.3829187e+09
A27: 45935.09 | D27: Biaya Administrasi | F27: 15000 | G27: =(G26+E27)-F27 -> 2.3596449e+09 | H27: =(H26+E27)-F27 -> 3.3829037e+09
A28: 45936.558 | D28: Biaya Pemindahbukuan e-Banking | F28: 2500 | G28: =(G27+E28)-F28 -> 2.3596424e+09 | H28: =(H27+E28)-F28 -> 3.3829012e+09
A29: 45936.558 | C29: 9 | D29: BIFAST - TRF Ke - Bank BCA AGUS SUPRAYITNO Pembayaran 7 set meja percobaan sis | F29: 18900000 | G29: =(G28+E29)-F29 -> 2.3407424e+09 | H29: =(H28+E29)-F29 -> 3.3640012e+09
A30: 45938.303 | C30: 10 | D30: BIFAST - TRF Ke - Bank BCA INDONESIA PARTNER SOLUTI Petugas kebersihan dan keamanan IPS | F30: 43452294 | G30: =(G29+E30)-F30 -> 2.2972901e+09 | H30: =(H29+E30)-F30 -> 3.3205489e+09
A31: 45938.303 | D31: Biaya Pemindahbukuan e-Banking | F31: 2500 | G31: =(G30+E31)-F31 -> 2.2972876e+09 | H31: =(H30+E31)-F31 -> 3.3205464e+09
A32: 45938.303 | D32: Biaya Pemindahbukuan e-Banking | F32: 2500 | G32: =(G31+E32)-F32 -> 2.2972851e+09 | H32: =(H31+E32)-F32 -> 3.3205439e+09
A33: 45938.303 | C33: 11 | D33: BIFAST - TRF Ke - Bank BRI LPP AL IRSYAD AL ISLAMIYYAH Pembayaran petugas keamanan PKSS pe | F33: 88015897 | G33: =(G32+E33)-F33 -> 2.2092692e+09 | H33: =(H32+E33)-F33 -> 3.232528e+09
A34: 45938.306 | C34: 12 | D34: P2510071315109963395M Gaji OS Septe mber 2025 | F34: 10945000 | G34: =(G33+E34)-F34 -> 2.1983242e+09 | H34: =(H33+E34)-F34 -> 3.221583e+09
A35: 45938.306 | C35: 13 | D35: P251007132733314792YU-Gaji OS Sept 2025 BSI | F35: 19705000 | G35: =(G34+E35)-F35 -> 2.1786192e+09 | H35: =(H34+E35)-F35 -> 3.201878e+09
A36: 45938.306 | D36: P2510071315109963395M Charges Fee | F36: 17500 | G36: =(G35+E36)-F36 -> 2.1786017e+09 | H36: =(H35+E36)-F36 -> 3.2018605e+09
A37: 45938.371 | D37: BIFAST - TRF Dari - Bank Seabank AZIM BI AL KHOIR sisa saldo proyek PPDB SD 2 | E37: 1042360 | G37: =(G36+E37)-F37 -> 2.1796441e+09 | H37: =(H36+E37)-F37 -> 3.2029028e+09 | I37: =sept!F32-okt!E37 -> 57498540 | J37: 57498540
A38: 45941.778 | C38: 14 | D38: pembayaran ruang psikologi Trf Ke - AZIM BI AL KHOIR | F38: 9003000 | G38: =(G37+E38)-F38 -> 2.1706411e+09 | H38: =(H37+E38)-F38 -> 3.1938998e+09
A39: 45941.778 | C39: 15 | D39: Pekerjaan pembayaran pekerjaan lab 50 persen kedua Trf Ke - AZIM BI AL KHOIR | F39: 64921491 | G39: =(G38+E39)-F39 -> 2.1057196e+09 | H39: =(H38+E39)-F39 -> 3.1289783e+09
A40: 45944.602 | C40: 16 | D40: Droppig bulan Oktober 2025 Perkant oran PC Trf Ke - PC AL IRSYAD AL ISLAMIYYAH PWT | F40: 8550000 | G40: =(G39+E40)-F40 -> 2.0971696e+09 | H40: =(H39+E40)-F40 -> 3.1204283e+09
A41: 45945.669 | C41: 17 | D41: Perjalanan dinas munas PC Wanita Al Irsyad tahun 2025 Trf Ke - PC WANITA AL IRSYAD PURWOKERTO | F41: 5740000 | G41: =(G40+E41)-F41 -> 2.0914296e+09 | H41: =(H40+E41)-F41 -> 3.1146883e+09 | I41: =F41-E52 -> 4305000
A42: 45945.669 | C42: 18 | D42: BIFAST - TRF Ke - BANK BNI SUBIYANTORO biaya peralihan hak tanah untuk aks | F42: 35132500 | G42: =(G41+E42)-F42 -> 2.0562971e+09 | H42: =(H41+E42)-F42 -> 3.0795558e+09
A43: 45945.669 | D43: Biaya Pemindahbukuan e-Banking | F43: 2500 | G43: =(G42+E43)-F43 -> 2.0562946e+09 | H43: =(H42+E43)-F43 -> 3.0795533e+09
...

Sheet nop
A1: BUKU KAS UMUM
A2: BULAN NOVEMBER 2025
A4: Instansi | C4: : PC AL IRSYAD AL ISLAMIYYAH PURWOKERTO | H4: BKU
A5: Kabupaten | C5: : BANYUMAS
A6: Provinsi | C6: : JAWA TENGAH
A8: Tanggal | B8: No. Kode | C8: No. Bukti | D8: Uraian | E8: Penerimaan (Debit) | F8: Pengeluaran (Kredit) | G8: Saldo Kas-Sub | H8: Saldo Kas Total
A9: 45962 | D9: Saldo rekening 1035241902 - YAYASAN AL IRSYAD PURWOKERTO | E9: =okt!G18 -> 1.0232587e+09 | G9: =E9 -> 1.0232587e+09 | H9: =G9 -> 1.0232587e+09
A10: 45991 | D10: Pendapatan SPP | E10: 1687846750 | G10: =(G9+E10)-F10 -> 2.7111055e+09 | H10: =G10 -> 2.7111055e+09
A11: 45979 | D11: Pendapatan dari lajnah sosial ekonomi | E11: 5000000000 | G11: =(G10+E11)-F11 -> 7.7111055e+09 | H11: =G11 -> 7.7111055e+09
A12: 45979 | D12: Pindah buku | F12: 5000000000 | G12: =(G11+E12)-F12 -> 2.7111055e+09 | H12: =G12 -> 2.7111055e+09
A13: 45991 | D13: Biaya Administrasi | F13: 15000 | G13: =(G12+E13)-F13 -> 2.7110905e+09 | H13: =G13 -> 2.7110905e+09
D14: JUMLAH | E14: =SUM(E9:E13) -> 7.7111055e+09 | F14: =SUM(F10:F13) -> 5000015000 | G14: =E14-F14 -> 2.7110905e+09 | H14: =G14 -> 2.7110905e+09 | I14: 2.7110905e+09 | J14: =G14-I14 -> 0
A16: 45962 | D16: Saldo rekening 7099206505 - AL IRSYAD AL ISLAMIYYAH PURWOKERTO | E16: =okt!G59 -> 3.0546626e+09 | G16: =E16 -> 3.0546626e+09 | H16: =H14+G16 -> 5.7657531e+09
A17: 45963.097 | D17: By. Adm. BSINet OCT 25 | F17: 10000 | G17: =(G16+E17)-F17 -> 3.0546526e+09 | H17: =(H16+E17)-F17 -> 5.7657431e+09
A18: 45964 | D18: Pngmbalian pengajian malam jumat | E18: 825000 | G18: =(G17+E18)-F18 -> 3.0554776e+09 | H18: =(H17+E18)-F18 -> 5.7665681e+09
A19: 45967.078 | D19: Biaya Administrasi | F19: 15000 | G19: =(G18+E19)-F19 -> 3.0554626e+09 | H19: =(H18+E19)-F19 -> 5.7665531e+09
A20: 45991.377 | D20: Pajak | F20: 454468.45 | G20: =(G19+E20)-F20 -> 3.0550082e+09 | H20: =(H19+E20)-F20 -> 5.7660986e+09
A21: 45991.377 | D21: Bagi Hasil atau Bonus | E21: 2272342.3 | G21: =(G20+E21)-F21 -> 3.0572805e+09 | H21: =(H20+E21)-F21 -> 5.768371e+09
A22: 45991 | D22: Pendapatan SPP | E22: 3212456000 | G22: =(G21+E22)-F22 -> 6.2697365e+09 | H22: =(H21+E22)-F22 -> 8.980827e+09
D23: JUMLAH | E23: =SUM(E16:E22) -> 6.270216e+09 | F23: =SUM(F16:F22) -> 479468.45 | G23: =E23-F23 -> 6.2697365e+09 | H23: =H22 -> 8.980827e+09 | I23: 6.2697365e+09 | J23: =G23-I23 -> 0
A25: 45962 | D25: Saldo rekening 7152696536 - AL IRSYAD AL ISLAMIYYAH PURWOKERTO | E25: =okt!G66 -> 6.2354483e+09 | G25: =E25 -> 6.2354483e+09 | H25: =H23+G25 -> 1.5216275e+10
A26: 45975.579 | D26: Pencairan deposito | E26: 7500000000 | G26: =(G25+E26)-F26 -> 1.3735448e+10 | H26: =(H25+E26)-F26 -> 2.2716275e+10
A27: 45975.579 | D27: Denda-denda | F27: 25000 | G27: =(G26+E27)-F27 -> 1.3735423e+10 | H27: =(H26+E27)-F27 -> 2.271625e+10
A28: 45979.474 | D28: pindah buku Trf Dari - YAYASAN AL IRSYAD PURWOKERTO | E28: 5000000000 | G28: =(G27+E28)-F28 -> 1.8735423e+10 | H28: =(H27+E28)-F28 -> 2.771625e+10
A29: 45979.584 | C29: 1 | D29: Biaya Pemindahbukuan e-Banking | F29: 30000 | G29: =(G28+E29)-F29 -> 1.8735393e+10 | H29: =(H28+E29)-F29 -> 2.771622e+10
A30: 45979.584 | C30: 1 | D30: PBY TNH ARCWNNGN 858M2 AN SRI R | F30: 2390142300 | G30: =(G29+E30)-F30 -> 1.6345251e+10 | H30: =(H29+E30)-F30 -> 2.5326078e+10
A31: 45979.585 | C31: 2 | D31: Biaya Pemindahbukuan e-Banking | F31: 30000 | G31: =(G30+E31)-F31 -> 1.6345221e+10 | H31: =(H30+E31)-F31 -> 2.5326048e+10
A32: 45979.585 | C32: 2 | D32: PBY TNH ARCWNNGN 2664 M2 AN SRI R | F32: 6921142300 | G32: =(G31+E32)-F32 -> 9.4240787e+09 | H32: =(H31+E32)-F32 -> 1.8404906e+10
A33: 45979.619 | C33: 3 | D33: Biaya Pemindahbukuan e-Banking | F33: 30000 | G33: =(G32+E33)-F33 -> 9.4240487e+09 | H33: =(H32+E33)-F33 -> 1.8404876e+10
A34: 45979.619 | C34: 3 | D34: PBY TNH ARCWNNGN AN JOKO WAHYONO | F34: 8564713450 | G34: =(G33+E34)-F34 -> 8.593352e+08 | H34: =(H33+E34)-F34 -> 9.8401622e+09
A35: 45991.476 | D35: Biaya Administrasi | F35: 15000 | G35: =(G34+E35)-F35 -> 8.593202e+08 | H35: =(H34+E35)-F35 -> 9.8401472e+09
A36: 45991.476 | D36: Pendapatan SPP | E36: 1856870000 | G36: =(G35+E36)-F36 -> 2.7161902e+09 | H36: =(H35+E36)-F36 -> 1.1697017e+10 | I36: =SUM(F29:F34) -> 17876088050 | J36: 17876088050
D37: JUMLAH | E37: =SUM(E25:E36) -> 2.0592318e+10 | F37: =SUM(F25:F36) -> 17876128050 | G37: =E37-F37 -> 2.7161902e+09 | H37: =H36 -> 1.1697017e+10 | I37: 2.7161902e+09 | J37: =G37-I37 -> 0
A39: 45962 | D39: Saldo rekening 7107802511 - AL IRSYAD AL ISLAMIYYAH PURWOKERTO | E39: =okt!G71 -> 65765832 | G39: =E39 -> 65765832 | H39: =H37+G39 -> 1.1762783e+10
A40: 45991.476 | D40: Pemasukan infak masjid Al Irsyad | E40: 220001 | G40: =(G39+E40)-F40 -> 65985833 | H40: =(H39+E40)-F40 -> 1.1763003e+10
A41: 45991.476 | D41: Biaya administrasi bulanan | F41: 15000 | G41: =(G40+E41)-F41 -> 65970833 | H41: =(H40+E41)-F41 -> 1.1762988e+10
D42: JUMLAH | E42: =SUM(E39:E41) -> 65985833 | F42: =SUM(F39:F41) -> 15000 | G42: =E42-F42 -> 65970833 | H42: =H41 -> 1.1762988e+10 | I42: 65970833 | J42: =G42-I42 -> 0
A44: 45962 | D44: Saldo rekening 7188000163 - AL IRSYAD AL ISLAMIYYAH PURWOKERTO | E44: =okt!G75 -> 9379301 | G44: =E44 -> 9379301 | H44: =H42+G44 -> 1.1772367e+10
A45: 45991.476 | D45: Biaya administrasi bulanan | F45: 15000 | G45: =G44-F45 -> 9364301 | H45: =H44-F45 -> 1.1772352e+10
D46: JUMLAH | E46: =SUM(E43:E45) -> 9379301 | F46: =SUM(F43:F45) -> 15000 | G46: =E46-F46 -> 9364301 | H46: =H45 -> 1.1772352e+10 | I46: 9364301 | J46: =G46-I46 -> 0
...

Sheet des
A1: BUKU KAS UMUM
A2: BULAN DESEMBER 2025
A4: Instansi | C4: : PC AL IRSYAD AL ISLAMIYYAH PURWOKERTO | H4: BKU
A5: Kabupaten | C5: : BANYUMAS
A6: Provinsi | C6: : JAWA TENGAH
A8: Tanggal | B8: No. Kode | C8: No. Bukti | D8: Uraian | E8: Penerimaan (Debit) | F8: Pengeluaran (Kredit) | G8: Saldo Kas-Sub | H8: Saldo Kas Total
A9: 45992 | D9: Saldo rekening 1035241902 - YAYASAN AL IRSYAD PURWOKERTO | E9: =nop!G14 -> 2.7110905e+09 | G9: =E9 -> 2.7110905e+09 | H9: =G9 -> 2.7110905e+09
A10: 45994 | D10: Pindah buku | F10: 2000000000 | G10: =(G9+E10)-F10 -> 7.1109047e+08 | H10: =G10 -> 7.1109047e+08
A11: 46022.476 | D11: Pendapatan SPP | E11: 2306085250 | G11: =(G10+E11)-F11 -> 3.0171757e+09 | H11: =G11 -> 3.0171757e+09
A12: 46022.476 | D12: Biaya Administrasi | F12: 15000 | G12: =(G11+E12)-F12 -> 3.0171607e+09 | H12: =G12 -> 3.0171607e+09
D13: JUMLAH | E13: =SUM(E9:E12) -> 5.0171757e+09 | F13: =SUM(F10:F12) -> 2000015000 | G13: =E13-F13 -> 3.0171607e+09 | H13: =G13 -> 3.0171607e+09 | I13: 3.0171607e+09 | J13: =I13-G13 -> 0
A15: 45992 | D15: Saldo rekening 7099206505 - AL IRSYAD AL ISLAMIYYAH PURWOKERTO | E15: =nop!G23 -> 6.2697365e+09 | G15: =E15 -> 6.2697365e+09 | H15: =H13+G15 -> 9.2868972e+09
A16: 45993.097 | D16: By. Adm. BSINet NOV 25 | F16: 10000 | G16: =(G15+E16)-F16 -> 6.2697265e+09 | H16: =(H15+E16)-F16 -> 9.2868872e+09
A17: 45994.097 | D17: Biaya Administrasi | F17: 15000 | G17: =(G16+E17)-F17 -> 6.2697115e+09 | H17: =(H16+E17)-F17 -> 9.2868722e+09
A18: 46022.476 | D18: Pajak | F18: 718959.2 | G18: =(G17+E18)-F18 -> 6.2689926e+09 | H18: =(H17+E18)-F18 -> 9.2861533e+09
A19: 46022.476 | D19: Bagi Hasil atau Bonus | E19: 3594796 | G19: =(G18+E19)-F19 -> 6.2725874e+09 | H19: =(H18+E19)-F19 -> 9.2897481e+09
A20: 46022.476 | D20: Pendapatan SPP | E20: 3314895000 | G20: =(G19+E20)-F20 -> 9.5874824e+09 | H20: =(H19+E20)-F20 -> 1.2604643e+10
D21: JUMLAH | E21: =SUM(E15:E20) -> 9.5882263e+09 | F21: =SUM(F15:F20) -> 743959.2 | G21: =E21-F21 -> 9.5874824e+09 | H21: =H20 -> 1.2604643e+10 | I21: 9.5874824e+09 | J21: =I21-G21 -> 0
A23: 45992 | D23: Saldo rekening 7152696536 - AL IRSYAD AL ISLAMIYYAH PURWOKERTO | E23: =nop!G37 -> 2.7161902e+09 | G23: =E23 -> 2.7161902e+09 | H23: =H21+G23 -> 1.5320833e+10
A24: 46022.476 | D24: Biaya Administrasi | F24: 15000 | G24: =(G23+E24)-F24 -> 2.7161752e+09 | H24: =(H23+E24)-F24 -> 1.5320818e+10
A25: 46022.476 | D25: Pendapatan SPP | E25: 3112490000 | G25: =(G24+E25)-F25 -> 5.8286652e+09 | H25: =(H24+E25)-F25 -> 1.8433308e+10
D26: JUMLAH | E26: =SUM(E23:E25) -> 5.8286802e+09 | F26: =SUM(F23:F25) -> 15000 | G26: =E26-F26 -> 5.8286652e+09 | H26: =H25 -> 1.8433308e+10 | I26: 5.8286652e+09 | J26: =I26-G26 -> 0
A28: 45992 | D28: Saldo rekening 7107802511 - AL IRSYAD AL ISLAMIYYAH PURWOKERTO | E28: =nop!G42 -> 65970833 | G28: =E28 -> 65970833 | H28: =H26+G28 -> 1.8499279e+10
A29: 46022.476 | D29: Pemasukan infak masjid Al Irsyad | E29: 110000 | G29: =(G28+E29)-F29 -> 66080833 | H29: =(H28+E29)-F29 -> 1.8499389e+10
A30: 46022.476 | D30: Biaya administrasi bulanan | F30: 15000 | G30: =(G29+E30)-F30 -> 66065833 | H30: =(H29+E30)-F30 -> 1.8499374e+10
D31: JUMLAH | E31: =SUM(E28:E30) -> 66080833 | F31: =SUM(F28:F30) -> 15000 | G31: =E31-F31 -> 66065833 | H31: =H30 -> 1.8499374e+10 | I31: 66065833 | J31: =I31-G31 -> 0
A33: 45992 | D33: Saldo rekening 7188000163 - AL IRSYAD AL ISLAMIYYAH PURWOKERTO | E33: =nop!G46 -> 9364301 | G33: =E33 -> 9364301 | H33: =H31+G33 -> 1.8508738e+10
A34: 46022.476 | D34: Biaya administrasi bulanan | F34: 15000 | G34: =G33-F34 -> 9349301 | H34: =H33-F34 -> 1.8508723e+10
D35: JUMLAH | E35: =SUM(E32:E34) -> 9364301 | F35: =SUM(F32:F34) -> 15000 | G35: =E35-F35 -> 9349301 | H35: =H34 -> 1.8508723e+10 | I35: 9349301 | J35: =I35-G35 -> 0
A37: 45992 | D37: Saldo rekening 1770001777 - AL IRSYAD AL ISLAMIYYAH PURWOKERTO | E37: =nop!G52 -> 6.3819052e+09 | G37: =E37 -> 6.3819052e+09 | H37: =H35+G37 -> 2.4890629e+10
A38: 45994.476 | D38: Pindah buku | F38: 6000000000 | G38: =(G37+E38)-F38 -> 3.8190521e+08 | H38: =(H37+E38)-F38 -> 1.8890629e+10
A39: 46022.476 | D39: Pendapatan SPP | E39: 6008945500 | G39: =(G38+E39)-F39 -> 6.3908507e+09 | H39: =(H38+E39)-F39 -> 2.4899574e+10
A40: 46022.476 | D40: Biaya administrasi bulanan | F40: 15000 | G40: =(G39+E40)-F40 -> 6.3908357e+09 | H40: =(H39+E40)-F40 -> 2.4899559e+10
D41: JUMLAH | E41: =SUM(E37:E40) -> 1.2390851e+10 | F41: =SUM(F38:F40) -> 6000015000 | G41: =E41-F41 -> 6.3908357e+09 | H41: =H40 -> 2.4899559e+10 | I41: 6.3908357e+09 | J41: =I41-G41 -> 0
A43: 45992 | D43: Saldo rekening 7777889871 - AL IRSYAD AL ISLAMIYYAH PURWOKERTO | E43: =nop!G93 -> 1.1710652e+08 | G43: =E43 -> 1.1710652e+08 | H43: =H41+G43 -> 2.5016666e+10
A44: 45993.372 | D44: pengembalian saldo sidang fatwa Trf Dari - YUNI PRASTIAWAN | E44: 308400 | G44: =(G43+E44)-F44 -> 1.1741492e+08 | H44: =(H43+E44)-F44 -> 2.5016974e+10 | J44: =nop!I87-des!E44 -> 1254100
A45: 45993.457 | D45: pengembalian pengajian mlm jumat Trf Dari - YUNI PRASTIAWAN | E45: 1250000 | G45: =(G44+E45)-F45 -> 1.1866492e+08 | H45: =(H44+E45)-F45 -> 2.5018224e+10 | J45: =nop!F67-des!E45 -> 2250000
A46: 45994.069 | D46: Biaya Administrasi | F46: 10000 | G46: =(G45+E46)-F46 -> 1.1865492e+08 | H46: =(H45+E46)-F46 -> 2.5018214e+10
A47: 45994.318 | D47: honor guru Bahasa Arab dan Al Quran Trf Ke - AGUS TARDIAN | F47: 5000000 | G47: =(G46+E47)-F47 -> 1.1365492e+08 | H47: =(H46+E47)-F47 -> 2.5013214e+10 | I47: =F47-E86 -> 4992000
A48: 45994.374 | D48: pindah buku Trf Dari - AL IRSYAD AL ISLAMIYYAH PURWOKERTO | E48: 6000000000 | G48: =(G47+E48)-F48 -> 6.1136549e+09 | H48: =(H47+E48)-F48 -> 3.1013214e+10
...

Sheet jan
A1: BUKU KAS UMUM
A2: BULAN JANUARI 2026
A4: Instansi | C4: : PC AL IRSYAD AL ISLAMIYYAH PURWOKERTO | H4: BKU
A5: Kabupaten | C5: : BANYUMAS
A6: Provinsi | C6: : JAWA TENGAH
A8: Tanggal | B8: No. Kode | C8: No. Bukti | D8: Uraian | E8: Penerimaan (Debit) | F8: Pengeluaran (Kredit) | G8: Saldo Kas-Sub | H8: Saldo Kas Total
A9: 46023 | D9: Saldo rekening 1035241902 - YAYASAN AL IRSYAD PURWOKERTO | E9: =des!G13 -> 3.0171607e+09 | G9: =E9 -> 3.0171607e+09 | H9: =G9 -> 3.0171607e+09
A10: 46052 | D10: Pendapatan hibah dari lajnah sosial ekonomi | E10: 5000000000 | G10: =(G9+E10)-F10 -> 8.0171607e+09 | H10: =G10 -> 8.0171607e+09
A11: 46053 | D11: Pendapatan SPP | E11: 1295109250 | G11: =(G10+E11)-F11 -> 9.31227e+09 | H11: =G11 -> 9.31227e+09
A12: 46053 | D12: Biaya Administrasi | F12: 15000 | G12: =(G11+E12)-F12 -> 9.312255e+09 | H12: =G12 -> 9.312255e+09
D13: JUMLAH | E13: =SUM(E9:E12) -> 9.31227e+09 | F13: =SUM(F10:F12) -> 15000 | G13: =E13-F13 -> 9.312255e+09 | H13: =G13 -> 9.312255e+09 | I13: 9.312255e+09 | J13: =I13-G13 -> 0
A15: 46023 | D15: Saldo rekening 7099206505 - AL IRSYAD AL ISLAMIYYAH PURWOKERTO | E15: =des!G21 -> 9.5874824e+09 | G15: =E15 -> 9.5874824e+09 | H15: =H13+G15 -> 1.8899737e+10
A16: 46024.144 | D16: By. Adm. BSINet DEC 25 | F16: 10000 | G16: =(G15+E16)-F16 -> 9.5874724e+09 | H16: =(H15+E16)-F16 -> 1.8899727e+10
A17: 46025.049 | D17: Biaya Administrasi | F17: 15000 | G17: =(G16+E17)-F17 -> 9.5874574e+09 | H17: =(H16+E17)-F17 -> 1.8899712e+10
A18: 46025.658 | D18: pindah buku ke rek operasional Trf Ke - AL IRSYAD AL ISLAMIYYAH PURWOKERTO | F18: 5000000000 | G18: =(G17+E18)-F18 -> 4.5874574e+09 | H18: =(H17+E18)-F18 -> 1.3899712e+10
A19: 46028.488 | D19: TTCEK CC 306055 BUDI TRIYONO | F19: 1000000000 | G19: =(G18+E19)-F19 -> 3.5874574e+09 | H19: =(H18+E19)-F19 -> 1.2899712e+10
A20: 46028.488 | D20: TTCEK CC 306054 BUDI TRIYONO | F20: 1000000000 | G20: =(G19+E20)-F20 -> 2.5874574e+09 | H20: =(H19+E20)-F20 -> 1.1899712e+10
A21: 46028.488 | D21: TTCEK CC 306053 BUDI TRIYONO | F21: 1000000000 | G21: =(G20+E21)-F21 -> 1.5874574e+09 | H21: =(H20+E21)-F21 -> 1.0899712e+10 | I21: =SUM(F19:F21) -> 3000000000
A22: 46053 | D22: Pajak | F22: 375723.1 | G22: =(G21+E22)-F22 -> 1.5870816e+09 | H22: =(H21+E22)-F22 -> 1.0899337e+10
A23: 46053 | D23: Bagi Hasil atau Bonus | E23: 1878615.5 | G23: =(G22+E23)-F23 -> 1.5889602e+09 | H23: =(H22+E23)-F23 -> 1.0901215e+10
A24: 46053 | D24: Pendapatan hibah sertifikasi | E24: 539550000 | G24: =(G23+E24)-F24 -> 2.1285102e+09 | H24: =(H23+E24)-F24 -> 1.1440765e+10
A25: 46053 | D25: Pendapatan SPP | E25: 2753796250 | G25: =(G24+E25)-F25 -> 4.8823065e+09 | H25: =(H24+E25)-F25 -> 1.4194561e+10
D26: JUMLAH | E26: =SUM(E15:E25) -> 1.2882707e+10 | F26: =SUM(F15:F25) -> 8.0004007e+09 | G26: =E26-F26 -> 4.8823065e+09 | H26: =H25 -> 1.4194561e+10 | I26: 4.8823065e+09 | J26: =I26-G26 -> 0
A28: 46023 | D28: Saldo rekening 7152696536 - AL IRSYAD AL ISLAMIYYAH PURWOKERTO | E28: =des!G26 -> 5.8286652e+09 | G28: =E28 -> 5.8286652e+09 | H28: =H26+G28 -> 2.0023227e+10
A29: 46030.587 | D29: TTCEK CC 109535 BUDI TRIYONO | F29: 1000000000 | G29: =(G28+E29)-F29 -> 4.8286652e+09 | H29: =(H28+E29)-F29 -> 1.9023227e+10
A30: 46031.468 | D30: TT CEK CA 109537 BUDI TRIYONO | F30: 1000000000 | G30: =(G29+E30)-F30 -> 3.8286652e+09 | H30: =(H29+E30)-F30 -> 1.8023227e+10
A31: 46031.485 | D31: TT CEK CA 109536 BUDI TRIYONO | F31: 1000000000 | G31: =(G30+E31)-F31 -> 2.8286652e+09 | H31: =(H30+E31)-F31 -> 1.7023227e+10
A32: 46053 | D32: Biaya Administrasi | F32: 15000 | G32: =(G31+E32)-F32 -> 2.8286502e+09 | H32: =(H31+E32)-F32 -> 1.7023212e+10 | I32: =SUM(F29:F31) -> 3000000000
A33: 46053 | D33: Pendapatan SPP | E33: 754362500 | G33: =(G32+E33)-F33 -> 3.5830127e+09 | H33: =(H32+E33)-F33 -> 1.7777574e+10
D34: JUMLAH | E34: =SUM(E28:E33) -> 6.5830277e+09 | F34: =SUM(F28:F33) -> 3000015000 | G34: =E34-F34 -> 3.5830127e+09 | H34: =H33 -> 1.7777574e+10 | I34: 3.5830127e+09 | J34: =I34-G34 -> 0
A36: 46023 | D36: Saldo rekening 7107802511 - AL IRSYAD AL ISLAMIYYAH PURWOKERTO | E36: =des!G31 -> 66065833 | G36: =E36 -> 66065833 | H36: =H34+G36 -> 1.784364e+10
A37: 46053 | D37: Pemasukan infak masjid Al Irsyad | E37: 115000 | G37: =(G36+E37)-F37 -> 66180833 | H37: =(H36+E37)-F37 -> 1.7843755e+10
A38: 46053 | D38: Biaya administrasi bulanan | F38: 15000 | G38: =(G37+E38)-F38 -> 66165833 | H38: =(H37+E38)-F38 -> 1.784374e+10
D39: JUMLAH | E39: =SUM(E36:E38) -> 66180833 | F39: =SUM(F36:F38) -> 15000 | G39: =E39-F39 -> 66165833 | H39: =H38 -> 1.784374e+10 | I39: 66165833 | J39: =I39-G39 -> 0
A41: 46023 | D41: Saldo rekening 7188000163 - AL IRSYAD AL ISLAMIYYAH PURWOKERTO | E41: =des!G35 -> 9349301 | G41: =E41 -> 9349301 | H41: =H39+G41 -> 1.7853089e+10
A42: 46053 | D42: Biaya administrasi bulanan | F42: 15000 | G42: =G41-F42 -> 9334301 | H42: =H41-F42 -> 1.7853074e+10
D43: JUMLAH | E43: =SUM(E40:E42) -> 9349301 | F43: =SUM(F40:F42) -> 15000 | G43: =E43-F43 -> 9334301 | H43: =H42 -> 1.7853074e+10 | I43: 9334301 | J43: =I43-G43 -> 0
A45: 46023 | D45: Saldo rekening 1770001777 - AL IRSYAD AL ISLAMIYYAH PURWOKERTO | E45: =des!G41 -> 6.3908357e+09 | G45: =E45 -> 6.3908357e+09 | H45: =H43+G45 -> 2.424391e+10
A46: 46030.587 | D46: TTCEK CC 109181 BUDI TRIYONO | F46: 1000000000 | G46: =(G45+E46)-F46 -> 5.3908357e+09 | H46: =(H45+E46)-F46 -> 2.324391e+10
A47: 46030.587 | D47: TTCEK CC 109182 BUDI TRIYONO | F47: 1000000000 | G47: =(G46+E47)-F47 -> 4.3908357e+09 | H47: =(H46+E47)-F47 -> 2.224391e+10
...

Sheet feb
A1: BUKU KAS UMUM
A2: BULAN FEBRUARI 2026
A4: Instansi | C4: : PC AL IRSYAD AL ISLAMIYYAH PURWOKERTO | H4: BKU
A5: Kabupaten | C5: : BANYUMAS
A6: Provinsi | C6: : JAWA TENGAH
A8: Tanggal | B8: No. Kode | C8: No. Bukti | D8: Uraian | E8: Penerimaan (Debit) | F8: Pengeluaran (Kredit) | G8: Saldo Kas-Sub | H8: Saldo Kas Total
A9: 46054 | D9: Saldo rekening 1035241902 - YAYASAN AL IRSYAD PURWOKERTO | E9: =jan!G13 -> 9.312255e+09 | G9: =E9 -> 9.312255e+09 | H9: =G9 -> 9.312255e+09
A10: 46081 | D10: Pendapatan SPP | E10: 1449267250 | G10: =(G9+E10)-F10 -> 1.0761522e+10 | H10: =G10 -> 1.0761522e+10
A11: 46055 | D11: PBY TANAH ASET ALIH KELOLA STIE | F11: 6500060000 | G11: =(G10+E11)-F11 -> 4.2614622e+09 | H11: =G11 -> 4.2614622e+09 | I11: =F11 -> 6500060000
A12: 46073 | D12: pindah buku | F12: 1500000000 | G12: =(G11+E12)-F12 -> 2.7614622e+09 | H12: =G12 -> 2.7614622e+09
A13: 46081 | D13: Biaya Administrasi | F13: 15000 | G13: =(G12+E13)-F13 -> 2.7614472e+09 | H13: =G13 -> 2.7614472e+09
D14: JUMLAH | E14: =SUM(E9:E13) -> 1.0761522e+10 | F14: =SUM(F10:F13) -> 8000075000 | G14: =E14-F14 -> 2.7614472e+09 | H14: =G14 -> 2.7614472e+09 | I14: 2.7614472e+09 | J14: =I14-G14 -> 0
I15: =F15 -> 0
A16: 46054 | D16: Saldo rekening 7099206505 - AL IRSYAD AL ISLAMIYYAH PURWOKERTO | E16: =jan!G26 -> 4.8823065e+09 | G16: =E16 -> 4.8823065e+09 | H16: =H14+G16 -> 7.6437537e+09 | I16: =F16 -> 0
A17: 46055.084 | D17: By. Adm. BSINet JAN 26 | F17: 10000 | G17: =(G16+E17)-F17 -> 4.8822965e+09 | H17: =(H16+E17)-F17 -> 7.6437437e+09
A18: 46056.095 | D18: Biaya Administrasi | F18: 15000 | G18: =(G17+E18)-F18 -> 4.8822815e+09 | H18: =(H17+E18)-F18 -> 7.6437287e+09
A19: 46059.614 | D19: refund TRX FT25352NKKVXJ64 tgl 18 D es 2025 an Muh Ali Rasyid NIB 9250 97 Trf Ke - NARSO | F19: 3500000 | G19: =(G18+E19)-F19 -> 4.8787815e+09 | H19: =(H18+E19)-F19 -> 7.6402287e+09 | I19: =F19 -> 3500000
A20: 46073 | D20: pindah buku | F20: 1500000000 | G20: =(G19+E20)-F20 -> 3.3787815e+09 | H20: =(H19+E20)-F20 -> 6.1402287e+09
A21: 46080 | D21: pindah buku | F21: 1000000000 | G21: =(G20+E21)-F21 -> 2.3787815e+09 | H21: =(H20+E21)-F21 -> 5.1402287e+09
A22: 46081 | D22: Pajak | F22: 502064.61 | G22: =(G21+E22)-F22 -> 2.3782794e+09 | H22: =(H21+E22)-F22 -> 5.1397266e+09
A23: 46081 | D23: Bagi Hasil atau Bonus | E23: 2510323.1 | G23: =(G22+E23)-F23 -> 2.3807898e+09 | H23: =(H22+E23)-F23 -> 5.142237e+09 | I23: =F23 -> 0
A24: 46081 | D24: Pendapatan SPP | E24: 2434260250 | G24: =(G23+E24)-F24 -> 4.81505e+09 | H24: =(H23+E24)-F24 -> 7.5764972e+09 | I24: =F24 -> 0
D25: JUMLAH | E25: =SUM(E16:E24) -> 7.3190771e+09 | F25: =SUM(F16:F24) -> 2.5040271e+09 | G25: =E25-F25 -> 4.81505e+09 | H25: =H24 -> 7.5764972e+09 | I25: 4.81505e+09 | J25: =I25-G25 -> 0
I26: =F26 -> 0
A27: 46054 | D27: Saldo rekening 7152696536 - AL IRSYAD AL ISLAMIYYAH PURWOKERTO | E27: =jan!G34 -> 3.5830127e+09 | G27: =E27 -> 3.5830127e+09 | H27: =H25+G27 -> 1.115951e+10 | I27: =F27 -> 0
A28: 46059.614 | D28: refund atas TRX FT253160FYFNBNK tg l 12 Nov 2025 NIB 926017 Khuzami Maizun Alaya Trf Ke - MAHARESI DEWI LESTARI | F28: 23500000 | G28: =(G27+E28)-F28 -> 3.5595127e+09 | H28: =(H27+E28)-F28 -> 1.113601e+10 | I28: =F28 -> 23500000
A29: 46081 | D29: Biaya Administrasi | F29: 15000 | G29: =(G28+E29)-F29 -> 3.5594977e+09 | H29: =(H28+E29)-F29 -> 1.1135995e+10
A30: 46081 | D30: Pendapatan SPP | E30: 566380000 | G30: =(G29+E30)-F30 -> 4.1258777e+09 | H30: =(H29+E30)-F30 -> 1.1702375e+10 | I30: =F30 -> 0
D31: JUMLAH | E31: =SUM(E27:E30) -> 4.1493927e+09 | F31: =SUM(F27:F30) -> 23515000 | G31: =E31-F31 -> 4.1258777e+09 | H31: =H30 -> 1.1702375e+10 | I31: 4.1258777e+09 | J31: =I31-G31 -> 0
I32: =F32 -> 0
A33: 46054 | D33: Saldo rekening 7107802511 - AL IRSYAD AL ISLAMIYYAH PURWOKERTO | E33: =jan!G39 -> 66165833 | G33: =E33 -> 66165833 | H33: =H31+G33 -> 1.1768541e+10 | I33: =F33 -> 0
A34: 46081 | D34: Pemasukan infak masjid Al Irsyad | E34: 220000 | G34: =(G33+E34)-F34 -> 66385833 | H34: =(H33+E34)-F34 -> 1.1768761e+10 | I34: =F34 -> 0
A35: 46081 | D35: Biaya administrasi bulanan | F35: 15000 | G35: =(G34+E35)-F35 -> 66370833 | H35: =(H34+E35)-F35 -> 1.1768746e+10
D36: JUMLAH | E36: =SUM(E33:E35) -> 66385833 | F36: =SUM(F33:F35) -> 15000 | G36: =E36-F36 -> 66370833 | H36: =H35 -> 1.1768746e+10 | I36: 66370833 | J36: =I36-G36 -> 0
I37: =F37 -> 0
A38: 46054 | D38: Saldo rekening 7188000163 - AL IRSYAD AL ISLAMIYYAH PURWOKERTO | E38: =jan!G43 -> 9334301 | G38: =E38 -> 9334301 | H38: =H36+G38 -> 1.177808e+10 | I38: =F38 -> 0
A39: 46081 | D39: Biaya administrasi bulanan | F39: 15000 | G39: =G38-F39 -> 9319301 | H39: =H38-F39 -> 1.1778065e+10
D40: JUMLAH | E40: =SUM(E37:E39) -> 9334301 | F40: =SUM(F37:F39) -> 15000 | G40: =E40-F40 -> 9319301 | H40: =H39 -> 1.1778065e+10
I41: =F41 -> 0
A42: 46054 | D42: Saldo rekening 1770001777 - AL IRSYAD AL ISLAMIYYAH PURWOKERTO | E42: =jan!G51 -> 4.7648815e+09 | G42: =E42 -> 4.7648815e+09 | H42: =H40+G42 -> 1.6542947e+10 | I42: =F42 -> 0
...

Sheet mar
A1: BUKU KAS UMUM
A2: BULAN MARET 2026
A4: Instansi | C4: : PC AL IRSYAD AL ISLAMIYYAH PURWOKERTO | H4: BKU
A5: Kabupaten | C5: : BANYUMAS
A6: Provinsi | C6: : JAWA TENGAH
A8: Tanggal | B8: No. Kode | C8: No. Bukti | D8: Uraian | E8: Penerimaan (Debit) | F8: Pengeluaran (Kredit) | G8: Saldo Kas-Sub | H8: Saldo Kas Total
A9: 46082 | D9: Saldo rekening 1035241902 - YAYASAN AL IRSYAD PURWOKERTO | E9: =feb!G14 -> 2.7614472e+09 | G9: =E9 -> 2.7614472e+09 | H9: =G9 -> 2.7614472e+09
A10: 46090.53 | D10: pindah buku | F10: 1000000000 | G10: =(G9+E10)-F10 -> 1.7614472e+09 | H10: =G10 -> 1.7614472e+09
A11: 46109.398 | D11: pindah buku | F11: 1000000000 | G11: =(G10+E11)-F11 -> 7.6144722e+08 | H11: =G11 -> 7.6144722e+08
A12: 46112 | D12: Pendapatan SPP | E12: 1263789000 | G12: =(G11+E12)-F12 -> 2.0252362e+09 | H12: =G12 -> 2.0252362e+09
A13: 46112 | D13: Biaya Administrasi | F13: 15000 | G13: =(G12+E13)-F13 -> 2.0252212e+09 | H13: =G13 -> 2.0252212e+09
D14: JUMLAH | E14: =SUM(E9:E13) -> 4.0252362e+09 | F14: =SUM(F10:F13) -> 2000015000 | G14: =E14-F14 -> 2.0252212e+09 | H14: =G14 -> 2.0252212e+09 | I14: 2.0252212e+09 | J14: =I14-G14 -> 0 | N14: 2025221217
A16: 46082 | D16: Saldo rekening 7099206505 - AL IRSYAD AL ISLAMIYYAH PURWOKERTO | E16: =feb!G25 -> 4.81505e+09 | G16: =E16 -> 4.81505e+09 | H16: =H14+G16 -> 6.8402712e+09
A17: 46083.144 | D17: By. Adm. BSINet | F17: 10000 | G17: =(G16+E17)-F17 -> 4.81504e+09 | H17: =(H16+E17)-F17 -> 6.8402612e+09
A18: 46084.049 | D18: Biaya Administrasi | F18: 15000 | G18: =(G17+E18)-F18 -> 4.815025e+09 | H18: =(H17+E18)-F18 -> 6.8402462e+09
A19: 46086.879 | D19: pindah buku | F19: 500000000 | G19: =(G18+E19)-F19 -> 4.315025e+09 | H19: =(H18+E19)-F19 -> 6.3402462e+09
A20: 46090.53 | D20: pindah buku | F20: 1000000000 | G20: =(G19+E20)-F20 -> 3.315025e+09 | H20: =(H19+E20)-F20 -> 5.3402462e+09
A21: 46097.482 | D21: pindah buku | F21: 1000000000 | G21: =(G20+E21)-F21 -> 2.315025e+09 | H21: =(H20+E21)-F21 -> 4.3402462e+09
A22: 46109.398 | D22: pindah buku | F22: 1500000000 | G22: =(G21+E22)-F22 -> 8.15025e+08 | H22: =(H21+E22)-F22 -> 2.8402462e+09 | I22: =SUM(F20:F22) -> 3500000000
A23: 46112 | D23: Pajak | F23: 392635.73 | G23: =(G22+E23)-F23 -> 8.1463237e+08 | H23: =(H22+E23)-F23 -> 2.8398536e+09
A24: 46112 | D24: Bagi Hasil atau Bonus | E24: 1963178.6 | G24: =(G23+E24)-F24 -> 8.1659555e+08 | H24: =(H23+E24)-F24 -> 2.8418168e+09
A25: 46112 | D25: Pendapatan SPP | E25: 2370257000 | G25: =(G24+E25)-F25 -> 3.1868525e+09 | H25: =(H24+E25)-F25 -> 5.2120738e+09
D26: JUMLAH | E26: =SUM(E16:E25) -> 7.1872702e+09 | F26: =SUM(F16:F25) -> 4.0004176e+09 | G26: =E26-F26 -> 3.1868525e+09 | H26: =H25 -> 5.2120738e+09 | I26: 3.1868525e+09 | J26: =I26-G26 -> 3.8146973e-06 | N26: 3186852545
A28: 46082 | D28: Saldo rekening 7152696536 - AL IRSYAD AL ISLAMIYYAH PURWOKERTO | E28: =feb!G31 -> 4.1258777e+09 | G28: =E28 -> 4.1258777e+09 | H28: =H26+G28 -> 9.3379515e+09
A29: 46112 | D29: Biaya Administrasi | F29: 15000 | G29: =(G28+E29)-F29 -> 4.1258627e+09 | H29: =(H28+E29)-F29 -> 9.3379365e+09
A30: 46112 | D30: Pendapatan SPP | E30: 350255000 | G30: =(G29+E30)-F30 -> 4.4761177e+09 | H30: =(H29+E30)-F30 -> 9.6881915e+09
D31: JUMLAH | E31: =SUM(E28:E30) -> 4.4761327e+09 | F31: =SUM(F28:F30) -> 15000 | G31: =E31-F31 -> 4.4761177e+09 | H31: =H30 -> 9.6881915e+09 | I31: 4.4761177e+09 | J31: =I31-G31 -> 0 | N31: 4476117700
N32: 4476117700
A33: 46082 | D33: Saldo rekening 7107802511 - AL IRSYAD AL ISLAMIYYAH PURWOKERTO | E33: =feb!G36 -> 66370833 | G33: =E33 -> 66370833 | H33: =H31+G33 -> 9.7545623e+09
A34: 46112 | D34: Pemasukan infak masjid Al Irsyad | E34: 770000 | G34: =(G33+E34)-F34 -> 67140833 | H34: =(H33+E34)-F34 -> 9.7553323e+09
A35: 46112 | D35: Biaya administrasi bulanan | F35: 15000 | G35: =(G34+E35)-F35 -> 67125833 | H35: =(H34+E35)-F35 -> 9.7553173e+09
D36: JUMLAH | E36: =SUM(E33:E35) -> 67140833 | F36: =SUM(F33:F35) -> 15000 | G36: =E36-F36 -> 67125833 | H36: =H35 -> 9.7553173e+09 | I36: 67125833 | J36: =I36-G36 -> 0
N37: 67125833
A38: 46082 | D38: Saldo rekening 7188000163 - AL IRSYAD AL ISLAMIYYAH PURWOKERTO | E38: =feb!G40 -> 9319301 | G38: =E38 -> 9319301 | H38: =H36+G38 -> 9.7646366e+09
A39: 46112 | D39: Biaya administrasi bulanan | F39: 15000 | G39: =G38-F39 -> 9304301 | H39: =H38-F39 -> 9.7646216e+09
D40: JUMLAH | E40: =SUM(E37:E39) -> 9319301 | F40: =SUM(F37:F39) -> 15000 | G40: =E40-F40 -> 9304301 | H40: =H39 -> 9.7646216e+09 | N40: 9304301
A42: 46082 | D42: Saldo rekening 1770001777 - AL IRSYAD AL ISLAMIYYAH PURWOKERTO | E42: =feb!G46 -> 2.698255e+09 | G42: =E42 -> 2.698255e+09 | H42: =H40+G42 -> 1.2462877e+10
A43: 46089.587 | D43: pindah buku | F43: 1000000000 | G43: =(G42+E43)-F43 -> 1.698255e+09 | H43: =(H42+E43)-F43 -> 1.1462877e+10
A44: 46112 | D44: Pendapatan SPP | E44: 525783250 | G44: =(G43+E44)-F44 -> 2.2240382e+09 | H44: =(H43+E44)-F44 -> 1.198866e+10
A45: 46112 | D45: Biaya administrasi bulanan | F45: 15000 | G45: =(G44+E45)-F45 -> 2.2240232e+09 | H45: =(H44+E45)-F45 -> 1.1988645e+10
...

Sheet april
A1: BUKU KAS UMUM
A2: BULAN APRIL 2026
A4: Instansi | C4: : PC AL IRSYAD AL ISLAMIYYAH PURWOKERTO | H4: BKU
A5: Kabupaten | C5: : BANYUMAS
A6: Provinsi | C6: : JAWA TENGAH
A8: Tanggal | B8: No. Kode | C8: No. Bukti | D8: Uraian | E8: Penerimaan (Debit) | F8: Pengeluaran (Kredit) | G8: Saldo Kas-Sub | H8: Saldo Kas Total
A9: 46113 | D9: Saldo rekening 1035241902 - YAYASAN AL IRSYAD PURWOKERTO | E9: =mar!G14 -> 2.0252212e+09 | G9: =E9 -> 2.0252212e+09 | H9: =G9 -> 2.0252212e+09
A10: 46129 | D10: Pindah buku | F10: 1000000000 | G10: =(G9+E10)-F10 -> 1.0252212e+09 | H10: =G10 -> 1.0252212e+09
A11: 46142 | D11: Pendapatan SPP | E11: 1737747750 | G11: =(G10+E11)-F11 -> 2.762969e+09 | H11: =G11 -> 2.762969e+09
A12: 46142 | D12: Biaya Administrasi | F12: 15000 | G12: =(G11+E12)-F12 -> 2.762954e+09 | H12: =G12 -> 2.762954e+09
D13: JUMLAH | E13: =SUM(E9:E12) -> 3.762969e+09 | F13: =SUM(F10:F12) -> 1000015000 | G13: =E13-F13 -> 2.762954e+09 | H13: =G13 -> 2.762954e+09 | I13: 2.762954e+09 | J13: =G13-I13 -> 0
A15: 46113 | D15: Saldo rekening 7099206505 - AL IRSYAD AL ISLAMIYYAH PURWOKERTO | E15: =mar!G26 -> 3.1868525e+09 | G15: =E15 -> 3.1868525e+09 | H15: =H13+G15 -> 5.9498065e+09
A16: 46114.116 | D16: By. Adm. BSINet MAR 26 | F16: 10000 | G16: =(G15+E16)-F16 -> 3.1868425e+09 | H16: =(H15+E16)-F16 -> 5.9497965e+09
A17: 46114.381 | D17: pengemb sldo pryk liburan jul 25 Trf Dari - AZIM BI AL KHOIR | E17: 1630952 | G17: =(G16+E17)-F17 -> 3.1884735e+09 | H17: =(H16+E17)-F17 -> 5.9514275e+09
A18: 46115.073 | D18: Biaya Administrasi | F18: 15000 | G18: =(G17+E18)-F18 -> 3.1884585e+09 | H18: =(H17+E18)-F18 -> 5.9514125e+09
A19: 46115.594 | D19: pindah buku Trf Ke - AL IRSYAD AL ISLAMIYYAH PURWOKERTO | F19: 1000000000 | G19: =(G18+E19)-F19 -> 2.1884585e+09 | H19: =(H18+E19)-F19 -> 4.9514125e+09
A20: 46129.329 | D20: pindah buku Trf Ke - AL IRSYAD AL ISLAMIYYAH PURWOKERTO | F20: 1000000000 | G20: =(G19+E20)-F20 -> 1.1884585e+09 | H20: =(H19+E20)-F20 -> 3.9514125e+09
A21: 46142.398 | D21: PENARIKAN SIMP IJABAH TAMZIS Trf Dari - KSPPS TAMZIS BINA UTAMA | E21: 5000000000 | G21: =(G20+E21)-F21 -> 6.1884585e+09 | H21: =(H20+E21)-F21 -> 8.9514125e+09
A22: 46142.484 | D22: Bagi Hasil atau Bonus | E22: 1514638.8 | G22: =(G21+E22)-F22 -> 6.1899731e+09 | H22: =(H21+E22)-F22 -> 8.9529271e+09
A23: 46142.484 | D23: Pajak | F23: 302927.76 | G23: =(G22+E23)-F23 -> 6.1896702e+09 | H23: =(H22+E23)-F23 -> 8.9526242e+09
A24: 46142.484 | D24: Pendapatan SPP | E24: 2607614000 | G24: =(G23+E24)-F24 -> 8.7972842e+09 | H24: =(H23+E24)-F24 -> 1.1560238e+10
A25: 46142.578 | D25: pindah buku Trf Ke - AL IRSYAD AL ISLAMIYYAH PURWOKERTO | F25: 500000000 | G25: =(G24+E25)-F25 -> 8.2972842e+09 | H25: =(H24+E25)-F25 -> 1.1060238e+10
D26: JUMLAH | E26: =SUM(E15:E25) -> 1.0797612e+10 | F26: =SUM(F15:F25) -> 2.5003279e+09 | G26: =E26-F26 -> 8.2972842e+09 | H26: =H25 -> 1.1060238e+10 | I26: 8.2972842e+09 | J26: =G26-I26 -> 0
A28: 46113 | D28: Saldo rekening 7152696536 - AL IRSYAD AL ISLAMIYYAH PURWOKERTO | E28: =mar!G31 -> 4.4761177e+09 | G28: =E28 -> 4.4761177e+09 | H28: =H26+G28 -> 1.5536356e+10
A29: 46115.587 | D29: Pindah buku | F29: 1000000000 | G29: =(G28+E29)-F29 -> 3.4761177e+09 | H29: =(H28+E29)-F29 -> 1.4536356e+10
A30: 46142 | D30: Pindah buku | F30: 2000000000 | G30: =(G29+E30)-F30 -> 1.4761177e+09 | H30: =(H29+E30)-F30 -> 1.2536356e+10
A31: 46142 | D31: Biaya Administrasi | F31: 15000 | G31: =(G30+E31)-F31 -> 1.4761027e+09 | H31: =(H30+E31)-F31 -> 1.2536341e+10 | I31: =SUM(F29:F30) -> 3000000000
A32: 46142 | D32: Pendapatan SPP | E32: 388155000 | G32: =(G31+E32)-F32 -> 1.8642577e+09 | H32: =(H31+E32)-F32 -> 1.2924496e+10
D33: JUMLAH | E33: =SUM(E28:E32) -> 4.8642727e+09 | F33: =SUM(F28:F32) -> 3000015000 | G33: =E33-F33 -> 1.8642577e+09 | H33: =H32 -> 1.2924496e+10 | I33: 1.8642577e+09 | J33: =G33-I33 -> 0 | N33: 1864257700
A35: 46113 | D35: Saldo rekening 7107802511 - AL IRSYAD AL ISLAMIYYAH PURWOKERTO | E35: =mar!G36 -> 67125833 | G35: =E35 -> 67125833 | H35: =H33+G35 -> 1.2991622e+10
A36: 46115 | D36: Perawatan masjid Al Irsyad | F36: 2949500 | G36: =(G35+E36)-F36 -> 64176333 | H36: =(H35+E36)-F36 -> 1.2988672e+10
A37: 46126 | D37: Pembayaran rekening listrik masjid Al Irsyad | F37: 4170504 | G37: =(G36+E37)-F37 -> 60005829 | H37: =(H36+E37)-F37 -> 1.2984502e+10
A38: 46142 | D38: Pemasukan infak masjid Al Irsyad | E38: 185000 | G38: =(G37+E38)-F38 -> 60190829 | H38: =(H37+E38)-F38 -> 1.2984687e+10
A39: 46142 | D39: Biaya administrasi bulanan | F39: 15000 | G39: =(G38+E39)-F39 -> 60175829 | H39: =(H38+E39)-F39 -> 1.2984672e+10
D40: JUMLAH | E40: =SUM(E35:E39) -> 67310833 | F40: =SUM(F35:F39) -> 7135004 | G40: =E40-F40 -> 60175829 | H40: =H39 -> 1.2984672e+10 | I40: 60175829 | J40: =G40-I40 -> 0 | N40: 60175829
A42: 46113 | D42: Saldo rekening 7188000163 - AL IRSYAD AL ISLAMIYYAH PURWOKERTO | E42: =mar!G40 -> 9304301 | G42: =E42 -> 9304301 | H42: =H40+G42 -> 1.2993976e+10
A43: 46142 | D43: Biaya administrasi bulanan | F43: 15000 | G43: =G42-F43 -> 9289301 | H43: =H42-F43 -> 1.2993961e+10
D44: JUMLAH | E44: =SUM(E41:E43) -> 9304301 | F44: =SUM(F41:F43) -> 15000 | G44: =E44-F44 -> 9289301 | H44: =H43 -> 1.2993961e+10 | I44: 9289301 | J44: =G44-I44 -> 0
A46: 46113 | D46: Saldo rekening 1770001777 - AL IRSYAD AL ISLAMIYYAH PURWOKERTO | E46: =mar!G46 -> 2.2240232e+09 | G46: =E46 -> 2.2240232e+09 | H46: =H44+G46 -> 1.5217984e+10
A47: 46141.522 | D47: pindah buku | F47: 2000000000 | G47: =(G46+E47)-F47 -> 2.2402321e+08 | H47: =(H46+E47)-F47 -> 1.3217984e+10
...

Sheet mei
A1: BUKU KAS UMUM
A2: BULAN MEI 2026
A4: Instansi | C4: : PC AL IRSYAD AL ISLAMIYYAH PURWOKERTO | H4: BKU
A5: Kabupaten | C5: : BANYUMAS
A6: Provinsi | C6: : JAWA TENGAH
A8: Tanggal | B8: No. Kode | C8: No. Bukti | D8: Uraian | E8: Penerimaan (Debit) | F8: Pengeluaran (Kredit) | G8: Saldo Kas-Sub | H8: Saldo Kas Total
A9: 46143 | D9: Saldo rekening 1035241902 - YAYASAN AL IRSYAD PURWOKERTO | E9: =april!G13 -> 2.762954e+09 | G9: =E9 -> 2.762954e+09 | H9: =G9 -> 2.762954e+09
A10: 46172 | D10: Pendapatan SPP | E10: 1626417500 | G10: =(G9+E10)-F10 -> 4.3893715e+09 | H10: =G10 -> 4.3893715e+09 | I10: selisih dan sudah disesuaikan
A11: 46172 | D11: Pindah buku | F11: 4000000000 | G11: =(G10+E11)-F11 -> 3.8937147e+08 | H11: =G11 -> 3.8937147e+08
A12: 46172 | D12: Biaya Administrasi | F12: 15000 | G12: =(G11+E12)-F12 -> 3.8935647e+08 | H12: =G12 -> 3.8935647e+08
D13: JUMLAH | E13: =SUM(E9:E12) -> 4.3893715e+09 | F13: =SUM(F10:F12) -> 4000015000 | G13: =E13-F13 -> 3.8935647e+08 | H13: =G13 -> 3.8935647e+08 | I13: 3.8935647e+08 | J13: =G13-I13 -> 0
A15: 46143 | D15: Saldo rekening 7099206505 - AL IRSYAD AL ISLAMIYYAH PURWOKERTO | E15: =april!G26 -> 8.2972842e+09 | G15: =E15 -> 8.2972842e+09 | H15: =H13+G15 -> 8.6866407e+09
A16: 46144.144 | D16: By. Adm. BSINet | F16: 10000 | G16: =(G15+E16)-F16 -> 8.2972742e+09 | H16: =(H15+E16)-F16 -> 8.6866307e+09
A17: 46145.049 | D17: Biaya Administrasi | F17: 15000 | G17: =(G16+E17)-F17 -> 8.2972592e+09 | H17: =(H16+E17)-F17 -> 8.6866157e+09
A18: 46153.795 | D18: Pindah buku | F18: 1000000000 | G18: =(G17+E18)-F18 -> 7.2972592e+09 | H18: =(H17+E18)-F18 -> 7.6866157e+09
A19: 46160.372 | D19: Pindah buku | F19: 2000000000 | G19: =(G18+E19)-F19 -> 5.2972592e+09 | H19: =(H18+E19)-F19 -> 5.6866157e+09
A20: 46168.652 | D20: Pindah buku | F20: 2000000000 | G20: =(G19+E20)-F20 -> 3.2972592e+09 | H20: =(H19+E20)-F20 -> 3.6866157e+09
A21: 46172 | D21: Pendapatan SPP | E21: 2441735000 | G21: =(G20+E21)-F21 -> 5.7389942e+09 | H21: =(H20+E21)-F21 -> 6.1283507e+09 | I21: selisih tidak bisa disesuaikan
A22: 46172.636 | D22: Pindah buku | F22: 5000000000 | G22: =(G21+E22)-F22 -> 7.3899421e+08 | H22: =(H21+E22)-F22 -> 1.1283507e+09
A23: 46172 | D23: Pajak | F23: 664572.35 | G23: =(G22+E23)-F23 -> 7.3832964e+08 | H23: =(H22+E23)-F23 -> 1.1276861e+09
A24: 46172 | D24: Bagi Hasil atau Bonus | E24: 3322861.7 | G24: =(G23+E24)-F24 -> 7.416525e+08 | H24: =(H23+E24)-F24 -> 1.131009e+09
