Workbook

Sheet JUL25
B1: Tanggal | C1: No. Kode | D1: No. Bukti | E1: Uraian | F1: Penerimaan (Debit) | G1: Pengeluaran (Kredit) | H1: Saldo Kas | I1: 1 | J1: no | K1: tgl | L1: bulan | M1: jurnal voucher | N1: KB/TK+uraian | O1: COA | P1: URAIAN | Q1: JUMLAH (DEBIT+KREDIT) | R1: JUMLAH (DEBIT+KREDIT)2 | S1: KOSONGI | T1: UNIT | U1: CONCENATE | V1: KB/TK
B2: BUKU KAS UMUM
B3: BULAN JULI 2025
B5: Sekolah | D5: : KB & TK AL IRSYAD AL ISLAMIYYAH PURWOKERTO
B6: Desa / Kecamatan | D6: : SOKANEGARA / PURWOKERTO TIMUR
B7: Kabupaten | D7: : BANYUMAS
B8: Provinsi | D8: : JAWA TENGAH
L9: 2 | T9: KB/TK
B10: Tanggal | C10: No. Kode | D10: No. Bukti | E10: Uraian | F10: Penerimaan (Kredit) | G10: Pengeluaran (Debit) | H10: Saldo Kas | J10: no | K10: tgl | L10: bulan | M10: jurnal voucher | N10: KB/TK+uraian | O10: COA | P10: URAIAN | Q10: JUMLAH (DEBIT+KREDIT) | R10: JUMLAH (DEBIT+KREDIT)2 | S10: KOSONGI | T10: UNIT | U10: CONCENATE | V10: KB/TK
B11: 45839 | E11: Saldo bulan lalu | H11: 35067380 | J11: =D11 -> 0 | K11: =DAY(B11) -> 1 | L11: =PROPER(TRIM(MID(SUBSTITUTE($B$3," ",REPT(" ",99)),99*INT((LEN($B$3)-LEN(SUBSTITUTE($B$3," ","")))/2),99))) -> Juli | M11: =IF(J11<1," ","JV-KB/TK-"&$L$11&"-"&J11) | N11: ="KB/TK "&E11 -> KB/TK Saldo bulan lalu | P11: =E11 -> Saldo bulan lalu | Q11: =F11+G11 -> 0 | R11: =Q11 -> 0 | T11: =$T$10 -> UNIT | U11: =CONCATENATE(T11,N11) -> UNITKB/TK Saldo bulan lalu | V11: SD 01
B12: 45839 | E12: Bagi Hasil atau Bonus | F12: 12949.52 | H12: =H11+F12-G12 -> 35080329 | J12: =D12 -> 0 | K12: =DAY(B12) -> 1 | L12: =PROPER(TRIM(MID(SUBSTITUTE($B$3," ",REPT(" ",99)),99*INT((LEN($B$3)-LEN(SUBSTITUTE($B$3," ","")))/2),99))) -> Juli | M12: =IF(J12<1," ","JV-KB/TK-"&$L$10&"-"&J12) | N12: ="KB/TK "&E12 -> KB/TK Bagi Hasil atau Bonus | P12: =E12 -> Bagi Hasil atau Bonus | Q12: =F12+G12 -> 12949.52 | R12: =Q12 -> 12949.52 | T12: =$T$10 -> UNIT | U12: =CONCATENATE(T12,N12) -> UNITKB/TK Bagi Hasil atau Bonus
B13: 45839 | E13: Pajak | G13: 2589.9 | H13: =H12+F13-G13 -> 35077739 | J13: =D13 -> 0 | K13: =DAY(B13) -> 1 | L13: =PROPER(TRIM(MID(SUBSTITUTE($B$3," ",REPT(" ",99)),99*INT((LEN($B$3)-LEN(SUBSTITUTE($B$3," ","")))/2),99))) -> Juli | M13: =IF(J13<1," ","JV-KB/TK-"&$L$10&"-"&J13) | N13: ="KB/TK "&E13 -> KB/TK Pajak | P13: =E13 -> Pajak | Q13: =F13+G13 -> 2589.9 | R13: =Q13 -> 2589.9 | T13: =$T$10 -> UNIT | U13: =CONCATENATE(T13,N13) -> UNITKB/TK Pajak
B14: 45839 | E14: Biaya Administrasi | G14: 10000 | H14: =H13+F14-G14 -> 35067739 | J14: =D14 -> 0 | K14: =DAY(B14) -> 1 | L14: =PROPER(TRIM(MID(SUBSTITUTE($B$3," ",REPT(" ",99)),99*INT((LEN($B$3)-LEN(SUBSTITUTE($B$3," ","")))/2),99))) -> Juli | M14: =IF(J14<1," ","JV-KB/TK-"&$L$10&"-"&J14) | N14: ="KB/TK "&E14 -> KB/TK Biaya Administrasi | P14: =E14 -> Biaya Administrasi | Q14: =F14+G14 -> 10000 | R14: =Q14 -> 10000 | T14: =$T$10 -> UNIT | U14: =CONCATENATE(T14,N14) -> UNITKB/TK Biaya Administrasi
B15: 45839 | C15: 553100 | D15: 1 | E15: Biaya Lain-Lain | G15: 326000 | H15: =H14+F15-G15 -> 34741739 | J15: =D15 -> 1 | K15: =DAY(B15) -> 1 | L15: =PROPER(TRIM(MID(SUBSTITUTE($B$3," ",REPT(" ",99)),99*INT((LEN($B$3)-LEN(SUBSTITUTE($B$3," ","")))/2),99))) -> Juli | M15: =IF(J15<1," ","JV-KB/TK-"&$L$10&"-"&J15) -> JV-KB/TK-bulan-1 | N15: ="KB/TK "&E15 -> KB/TK Biaya Lain-Lain | P15: =E15 -> Biaya Lain-Lain | Q15: =F15+G15 -> 326000 | R15: =Q15 -> 326000 | T15: =$T$10 -> UNIT | U15: =CONCATENATE(T15,N15) -> UNITKB/TK Biaya Lain-Lain
B16: 45840 | E16: By. Adm BSMNet JUN 25 | G16: 10000 | H16: =H15+F16-G16 -> 34731739
B17: 45840 | C17: 530801 | D17: 2 | E17: Internet | G17: 982350 | H17: =H16+F17-G17 -> 33749389 | J17: =D17 -> 2 | K17: =DAY(B17) -> 2 | L17: =PROPER(TRIM(MID(SUBSTITUTE($B$3," ",REPT(" ",99)),99*INT((LEN($B$3)-LEN(SUBSTITUTE($B$3," ","")))/2),99))) -> Juli | M17: =IF(J17<1," ","JV-KB/TK-"&$L$10&"-"&J17) -> JV-KB/TK-bulan-2 | N17: ="KB/TK "&E17 -> KB/TK Internet | P17: =E17 -> Internet | Q17: =F17+G17 -> 982350 | R17: =Q17 -> 982350 | T17: =$T$10 -> UNIT | U17: =CONCATENATE(T17,N17) -> UNITKB/TK Internet
B18: 45840 | C18: 530802 | D18: 3 | E18: Listrik | G18: 3747250 | H18: =H17+F18-G18 -> 30002139 | J18: =D18 -> 3 | K18: =DAY(B18) -> 2 | L18: =PROPER(TRIM(MID(SUBSTITUTE($B$3," ",REPT(" ",99)),99*INT((LEN($B$3)-LEN(SUBSTITUTE($B$3," ","")))/2),99))) -> Juli | M18: =IF(J18<1," ","JV-KB/TK-"&$L$10&"-"&J18) -> JV-KB/TK-bulan-3 | N18: ="KB/TK "&E18 -> KB/TK Listrik | P18: =E18 -> Listrik | Q18: =F18+G18 -> 3747250 | R18: =Q18 -> 3747250 | T18: =$T$10 -> UNIT | U18: =CONCATENATE(T18,N18) -> UNITKB/TK Listrik
B19: 45840 | C19: 530801 | D19: 4 | E19: Internet | G19: 1045900 | H19: =H18+F19-G19 -> 28956239 | J19: =D19 -> 4 | K19: =DAY(B19) -> 2 | L19: =PROPER(TRIM(MID(SUBSTITUTE($B$3," ",REPT(" ",99)),99*INT((LEN($B$3)-LEN(SUBSTITUTE($B$3," ","")))/2),99))) -> Juli | M19: =IF(J19<1," ","JV-KB/TK-"&$L$10&"-"&J19) -> JV-KB/TK-bulan-4 | N19: ="KB/TK "&E19 -> KB/TK Internet | P19: =E19 -> Internet | Q19: =F19+G19 -> 1045900 | R19: =Q19 -> 1045900 | T19: =$T$10 -> UNIT | U19: =CONCATENATE(T19,N19) -> UNITKB/TK Internet
B20: 45841 | C20: 553100 | D20: 5 | E20: Biaya Lain-Lain | G20: 111000 | H20: =H19+F20-G20 -> 28845239 | J20: =D20 -> 5 | K20: =DAY(B20) -> 3 | L20: =PROPER(TRIM(MID(SUBSTITUTE($B$3," ",REPT(" ",99)),99*INT((LEN($B$3)-LEN(SUBSTITUTE($B$3," ","")))/2),99))) -> Juli | M20: =IF(J20<1," ","JV-KB/TK-"&$L$10&"-"&J20) -> JV-KB/TK-bulan-5 | N20: ="KB/TK "&E20 -> KB/TK Biaya Lain-Lain | P20: =E20 -> Biaya Lain-Lain | Q20: =F20+G20 -> 111000 | R20: =Q20 -> 111000 | T20: =$T$10 -> UNIT | U20: =CONCATENATE(T20,N20) -> UNITKB/TK Biaya Lain-Lain
B21: 45842 | E21: Pengambilan dana dropping dari BSM | F21: 30000000 | H21: =H20+F21-G21 -> 58845239 | J21: =D21 -> 0 | K21: =DAY(B21) -> 4 | L21: =PROPER(TRIM(MID(SUBSTITUTE($B$3," ",REPT(" ",99)),99*INT((LEN($B$3)-LEN(SUBSTITUTE($B$3," ","")))/2),99))) -> Juli | M21: =IF(J21<1," ","JV-KB/TK-"&$L$10&"-"&J21) | N21: ="KB/TK "&E21 -> KB/TK Pengambilan dana dropping dari BSM | P21: =E21 -> Pengambilan dana dropping dari BSM | Q21: =F21+G21 -> 30000000 | R21: =Q21 -> 30000000 | T21: =$T$10 -> UNIT | U21: =CONCATENATE(T21,N21) -> UNITKB/TK Pengambilan dana dropping dari BSM
B22: 45842 | E22: Diterima kas tunai di bendahara | G22: 30000000 | H22: =H21+F22-G22 -> 28845239 | J22: =D22 -> 0 | K22: =DAY(B22) -> 4 | L22: =PROPER(TRIM(MID(SUBSTITUTE($B$3," ",REPT(" ",99)),99*INT((LEN($B$3)-LEN(SUBSTITUTE($B$3," ","")))/2),99))) -> Juli | M22: =IF(J22<1," ","JV-KB/TK-"&$L$10&"-"&J22) | N22: ="KB/TK "&E22 -> KB/TK Diterima kas tunai di bendahara | P22: =E22 -> Diterima kas tunai di bendahara | Q22: =F22+G22 -> 30000000 | R22: =Q22 -> 30000000 | T22: =$T$10 -> UNIT | U22: =CONCATENATE(T22,N22) -> UNITKB/TK Diterima kas tunai di bendahara
B23: 45842 | C23: 530711 | D23: 6 | E23: Rapat Internal | G23: 796000 | H23: =H22+F23-G23 -> 28049239 | J23: =D23 -> 6 | K23: =DAY(B23) -> 4 | L23: =PROPER(TRIM(MID(SUBSTITUTE($B$3," ",REPT(" ",99)),99*INT((LEN($B$3)-LEN(SUBSTITUTE($B$3," ","")))/2),99))) -> Juli | M23: =IF(J23<1," ","JV-KB/TK-"&$L$10&"-"&J23) -> JV-KB/TK-bulan-6 | N23: ="KB/TK "&E23 -> KB/TK Rapat Internal | P23: =E23 -> Rapat Internal | Q23: =F23+G23 -> 796000 | R23: =Q23 -> 796000 | T23: =$T$10 -> UNIT | U23: =CONCATENATE(T23,N23) -> UNITKB/TK Rapat Internal
B24: 45845 | C24: 530803 | D24: 7 | E24: PDAM | G24: 117500 | H24: =H23+F24-G24 -> 27931739 | J24: =D24 -> 7 | K24: =DAY(B24) -> 7 | L24: =PROPER(TRIM(MID(SUBSTITUTE($B$3," ",REPT(" ",99)),99*INT((LEN($B$3)-LEN(SUBSTITUTE($B$3," ","")))/2),99))) -> Juli | M24: =IF(J24<1," ","JV-KB/TK-"&$L$10&"-"&J24) -> JV-KB/TK-bulan-7 | N24: ="KB/TK "&E24 -> KB/TK PDAM | P24: =E24 -> PDAM | Q24: =F24+G24 -> 117500 | R24: =Q24 -> 117500 | T24: =$T$10 -> UNIT | U24: =CONCATENATE(T24,N24) -> UNITKB/TK PDAM
B25: 45846 | E25: Pengambilan dana dropping dari BSM | F25: 35000000 | H25: =H24+F25-G25 -> 62931739 | J25: =D25 -> 0 | K25: =DAY(B25) -> 8 | L25: =PROPER(TRIM(MID(SUBSTITUTE($B$3," ",REPT(" ",99)),99*INT((LEN($B$3)-LEN(SUBSTITUTE($B$3," ","")))/2),99))) -> Juli | M25: =IF(J25<1," ","JV-KB/TK-"&$L$10&"-"&J25) | N25: ="KB/TK "&E25 -> KB/TK Pengambilan dana dropping dari BSM | P25: =E25 -> Pengambilan dana dropping dari BSM | Q25: =F25+G25 -> 35000000 | R25: =Q25 -> 35000000 | T25: =$T$10 -> UNIT | U25: =CONCATENATE(T25,N25) -> UNITKB/TK Pengambilan dana dropping dari BSM
B26: 45846 | E26: Diterima kas tunai di bendahara | G26: 35000000 | H26: =H25+F26-G26 -> 27931739 | J26: =D26 -> 0 | K26: =DAY(B26) -> 8 | L26: =PROPER(TRIM(MID(SUBSTITUTE($B$3," ",REPT(" ",99)),99*INT((LEN($B$3)-LEN(SUBSTITUTE($B$3," ","")))/2),99))) -> Juli | M26: =IF(J26<1," ","JV-KB/TK-"&$L$10&"-"&J26) | N26: ="KB/TK "&E26 -> KB/TK Diterima kas tunai di bendahara | P26: =E26 -> Diterima kas tunai di bendahara | Q26: =F26+G26 -> 35000000 | R26: =Q26 -> 35000000 | T26: =$T$10 -> UNIT | U26: =CONCATENATE(T26,N26) -> UNITKB/TK Diterima kas tunai di bendahara
B27: 45846 | C27: 531010 | D27: 8 | E27: Operasional Mobil Sekolah | G27: 63000 | H27: =H26+F27-G27 -> 27868739 | J27: =D27 -> 8 | K27: =DAY(B27) -> 8 | L27: =PROPER(TRIM(MID(SUBSTITUTE($B$3," ",REPT(" ",99)),99*INT((LEN($B$3)-LEN(SUBSTITUTE($B$3," ","")))/2),99))) -> Juli | M27: =IF(J27<1," ","JV-KB/TK-"&$L$10&"-"&J27) -> JV-KB/TK-bulan-8 | N27: ="KB/TK "&E27 -> KB/TK Operasional Mobil Sekolah | P27: =E27 -> Operasional Mobil Sekolah | Q27: =F27+G27 -> 63000 | R27: =Q27 -> 63000 | T27: =$T$10 -> UNIT | U27: =CONCATENATE(T27,N27) -> UNITKB/TK Operasional Mobil Sekolah
B28: 45848 | C28: 530805 | D28: 9 | E28: Bantuan Pulsa KS | G28: 150000 | H28: =H27+F28-G28 -> 27718739 | J28: =D28 -> 9 | K28: =DAY(B28) -> 10 | L28: =PROPER(TRIM(MID(SUBSTITUTE($B$3," ",REPT(" ",99)),99*INT((LEN($B$3)-LEN(SUBSTITUTE($B$3," ","")))/2),99))) -> Juli | M28: =IF(J28<1," ","JV-KB/TK-"&$L$10&"-"&J28) -> JV-KB/TK-bulan-9 | N28: ="KB/TK "&E28 -> KB/TK Bantuan Pulsa KS | P28: =E28 -> Bantuan Pulsa KS | Q28: =F28+G28 -> 150000 | R28: =Q28 -> 150000 | T28: =$T$10 -> UNIT | U28: =CONCATENATE(T28,N28) -> UNITKB/TK Bantuan Pulsa KS
B29: 45848 | C29: 530806 | D29: 10 | E29: Bantuan Pulsa WKS | G29: 375000 | H29: =H28+F29-G29 -> 27343739 | J29: =D29 -> 10 | K29: =DAY(B29) -> 10 | L29: =PROPER(TRIM(MID(SUBSTITUTE($B$3," ",REPT(" ",99)),99*INT((LEN($B$3)-LEN(SUBSTITUTE($B$3," ","")))/2),99))) -> Juli | M29: =IF(J29<1," ","JV-KB/TK-"&$L$10&"-"&J29) -> JV-KB/TK-bulan-10 | N29: ="KB/TK "&E29 -> KB/TK Bantuan Pulsa WKS | P29: =E29 -> Bantuan Pulsa WKS | Q29: =F29+G29 -> 375000 | R29: =Q29 -> 375000 | T29: =$T$10 -> UNIT | U29: =CONCATENATE(T29,N29) -> UNITKB/TK Bantuan Pulsa WKS
B30: 45848 | C30: 530807 | D30: 11 | E30: Bantuan Pulsa Wali Kelas | G30: 975000 | H30: =H29+F30-G30 -> 26368739 | J30: =D30 -> 11 | K30: =DAY(B30) -> 10 | L30: =PROPER(TRIM(MID(SUBSTITUTE($B$3," ",REPT(" ",99)),99*INT((LEN($B$3)-LEN(SUBSTITUTE($B$3," ","")))/2),99))) -> Juli | M30: =IF(J30<1," ","JV-KB/TK-"&$L$10&"-"&J30) -> JV-KB/TK-bulan-11 | N30: ="KB/TK "&E30 -> KB/TK Bantuan Pulsa Wali Kelas | P30: =E30 -> Bantuan Pulsa Wali Kelas | Q30: =F30+G30 -> 975000 | R30: =Q30 -> 975000 | T30: =$T$10 -> UNIT | U30: =CONCATENATE(T30,N30) -> UNITKB/TK Bantuan Pulsa Wali Kelas
B31: 45848 | C31: 530817 | D31: 12 | E31: Bantuan Pulsa Bendahara | G31: 50000 | H31: =H30+F31-G31 -> 26318739 | J31: =D31 -> 12 | K31: =DAY(B31) -> 10 | L31: =PROPER(TRIM(MID(SUBSTITUTE($B$3," ",REPT(" ",99)),99*INT((LEN($B$3)-LEN(SUBSTITUTE($B$3," ","")))/2),99))) -> Juli | M31: =IF(J31<1," ","JV-KB/TK-"&$L$10&"-"&J31) -> JV-KB/TK-bulan-12 | N31: ="KB/TK "&E31 -> KB/TK Bantuan Pulsa Bendahara | P31: =E31 -> Bantuan Pulsa Bendahara | Q31: =F31+G31 -> 50000 | R31: =Q31 -> 50000 | T31: =$T$10 -> UNIT | U31: =CONCATENATE(T31,N31) -> UNITKB/TK Bantuan Pulsa Bendahara
B32: 45848 | C32: 531001 | D32: 13 | E32: Transport KS | G32: 200000 | H32: =H31+F32-G32 -> 26118739 | J32: =D32 -> 13 | K32: =DAY(B32) -> 10 | L32: =PROPER(TRIM(MID(SUBSTITUTE($B$3," ",REPT(" ",99)),99*INT((LEN($B$3)-LEN(SUBSTITUTE($B$3," ","")))/2),99))) -> Juli | M32: =IF(J32<1," ","JV-KB/TK-"&$L$10&"-"&J32) -> JV-KB/TK-bulan-13 | N32: ="KB/TK "&E32 -> KB/TK Transport KS | P32: =E32 -> Transport KS | Q32: =F32+G32 -> 200000 | R32: =Q32 -> 200000 | T32: =$T$10 -> UNIT | U32: =CONCATENATE(T32,N32) -> UNITKB/TK Transport KS
B33: 45848 | C33: 531002 | D33: 14 | E33: Transport WKS | G33: 450000 | H33: =H32+F33-G33 -> 25668739 | J33: =D33 -> 14 | K33: =DAY(B33) -> 10 | L33: =PROPER(TRIM(MID(SUBSTITUTE($B$3," ",REPT(" ",99)),99*INT((LEN($B$3)-LEN(SUBSTITUTE($B$3," ","")))/2),99))) -> Juli | M33: =IF(J33<1," ","JV-KB/TK-"&$L$10&"-"&J33) -> JV-KB/TK-bulan-14 | N33: ="KB/TK "&E33 -> KB/TK Transport WKS | P33: =E33 -> Transport WKS | Q33: =F33+G33 -> 450000 | R33: =Q33 -> 450000 | T33: =$T$10 -> UNIT | U33: =CONCATENATE(T33,N33) -> UNITKB/TK Transport WKS
B34: 45848 | C34: 531022 | D34: 15 | E34: Transport Bendahara | G34: 150000 | H34: =H33+F34-G34 -> 25518739 | J34: =D34 -> 15 | K34: =DAY(B34) -> 10 | L34: =PROPER(TRIM(MID(SUBSTITUTE($B$3," ",REPT(" ",99)),99*INT((LEN($B$3)-LEN(SUBSTITUTE($B$3," ","")))/2),99))) -> Juli | M34: =IF(J34<1," ","JV-KB/TK-"&$L$10&"-"&J34) -> JV-KB/TK-bulan-15 | N34: ="KB/TK "&E34 -> KB/TK Transport Bendahara | P34: =E34 -> Transport Bendahara | Q34: =F34+G34 -> 150000 | R34: =Q34 -> 150000 | T34: =$T$10 -> UNIT | U34: =CONCATENATE(T34,N34) -> UNITKB/TK Transport Bendahara
B35: 45849 | E35: Pengambilan dana dropping dari BSM | F35: 10000000 | H35: =H34+F35-G35 -> 35518739 | J35: =D35 -> 0 | K35: =DAY(B35) -> 11 | L35: =PROPER(TRIM(MID(SUBSTITUTE($B$3," ",REPT(" ",99)),99*INT((LEN($B$3)-LEN(SUBSTITUTE($B$3," ","")))/2),99))) -> Juli | M35: =IF(J35<1," ","JV-KB/TK-"&$L$10&"-"&J35) | N35: ="KB/TK "&E35 -> KB/TK Pengambilan dana dropping dari BSM | P35: =E35 -> Pengambilan dana dropping dari BSM | Q35: =F35+G35 -> 10000000 | R35: =Q35 -> 10000000 | T35: =$T$10 -> UNIT | U35: =CONCATENATE(T35,N35) -> UNITKB/TK Pengambilan dana dropping dari BSM
B36: 45849 | E36: Diterima kas tunai di bendahara | G36: 10000000 | H36: =H35+F36-G36 -> 25518739 | J36: =D36 -> 0 | K36: =DAY(B36) -> 11 | L36: =PROPER(TRIM(MID(SUBSTITUTE($B$3," ",REPT(" ",99)),99*INT((LEN($B$3)-LEN(SUBSTITUTE($B$3," ","")))/2),99))) -> Juli | M36: =IF(J36<1," ","JV-KB/TK-"&$L$10&"-"&J36) | N36: ="KB/TK "&E36 -> KB/TK Diterima kas tunai di bendahara | P36: =E36 -> Diterima kas tunai di bendahara | Q36: =F36+G36 -> 10000000 | R36: =Q36 -> 10000000 | T36: =$T$10 -> UNIT | U36: =CONCATENATE(T36,N36) -> UNITKB/TK Diterima kas tunai di bendahara
B37: 45849 | C37: 516120 | D37: 16 | E37: Rapat Kerja Sekolah | G37: 450000 | H37: =H36+F37-G37 -> 25068739 | J37: =D37 -> 16 | K37: =DAY(B37) -> 11 | L37: =PROPER(TRIM(MID(SUBSTITUTE($B$3," ",REPT(" ",99)),99*INT((LEN($B$3)-LEN(SUBSTITUTE($B$3," ","")))/2),99))) -> Juli | M37: =IF(J37<1," ","JV-KB/TK-"&$L$10&"-"&J37) -> JV-KB/TK-bulan-16 | N37: ="KB/TK "&E37 -> KB/TK Rapat Kerja Sekolah | P37: =E37 -> Rapat Kerja Sekolah | Q37: =F37+G37 -> 450000 | R37: =Q37 -> 450000 | T37: =$T$10 -> UNIT | U37: =CONCATENATE(T37,N37) -> UNITKB/TK Rapat Kerja Sekolah
B38: 45850 | C38: 530702 | D38: 17 | E38: Kegiatan Insidental | G38: 432000 | H38: =H37+F38-G38 -> 24636739 | J38: =D38 -> 17 | K38: =DAY(B38) -> 12 | L38: =PROPER(TRIM(MID(SUBSTITUTE($B$3," ",REPT(" ",99)),99*INT((LEN($B$3)-LEN(SUBSTITUTE($B$3," ","")))/2),99))) -> Juli | M38: =IF(J38<1," ","JV-KB/TK-"&$L$10&"-"&J38) -> JV-KB/TK-bulan-17 | N38: ="KB/TK "&E38 -> KB/TK Kegiatan Insidental | P38: =E38 -> Kegiatan Insidental | Q38: =F38+G38 -> 432000 | R38: =Q38 -> 432000 | T38: =$T$10 -> UNIT | U38: =CONCATENATE(T38,N38) -> UNITKB/TK Kegiatan Insidental
B39: 45851 | C39: 515108 | D39: 18 | E39: Perawatan Gedung | G39: 125000 | H39: =H38+F39-G39 -> 24511739 | J39: =D39 -> 18 | K39: =DAY(B39) -> 13 | L39: =PROPER(TRIM(MID(SUBSTITUTE($B$3," ",REPT(" ",99)),99*INT((LEN($B$3)-LEN(SUBSTITUTE($B$3," ","")))/2),99))) -> Juli | M39: =IF(J39<1," ","JV-KB/TK-"&$L$10&"-"&J39) -> JV-KB/TK-bulan-18 | N39: ="KB/TK "&E39 -> KB/TK Perawatan Gedung | P39: =E39 -> Perawatan Gedung | Q39: =F39+G39 -> 125000 | R39: =Q39 -> 125000 | T39: =$T$10 -> UNIT | U39: =CONCATENATE(T39,N39) -> UNITKB/TK Perawatan Gedung
B40: 45852 | C40: 515115 | D40: 19 | E40: Perawatan Kebun dan Taman | G40: 585000 | H40: =H39+F40-G40 -> 23926739 | J40: =D40 -> 19 | K40: =DAY(B40) -> 14 | L40: =PROPER(TRIM(MID(SUBSTITUTE($B$3," ",REPT(" ",99)),99*INT((LEN($B$3)-LEN(SUBSTITUTE($B$3," ","")))/2),99))) -> Juli | M40: =IF(J40<1," ","JV-KB/TK-"&$L$10&"-"&J40) -> JV-KB/TK-bulan-19 | N40: ="KB/TK "&E40 -> KB/TK Perawatan Kebun dan Taman | P40: =E40 -> Perawatan Kebun dan Taman | Q40: =F40+G40 -> 585000 | R40: =Q40 -> 585000 | T40: =$T$10 -> UNIT | U40: =CONCATENATE(T40,N40) -> UNITKB/TK Perawatan Kebun dan Taman
B41: 45853 | C41: 530918 | D41: 20 | E41: Penarikan Sampah | G41: 350000 | H41: =H40+F41-G41 -> 23576739 | J41: =D41 -> 20 | K41: =DAY(B41) -> 15 | L41: =PROPER(TRIM(MID(SUBSTITUTE($B$3," ",REPT(" ",99)),99*INT((LEN($B$3)-LEN(SUBSTITUTE($B$3," ","")))/2),99))) -> Juli | M41: =IF(J41<1," ","JV-KB/TK-"&$L$10&"-"&J41) -> JV-KB/TK-bulan-20 | N41: ="KB/TK "&E41 -> KB/TK Penarikan Sampah | P41: =E41 -> Penarikan Sampah | Q41: =F41+G41 -> 350000 | R41: =Q41 -> 350000 | T41: =$T$10 -> UNIT | U41: =CONCATENATE(T41,N41) -> UNITKB/TK Penarikan Sampah
...

Sheet AGU25
B1: Tanggal | C1: No. Kode | D1: No. Bukti | E1: Uraian | F1: Penerimaan (Debit) | G1: Pengeluaran (Kredit) | H1: Saldo Kas | I1: 1 | J1: no | K1: tgl | L1: bulan | M1: jurnal voucher | N1: KB/TK+uraian | O1: COA | P1: URAIAN | Q1: JUMLAH (DEBIT+KREDIT) | R1: JUMLAH (DEBIT+KREDIT)2 | S1: KOSONGI | T1: UNIT | U1: CONCENATE | V1: KB/TK
B2: BUKU KAS UMUM
B3: BULAN AGUSTUS 2025
B5: Sekolah | D5: : KB & TK AL IRSYAD AL ISLAMIYYAH PURWOKERTO
B6: Desa / Kecamatan | D6: : SOKANEGARA / PURWOKERTO TIMUR
B7: Kabupaten | D7: : BANYUMAS
B8: Provinsi | D8: : JAWA TENGAH
L9: 2 | T9: KB/TK
B10: Tanggal | C10: No. Kode | D10: No. Bukti | E10: Uraian | F10: Penerimaan (Kredit) | G10: Pengeluaran (Debit) | H10: Saldo Kas | J10: no | K10: tgl | L10: bulan | M10: jurnal voucher | N10: KB/TK+uraian | O10: COA | P10: URAIAN | Q10: JUMLAH (DEBIT+KREDIT) | R10: JUMLAH (DEBIT+KREDIT)2 | S10: KOSONGI | T10: UNIT | U10: CONCENATE | V10: KB/TK
B11: 45870 | E11: Saldo bulan lalu | F11: ='JUL25'!E71 -> 79524089 | H11: =F11 -> 79524089 | J11: =D11 -> 0 | K11: =DAY(B11) -> 1 | L11: =PROPER(TRIM(MID(SUBSTITUTE($B$3," ",REPT(" ",99)),99*INT((LEN($B$3)-LEN(SUBSTITUTE($B$3," ","")))/2),99))) -> Agustus | M11: =IF(J11<1," ","JV-KB/TK-"&$L$11&"-"&J11) | N11: ="KB/TK "&E11 -> KB/TK Saldo bulan lalu | P11: =E11 -> Saldo bulan lalu | Q11: =F11+G11 -> 79524089 | R11: =Q11 -> 79524089 | T11: =$T$10 -> UNIT | U11: =CONCATENATE(T11,N11) -> UNITKB/TK Saldo bulan lalu
B12: 45870 | C12: 553100 | D12: 1 | E12: Biaya Lain-Lain | G12: 325400 | H12: =H11+F12-G12 -> 79198689 | J12: =D12 -> 1 | K12: =DAY(B12) -> 1 | L12: =PROPER(TRIM(MID(SUBSTITUTE($B$3," ",REPT(" ",99)),99*INT((LEN($B$3)-LEN(SUBSTITUTE($B$3," ","")))/2),99))) -> Agustus | M12: =IF(J12<1," ","JV-KB/TK-"&$L$10&"-"&J12) -> JV-KB/TK-bulan-1 | N12: ="KB/TK "&E12 -> KB/TK Biaya Lain-Lain | P12: =E12 -> Biaya Lain-Lain | Q12: =F12+G12 -> 325400 | R12: =Q12 -> 325400 | T12: =$T$10 -> UNIT | U12: =CONCATENATE(T12,N12) -> UNITKB/TK Biaya Lain-Lain
B13: 45870 | E13: Bagi Hasil atau Bonus | F13: 2975.61 | H13: =H12+F13-G13 -> 79201665 | J13: =D13 -> 0 | K13: =DAY(B13) -> 1 | L13: =PROPER(TRIM(MID(SUBSTITUTE($B$3," ",REPT(" ",99)),99*INT((LEN($B$3)-LEN(SUBSTITUTE($B$3," ","")))/2),99))) -> Agustus | M13: =IF(J13<1," ","JV-KB/TK-"&$L$10&"-"&J13) | N13: ="KB/TK "&E13 -> KB/TK Bagi Hasil atau Bonus | P13: =E13 -> Bagi Hasil atau Bonus | Q13: =F13+G13 -> 2975.61 | R13: =Q13 -> 2975.61 | T13: =$T$10 -> UNIT | U13: =CONCATENATE(T13,N13) -> UNITKB/TK Bagi Hasil atau Bonus
B14: 45870 | E14: Pajak | G14: 595.12 | H14: =H13+F14-G14 -> 79201070 | J14: =D14 -> 0 | K14: =DAY(B14) -> 1 | L14: =PROPER(TRIM(MID(SUBSTITUTE($B$3," ",REPT(" ",99)),99*INT((LEN($B$3)-LEN(SUBSTITUTE($B$3," ","")))/2),99))) -> Agustus | M14: =IF(J14<1," ","JV-KB/TK-"&$L$10&"-"&J14) | N14: ="KB/TK "&E14 -> KB/TK Pajak | P14: =E14 -> Pajak | Q14: =F14+G14 -> 595.12 | R14: =Q14 -> 595.12 | T14: =$T$10 -> UNIT | U14: =CONCATENATE(T14,N14) -> UNITKB/TK Pajak
B15: 45871 | E15: By. Adm BSMNet JUL 25 | G15: 10000 | H15: =H14+F15-G15 -> 79191070 | J15: =D15 -> 0 | K15: =DAY(B15) -> 2 | L15: =PROPER(TRIM(MID(SUBSTITUTE($B$3," ",REPT(" ",99)),99*INT((LEN($B$3)-LEN(SUBSTITUTE($B$3," ","")))/2),99))) -> Agustus | M15: =IF(J15<1," ","JV-KB/TK-"&$L$10&"-"&J15) | N15: ="KB/TK "&E15 -> KB/TK By. Adm BSMNet JUL 25 | P15: =E15 -> By. Adm BSMNet JUL 25 | Q15: =F15+G15 -> 10000 | R15: =Q15 -> 10000 | T15: =$T$10 -> UNIT | U15: =CONCATENATE(T15,N15) -> UNITKB/TK By. Adm BSMNet JUL 25
B16: 45873 | E16: Biaya Administrasi | G16: 10000 | H16: =H15+F16-G16 -> 79181070
B17: 45874 | C17: 530918 | D17: 2 | E17: Penarikan Sampah | G17: 350000 | H17: =H16+F17-G17 -> 78831070 | J17: =D17 -> 2 | K17: =DAY(B17) -> 5 | L17: =PROPER(TRIM(MID(SUBSTITUTE($B$3," ",REPT(" ",99)),99*INT((LEN($B$3)-LEN(SUBSTITUTE($B$3," ","")))/2),99))) -> Agustus | M17: =IF(J17<1," ","JV-KB/TK-"&$L$10&"-"&J17) -> JV-KB/TK-bulan-2 | N17: ="KB/TK "&E17 -> KB/TK Penarikan Sampah | P17: =E17 -> Penarikan Sampah | Q17: =F17+G17 -> 350000 | R17: =Q17 -> 350000 | T17: =$T$10 -> UNIT | U17: =CONCATENATE(T17,N17) -> UNITKB/TK Penarikan Sampah
B18: 45875 | C18: 540224/120231 | D18: 3 | E18: Printer | G18: 498000 | H18: =H17+F18-G18 -> 78333070 | J18: =D18 -> 3 | K18: =DAY(B18) -> 6 | L18: =PROPER(TRIM(MID(SUBSTITUTE($B$3," ",REPT(" ",99)),99*INT((LEN($B$3)-LEN(SUBSTITUTE($B$3," ","")))/2),99))) -> Agustus | M18: =IF(J18<1," ","JV-KB/TK-"&$L$10&"-"&J18) -> JV-KB/TK-bulan-3 | N18: ="KB/TK "&E18 -> KB/TK Printer | P18: =E18 -> Printer | Q18: =F18+G18 -> 498000 | R18: =Q18 -> 498000 | T18: =$T$10 -> UNIT | U18: =CONCATENATE(T18,N18) -> UNITKB/TK Printer
B19: 45876 | E19: Pengambilan dana dropping dari BSM | F19: 15000000 | H19: =H18+F19-G19 -> 93333070 | J19: =D19 -> 0 | K19: =DAY(B19) -> 7 | L19: =PROPER(TRIM(MID(SUBSTITUTE($B$3," ",REPT(" ",99)),99*INT((LEN($B$3)-LEN(SUBSTITUTE($B$3," ","")))/2),99))) -> Agustus | M19: =IF(J19<1," ","JV-KB/TK-"&$L$10&"-"&J19) | N19: ="KB/TK "&E19 -> KB/TK Pengambilan dana dropping dari BSM | P19: =E19 -> Pengambilan dana dropping dari BSM | Q19: =F19+G19 -> 15000000 | R19: =Q19 -> 15000000 | T19: =$T$10 -> UNIT | U19: =CONCATENATE(T19,N19) -> UNITKB/TK Pengambilan dana dropping dari BSM
B20: 45876 | E20: Diterima kas tunai di Bendahara | G20: 15000000 | H20: =H19+F20-G20 -> 78333070 | J20: =D20 -> 0 | K20: =DAY(B20) -> 7 | L20: =PROPER(TRIM(MID(SUBSTITUTE($B$3," ",REPT(" ",99)),99*INT((LEN($B$3)-LEN(SUBSTITUTE($B$3," ","")))/2),99))) -> Agustus | M20: =IF(J20<1," ","JV-KB/TK-"&$L$10&"-"&J20) | N20: ="KB/TK "&E20 -> KB/TK Diterima kas tunai di Bendahara | P20: =E20 -> Diterima kas tunai di Bendahara | Q20: =F20+G20 -> 15000000 | R20: =Q20 -> 15000000 | T20: =$T$10 -> UNIT | U20: =CONCATENATE(T20,N20) -> UNITKB/TK Diterima kas tunai di Bendahara
B21: 45876 | E21: Pengambilan dana dropping dari BSM | F21: 20000000 | H21: =H20+F21-G21 -> 98333070 | J21: =D21 -> 0 | K21: =DAY(B21) -> 7 | L21: =PROPER(TRIM(MID(SUBSTITUTE($B$3," ",REPT(" ",99)),99*INT((LEN($B$3)-LEN(SUBSTITUTE($B$3," ","")))/2),99))) -> Agustus | M21: =IF(J21<1," ","JV-KB/TK-"&$L$10&"-"&J21) | N21: ="KB/TK "&E21 -> KB/TK Pengambilan dana dropping dari BSM | P21: =E21 -> Pengambilan dana dropping dari BSM | Q21: =F21+G21 -> 20000000 | R21: =Q21 -> 20000000 | T21: =$T$10 -> UNIT | U21: =CONCATENATE(T21,N21) -> UNITKB/TK Pengambilan dana dropping dari BSM
B22: 45876 | E22: Diterima kas tunai di Bendahara | G22: 20000000 | H22: =H21+F22-G22 -> 78333070 | J22: =D22 -> 0 | K22: =DAY(B22) -> 7 | L22: =PROPER(TRIM(MID(SUBSTITUTE($B$3," ",REPT(" ",99)),99*INT((LEN($B$3)-LEN(SUBSTITUTE($B$3," ","")))/2),99))) -> Agustus | M22: =IF(J22<1," ","JV-KB/TK-"&$L$10&"-"&J22) | N22: ="KB/TK "&E22 -> KB/TK Diterima kas tunai di Bendahara | P22: =E22 -> Diterima kas tunai di Bendahara | Q22: =F22+G22 -> 20000000 | R22: =Q22 -> 20000000 | T22: =$T$10 -> UNIT | U22: =CONCATENATE(T22,N22) -> UNITKB/TK Diterima kas tunai di Bendahara
B23: 45877 | C23: 530218 | D23: 4 | E23: Refill Gas | G23: 215000 | H23: =H22+F23-G23 -> 78118070 | J23: =D23 -> 4 | K23: =DAY(B23) -> 8 | L23: =PROPER(TRIM(MID(SUBSTITUTE($B$3," ",REPT(" ",99)),99*INT((LEN($B$3)-LEN(SUBSTITUTE($B$3," ","")))/2),99))) -> Agustus | M23: =IF(J23<1," ","JV-KB/TK-"&$L$10&"-"&J23) -> JV-KB/TK-bulan-4 | N23: ="KB/TK "&E23 -> KB/TK Refill Gas | P23: =E23 -> Refill Gas | Q23: =F23+G23 -> 215000 | R23: =Q23 -> 215000 | T23: =$T$10 -> UNIT | U23: =CONCATENATE(T23,N23) -> UNITKB/TK Refill Gas
B24: 45877 | C24: 530404 | D24: 5 | E24: Buku PAI | G24: 9295000 | H24: =H23+F24-G24 -> 68823070 | J24: =D24 -> 5 | K24: =DAY(B24) -> 8 | L24: =PROPER(TRIM(MID(SUBSTITUTE($B$3," ",REPT(" ",99)),99*INT((LEN($B$3)-LEN(SUBSTITUTE($B$3," ","")))/2),99))) -> Agustus | M24: =IF(J24<1," ","JV-KB/TK-"&$L$10&"-"&J24) -> JV-KB/TK-bulan-5 | N24: ="KB/TK "&E24 -> KB/TK Buku PAI | P24: =E24 -> Buku PAI | Q24: =F24+G24 -> 9295000 | R24: =Q24 -> 9295000 | T24: =$T$10 -> UNIT | U24: =CONCATENATE(T24,N24) -> UNITKB/TK Buku PAI
B25: 45877 | C25: 530801 | D25: 6 | E25: Internet | G25: 870900 | H25: =H24+F25-G25 -> 67952170 | J25: =D25 -> 6 | K25: =DAY(B25) -> 8 | L25: =PROPER(TRIM(MID(SUBSTITUTE($B$3," ",REPT(" ",99)),99*INT((LEN($B$3)-LEN(SUBSTITUTE($B$3," ","")))/2),99))) -> Agustus | M25: =IF(J25<1," ","JV-KB/TK-"&$L$10&"-"&J25) -> JV-KB/TK-bulan-6 | N25: ="KB/TK "&E25 -> KB/TK Internet | P25: =E25 -> Internet | Q25: =F25+G25 -> 870900 | R25: =Q25 -> 870900 | T25: =$T$10 -> UNIT | U25: =CONCATENATE(T25,N25) -> UNITKB/TK Internet
B26: 45877 | C26: 530802 | D26: 7 | E26: Listrik | G26: 2810800 | H26: =H25+F26-G26 -> 65141370 | J26: =D26 -> 7 | K26: =DAY(B26) -> 8 | L26: =PROPER(TRIM(MID(SUBSTITUTE($B$3," ",REPT(" ",99)),99*INT((LEN($B$3)-LEN(SUBSTITUTE($B$3," ","")))/2),99))) -> Agustus | M26: =IF(J26<1," ","JV-KB/TK-"&$L$10&"-"&J26) -> JV-KB/TK-bulan-7 | N26: ="KB/TK "&E26 -> KB/TK Listrik | P26: =E26 -> Listrik | Q26: =F26+G26 -> 2810800 | R26: =Q26 -> 2810800 | T26: =$T$10 -> UNIT | U26: =CONCATENATE(T26,N26) -> UNITKB/TK Listrik
B27: 45877 | C27: 530803 | D27: 8 | E27: PDAM | G27: 42800 | H27: =H26+F27-G27 -> 65098570 | J27: =D27 -> 8 | K27: =DAY(B27) -> 8 | L27: =PROPER(TRIM(MID(SUBSTITUTE($B$3," ",REPT(" ",99)),99*INT((LEN($B$3)-LEN(SUBSTITUTE($B$3," ","")))/2),99))) -> Agustus | M27: =IF(J27<1," ","JV-KB/TK-"&$L$10&"-"&J27) -> JV-KB/TK-bulan-8 | N27: ="KB/TK "&E27 -> KB/TK PDAM | P27: =E27 -> PDAM | Q27: =F27+G27 -> 42800 | R27: =Q27 -> 42800 | T27: =$T$10 -> UNIT | U27: =CONCATENATE(T27,N27) -> UNITKB/TK PDAM
B28: 45877 | C28: 530804 | D28: 9 | E28: Telepon | G28: 759200 | H28: =H27+F28-G28 -> 64339370 | J28: =D28 -> 9 | K28: =DAY(B28) -> 8 | L28: =PROPER(TRIM(MID(SUBSTITUTE($B$3," ",REPT(" ",99)),99*INT((LEN($B$3)-LEN(SUBSTITUTE($B$3," ","")))/2),99))) -> Agustus | M28: =IF(J28<1," ","JV-KB/TK-"&$L$10&"-"&J28) -> JV-KB/TK-bulan-9 | N28: ="KB/TK "&E28 -> KB/TK Telepon | P28: =E28 -> Telepon | Q28: =F28+G28 -> 759200 | R28: =Q28 -> 759200 | T28: =$T$10 -> UNIT | U28: =CONCATENATE(T28,N28) -> UNITKB/TK Telepon
B29: 45877 | C29: 531010 | D29: 10 | E29: Operasional Mobil Sekolah | G29: 29000 | H29: =H28+F29-G29 -> 64310370 | J29: =D29 -> 10 | K29: =DAY(B29) -> 8 | L29: =PROPER(TRIM(MID(SUBSTITUTE($B$3," ",REPT(" ",99)),99*INT((LEN($B$3)-LEN(SUBSTITUTE($B$3," ","")))/2),99))) -> Agustus | M29: =IF(J29<1," ","JV-KB/TK-"&$L$10&"-"&J29) -> JV-KB/TK-bulan-10 | N29: ="KB/TK "&E29 -> KB/TK Operasional Mobil Sekolah | P29: =E29 -> Operasional Mobil Sekolah | Q29: =F29+G29 -> 29000 | R29: =Q29 -> 29000 | T29: =$T$10 -> UNIT | U29: =CONCATENATE(T29,N29) -> UNITKB/TK Operasional Mobil Sekolah
B30: 45878 | C30: 515806 | D30: 11 | E30: Studio Rekaman Mini | G30: 2018700 | H30: =H29+F30-G30 -> 62291670 | J30: =D30 -> 11 | K30: =DAY(B30) -> 9 | L30: =PROPER(TRIM(MID(SUBSTITUTE($B$3," ",REPT(" ",99)),99*INT((LEN($B$3)-LEN(SUBSTITUTE($B$3," ","")))/2),99))) -> Agustus | M30: =IF(J30<1," ","JV-KB/TK-"&$L$10&"-"&J30) -> JV-KB/TK-bulan-11 | N30: ="KB/TK "&E30 -> KB/TK Studio Rekaman Mini | P30: =E30 -> Studio Rekaman Mini | Q30: =F30+G30 -> 2018700 | R30: =Q30 -> 2018700 | T30: =$T$10 -> UNIT | U30: =CONCATENATE(T30,N30) -> UNITKB/TK Studio Rekaman Mini
B31: 45878 | C31: 516080 | D31: 12 | E31: Kegiatan Parenting | G31: 1332650 | H31: =H30+F31-G31 -> 60959020 | J31: =D31 -> 12 | K31: =DAY(B31) -> 9 | L31: =PROPER(TRIM(MID(SUBSTITUTE($B$3," ",REPT(" ",99)),99*INT((LEN($B$3)-LEN(SUBSTITUTE($B$3," ","")))/2),99))) -> Agustus | M31: =IF(J31<1," ","JV-KB/TK-"&$L$10&"-"&J31) -> JV-KB/TK-bulan-12 | N31: ="KB/TK "&E31 -> KB/TK Kegiatan Parenting | P31: =E31 -> Kegiatan Parenting | Q31: =F31+G31 -> 1332650 | R31: =Q31 -> 1332650 | T31: =$T$10 -> UNIT | U31: =CONCATENATE(T31,N31) -> UNITKB/TK Kegiatan Parenting
B32: 45878 | C32: 530212 | D32: 13 | E32: Obat pembersih & pengharum | G32: 724600 | H32: =H31+F32-G32 -> 60234420 | J32: =D32 -> 13 | K32: =DAY(B32) -> 9 | L32: =PROPER(TRIM(MID(SUBSTITUTE($B$3," ",REPT(" ",99)),99*INT((LEN($B$3)-LEN(SUBSTITUTE($B$3," ","")))/2),99))) -> Agustus | M32: =IF(J32<1," ","JV-KB/TK-"&$L$10&"-"&J32) -> JV-KB/TK-bulan-13 | N32: ="KB/TK "&E32 -> KB/TK Obat pembersih & pengharum | P32: =E32 -> Obat pembersih & pengharum | Q32: =F32+G32 -> 724600 | R32: =Q32 -> 724600 | T32: =$T$10 -> UNIT | U32: =CONCATENATE(T32,N32) -> UNITKB/TK Obat pembersih & pengharum
B33: 45878 | C33: 530709 | D33: 14 | E33: Minuman Guru dan Karyawan | G33: 264600 | H33: =H32+F33-G33 -> 59969820 | J33: =D33 -> 14 | K33: =DAY(B33) -> 9 | L33: =PROPER(TRIM(MID(SUBSTITUTE($B$3," ",REPT(" ",99)),99*INT((LEN($B$3)-LEN(SUBSTITUTE($B$3," ","")))/2),99))) -> Agustus | M33: =IF(J33<1," ","JV-KB/TK-"&$L$10&"-"&J33) -> JV-KB/TK-bulan-14 | N33: ="KB/TK "&E33 -> KB/TK Minuman Guru dan Karyawan | P33: =E33 -> Minuman Guru dan Karyawan | Q33: =F33+G33 -> 264600 | R33: =Q33 -> 264600 | T33: =$T$10 -> UNIT | U33: =CONCATENATE(T33,N33) -> UNITKB/TK Minuman Guru dan Karyawan
B34: 45880 | C34: 515308 | D34: 15 | E34: Perlengkapan Desain UKS | G34: 255400 | H34: =H33+F34-G34 -> 59714420 | J34: =D34 -> 15 | K34: =DAY(B34) -> 11 | L34: =PROPER(TRIM(MID(SUBSTITUTE($B$3," ",REPT(" ",99)),99*INT((LEN($B$3)-LEN(SUBSTITUTE($B$3," ","")))/2),99))) -> Agustus | M34: =IF(J34<1," ","JV-KB/TK-"&$L$10&"-"&J34) -> JV-KB/TK-bulan-15 | N34: ="KB/TK "&E34 -> KB/TK Perlengkapan Desain UKS | P34: =E34 -> Perlengkapan Desain UKS | Q34: =F34+G34 -> 255400 | R34: =Q34 -> 255400 | T34: =$T$10 -> UNIT | U34: =CONCATENATE(T34,N34) -> UNITKB/TK Perlengkapan Desain UKS
... B48: 45886 | C48: 553100 | D48: 29 | E48: Biaya Lain-Lain | G48: 1129500 | H48: =H47+F48-G48 -> 54255520 | J48: =D48 -> 29 | K48: =DAY(B48) -> 17 | L48: =PROPER(TRIM(MID(SUBSTITUTE($B$3," ",REPT(" ",99)),99*INT((LEN($B$3)-LEN(SUBSTITUTE($B$3," ","")))/2),99))) -> Agustus | M48: =IF(J48<1," ","JV-KB/TK-"&$L$10&"-"&J48) -> JV-KB/TK-bulan-29 | N48: ="KB/TK "&E48 -> KB/TK Biaya Lain-Lain | P48: =E48 -> Biaya Lain-Lain | Q48: =F48+G48 -> 1129500 | R48: =Q48 -> 1129500 | T48: =$T$10 -> UNIT | U48: =CONCATENATE(T48,N48) -> UNITKB/TK Biaya Lain-Lain
B49: 45888 | C49: 515114 | D49: 30 | E49: Perawatan Karpet dan Sarana Ibadah | G49: 690000 | H49: =H48+F49-G49 -> 53565520 | N49: ="KB/TK "&E49 -> KB/TK Perawatan Karpet dan Sarana Ibadah | P49: =E49 -> Perawatan Karpet dan Sarana Ibadah
B50: 45888 | C50: 530202 | D50: 31 | E50: Alat kebersihan | G50: 910000 | H50: =H49+F50-G50 -> 52655520 | J50: =D50 -> 31 | K50: =DAY(B50) -> 19 | L50: =PROPER(TRIM(MID(SUBSTITUTE($B$3," ",REPT(" ",99)),99*INT((LEN($B$3)-LEN(SUBSTITUTE($B$3," ","")))/2),99))) -> Agustus | M50: =IF(J50<1," ","JV-KB/TK-"&$L$10&"-"&J50) -> JV-KB/TK-bulan-31 | N50: ="KB/TK "&E50 -> KB/TK Alat kebersihan | P50: =E50 -> Alat kebersihan | Q50: =F50+G50 -> 910000 | R50: =Q50 -> 910000 | T50: =$T$10 -> UNIT | U50: =CONCATENATE(T50,N50) -> UNITKB/TK Alat kebersihan
B51: 45889 | C51: 530906 | D51: 32 | E51: GOPTKI | G51: 20000 | H51: =H50+F51-G51 -> 52635520 | J51: =D51 -> 32 | K51: =DAY(B51) -> 20 | L51: =PROPER(TRIM(MID(SUBSTITUTE($B$3," ",REPT(" ",99)),99*INT((LEN($B$3)-LEN(SUBSTITUTE($B$3," ","")))/2),99))) -> Agustus | M51: =IF(J51<1," ","JV-KB/TK-"&$L$10&"-"&J51) -> JV-KB/TK-bulan-32 | N51: ="KB/TK "&E51 -> KB/TK GOPTKI | P51: =E51 -> GOPTKI | Q51: =F51+G51 -> 20000 | R51: =Q51 -> 20000 | T51: =$T$10 -> UNIT | U51: =CONCATENATE(T51,N51) -> UNITKB/TK GOPTKI
B52: 45891 | C52: 530304 | D52: 33 | E52: Batu Baterai | G52: 100000 | H52: =H51+F52-G52 -> 52535520 | J52: =D52 -> 33 | K52: =DAY(B52) -> 22 | L52: =PROPER(TRIM(MID(SUBSTITUTE($B$3," ",REPT(" ",99)),99*INT((LEN($B$3)-LEN(SUBSTITUTE($B$3," ","")))/2),99))) -> Agustus | M52: =IF(J52<1," ","JV-KB/TK-"&$L$10&"-"&J52) -> JV-KB/TK-bulan-33 | N52: ="KB/TK "&E52 -> KB/TK Batu Baterai | P52: =E52 -> Batu Baterai | Q52: =F52+G52 -> 100000 | R52: =Q52 -> 100000 | T52: =$T$10 -> UNIT | U52: =CONCATENATE(T52,N52) -> UNITKB/TK Batu Baterai
B53: 45892 | C53: 530127 | D53: 34 | E53: ATK Lain-lain | G53: 244500 | H53: =H52+F53-G53 -> 52291020 | J53: =D53 -> 34 | K53: =DAY(B53) -> 23 | L53: =PROPER(TRIM(MID(SUBSTITUTE($B$3," ",REPT(" ",99)),99*INT((LEN($B$3)-LEN(SUBSTITUTE($B$3," ","")))/2),99))) -> Agustus | M53: =IF(J53<1," ","JV-KB/TK-"&$L$10&"-"&J53) -> JV-KB/TK-bulan-34 | N53: ="KB/TK "&E53 -> KB/TK ATK Lain-lain | P53: =E53 -> ATK Lain-lain | Q53: =F53+G53 -> 244500 | R53: =Q53 -> 244500 | T53: =$T$10 -> UNIT | U53: =CONCATENATE(T53,N53) -> UNITKB/TK ATK Lain-lain
B54: 45892 | C54: 530201 | D54: 35 | E54: Alat Dapur | G54: 25800 | H54: =H53+F54-G54 -> 52265220 | J54: =D54 -> 35 | K54: =DAY(B54) -> 23 | L54: =PROPER(TRIM(MID(SUBSTITUTE($B$3," ",REPT(" ",99)),99*INT((LEN($B$3)-LEN(SUBSTITUTE($B$3," ","")))/2),99))) -> Agustus | M54: =IF(J54<1," ","JV-KB/TK-"&$L$10&"-"&J54) -> JV-KB/TK-bulan-35 | N54: ="KB/TK "&E54 -> KB/TK Alat Dapur | P54: =E54 -> Alat Dapur | Q54: =F54+G54 -> 25800 | R54: =Q54 -> 25800 | T54: =$T$10 -> UNIT | U54: =CONCATENATE(T54,N54) -> UNITKB/TK Alat Dapur
...

Sheet SEP25
B1: Tanggal | C1: No. Kode | D1: No. Bukti | E1: Uraian | F1: Penerimaan (Debit) | G1: Pengeluaran (Kredit) | H1: Saldo Kas | I1: 1 | J1: no | K1: tgl | L1: bulan | M1: jurnal voucher | N1: KB/TK+uraian | O1: COA | P1: URAIAN | Q1: JUMLAH (DEBIT+KREDIT) | R1: JUMLAH (DEBIT+KREDIT)2 | S1: KOSONGI | T1: UNIT | U1: CONCENATE | V1: KB/TK
B2: BUKU KAS UMUM
B3: BULAN SEPTEMBER 2025
B5: Sekolah | D5: : KB & TK AL IRSYAD AL ISLAMIYYAH PURWOKERTO
B6: Desa / Kecamatan | D6: : SOKANEGARA / PURWOKERTO TIMUR
B7: Kabupaten | D7: : BANYUMAS
B8: Provinsi | D8: : JAWA TENGAH
L9: 2 | T9: KB/TK
B10: Tanggal | C10: No. Kode | D10: No. Bukti | E10: Uraian | F10: Penerimaan (Kredit) | G10: Pengeluaran (Debit) | H10: Saldo Kas | J10: no | K10: tgl | L10: bulan | M10: jurnal voucher | N10: KB/TK+uraian | O10: COA | P10: URAIAN | Q10: JUMLAH (DEBIT+KREDIT) | R10: JUMLAH (DEBIT+KREDIT)2 | S10: KOSONGI | T10: UNIT | U10: CONCENATE | V10: KB/TK
B11: 45901 | E11: Saldo bulan lalu | F11: ='AGU25'!F77 -> 3.0246433e+08 | H11: =F11 -> 3.0246433e+08 | J11: =D11 -> 0 | K11: =DAY(B11) -> 1 | L11: =PROPER(TRIM(MID(SUBSTITUTE($B$3," ",REPT(" ",99)),99*INT((LEN($B$3)-LEN(SUBSTITUTE($B$3," ","")))/2),99))) -> September | M11: =IF(J11<1," ","JV-KB/TK-"&$L$11&"-"&J11) | N11: ="KB/TK "&E11 -> KB/TK Saldo bulan lalu | P11: =E11 -> Saldo bulan lalu | Q11: =F11+G11 -> 3.0246433e+08 | R11: =Q11 -> 3.0246433e+08 | T11: =$T$10 -> UNIT | U11: =CONCATENATE(T11,N11) -> UNITKB/TK Saldo bulan lalu
B12: 45901 | C12: 530701 | D12: 1 | E12: Air mineral galon | G12: 620000 | H12: =H11+F12-G12 -> 3.0184433e+08 | J12: =D12 -> 1 | K12: =DAY(B12) -> 1 | L12: =PROPER(TRIM(MID(SUBSTITUTE($B$3," ",REPT(" ",99)),99*INT((LEN($B$3)-LEN(SUBSTITUTE($B$3," ","")))/2),99))) -> September | M12: =IF(J12<1," ","JV-KB/TK-"&$L$11&"-"&J12) -> JV-KB/TK-September-1 | N12: ="KB/TK "&E12 -> KB/TK Air mineral galon | P12: =E12 -> Air mineral galon | Q12: =F12+G12 -> 620000 | R12: =Q12 -> 620000 | T12: =$T$10 -> UNIT | U12: =CONCATENATE(T12,N12) -> UNITKB/TK Air mineral galon
B13: 45901 | E13: Pengambilan Droping (Sewa Sound Milad) | F13: 700000 | H13: =H12+F13-G13 -> 3.0254433e+08 | J13: =D13 -> 0 | K13: =DAY(B13) -> 1 | L13: =PROPER(TRIM(MID(SUBSTITUTE($B$3," ",REPT(" ",99)),99*INT((LEN($B$3)-LEN(SUBSTITUTE($B$3," ","")))/2),99))) -> September | M13: =IF(J13<1," ","JV-KB/TK-"&$L$11&"-"&J13) | N13: ="KB/TK "&E13 -> KB/TK Pengambilan Droping (Sewa Sound Milad) | P13: =E13 -> Pengambilan Droping (Sewa Sound Milad) | Q13: =F13+G13 -> 700000 | R13: =Q13 -> 700000 | T13: =$T$10 -> UNIT | U13: =CONCATENATE(T13,N13) -> UNITKB/TK Pengambilan Droping (Sewa Sound Milad)
B14: 45901 | E14: Diterima kas tunai di Bendahara | G14: 700000 | H14: =H13+F14-G14 -> 3.0184433e+08 | J14: =D14 -> 0 | K14: =DAY(B14) -> 1 | L14: =PROPER(TRIM(MID(SUBSTITUTE($B$3," ",REPT(" ",99)),99*INT((LEN($B$3)-LEN(SUBSTITUTE($B$3," ","")))/2),99))) -> September | M14: =IF(J14<1," ","JV-KB/TK-"&$L$11&"-"&J14) | N14: ="KB/TK "&E14 -> KB/TK Diterima kas tunai di Bendahara | P14: =E14 -> Diterima kas tunai di Bendahara | Q14: =F14+G14 -> 700000 | R14: =Q14 -> 700000 | T14: =$T$10 -> UNIT | U14: =CONCATENATE(T14,N14) -> UNITKB/TK Diterima kas tunai di Bendahara
B15: 45902 | E15: By. Adm BSMNet AUG 25 | G15: 10000 | H15: =H14+F15-G15 -> 3.0183433e+08 | J15: =D15 -> 0 | K15: =DAY(B15) -> 2 | L15: =PROPER(TRIM(MID(SUBSTITUTE($B$3," ",REPT(" ",99)),99*INT((LEN($B$3)-LEN(SUBSTITUTE($B$3," ","")))/2),99))) -> September | M15: =IF(J15<1," ","JV-KB/TK-"&$L$11&"-"&J15) | N15: ="KB/TK "&E15 -> KB/TK By. Adm BSMNet AUG 25 | P15: =E15 -> By. Adm BSMNet AUG 25 | Q15: =F15+G15 -> 10000 | R15: =Q15 -> 10000 | T15: =$T$10 -> UNIT | U15: =CONCATENATE(T15,N15) -> UNITKB/TK By. Adm BSMNet AUG 25
B16: 45904 | E16: Biaya Administrasi | G16: 10000 | H16: =H15+F16-G16 -> 3.0182433e+08 | J16: =D16 -> 0 | K16: =DAY(B16) -> 4 | L16: =PROPER(TRIM(MID(SUBSTITUTE($B$3," ",REPT(" ",99)),99*INT((LEN($B$3)-LEN(SUBSTITUTE($B$3," ","")))/2),99))) -> September | M16: =IF(J16<1," ","JV-KB/TK-"&$L$11&"-"&J16) | N16: ="KB/TK "&E16 -> KB/TK Biaya Administrasi | P16: =E16 -> Biaya Administrasi | Q16: =F16+G16 -> 10000 | R16: =Q16 -> 10000 | T16: =$T$10 -> UNIT | U16: =CONCATENATE(T16,N16) -> UNITKB/TK Biaya Administrasi
B17: 45904 | C17: 530801 | D17: 2 | E17: Internet | G17: 1065100 | H17: =H16+F17-G17 -> 3.0075923e+08 | J17: =D17 -> 2 | K17: =DAY(B17) -> 4 | L17: =PROPER(TRIM(MID(SUBSTITUTE($B$3," ",REPT(" ",99)),99*INT((LEN($B$3)-LEN(SUBSTITUTE($B$3," ","")))/2),99))) -> September | M17: =IF(J17<1," ","JV-KB/TK-"&$L$11&"-"&J17) -> JV-KB/TK-September-2 | N17: ="KB/TK "&E17 -> KB/TK Internet | P17: =E17 -> Internet | Q17: =F17+G17 -> 1065100 | R17: =Q17 -> 1065100 | T17: =$T$10 -> UNIT | U17: =CONCATENATE(T17,N17) -> UNITKB/TK Internet
B18: 45904 | C18: 530802 | D18: 3 | E18: Listrik | G18: 4531400 | H18: =H17+F18-G18 -> 2.9622783e+08 | J18: =D18 -> 3 | K18: =DAY(B18) -> 4 | L18: =PROPER(TRIM(MID(SUBSTITUTE($B$3," ",REPT(" ",99)),99*INT((LEN($B$3)-LEN(SUBSTITUTE($B$3," ","")))/2),99))) -> September | M18: =IF(J18<1," ","JV-KB/TK-"&$L$11&"-"&J18) -> JV-KB/TK-September-3 | N18: ="KB/TK "&E18 -> KB/TK Listrik | P18: =E18 -> Listrik | Q18: =F18+G18 -> 4531400 | R18: =Q18 -> 4531400 | T18: =$T$10 -> UNIT | U18: =CONCATENATE(T18,N18) -> UNITKB/TK Listrik
B19: 45904 | C19: 530803 | D19: 4 | E19: PDAM | G19: 109100 | H19: =H18+F19-G19 -> 2.9611873e+08 | J19: =D19 -> 4 | K19: =DAY(B19) -> 4 | L19: =PROPER(TRIM(MID(SUBSTITUTE($B$3," ",REPT(" ",99)),99*INT((LEN($B$3)-LEN(SUBSTITUTE($B$3," ","")))/2),99))) -> September | M19: =IF(J19<1," ","JV-KB/TK-"&$L$11&"-"&J19) -> JV-KB/TK-September-4 | N19: ="KB/TK "&E19 -> KB/TK PDAM | P19: =E19 -> PDAM | Q19: =F19+G19 -> 109100 | R19: =Q19 -> 109100 | T19: =$T$10 -> UNIT | U19: =CONCATENATE(T19,N19) -> UNITKB/TK PDAM
B20: 45909 | C20: 515307 | D20: 5 | E20: Pengobatan cepat ( Pertolongan pertama ) | G20: 355000 | H20: =H19+F20-G20 -> 2.9576373e+08 | J20: =D20 -> 5 | K20: =DAY(B20) -> 9 | L20: =PROPER(TRIM(MID(SUBSTITUTE($B$3," ",REPT(" ",99)),99*INT((LEN($B$3)-LEN(SUBSTITUTE($B$3," ","")))/2),99))) -> September | M20: =IF(J20<1," ","JV-KB/TK-"&$L$11&"-"&J20) -> JV-KB/TK-September-5 | N20: ="KB/TK "&E20 -> KB/TK Pengobatan cepat ( Pertolongan pertama ) | P20: =E20 -> Pengobatan cepat ( Pertolongan pertama ) | Q20: =F20+G20 -> 355000 | R20: =Q20 -> 355000 | T20: =$T$10 -> UNIT | U20: =CONCATENATE(T20,N20) -> UNITKB/TK Pengobatan cepat ( Pertolongan pertama )
B21: 45909 | C21: 530918 | D21: 6 | E21: Penarikan Sampah | G21: 350000 | H21: =H20+F21-G21 -> 2.9541373e+08 | J21: =D21 -> 6 | K21: =DAY(B21) -> 9 | L21: =PROPER(TRIM(MID(SUBSTITUTE($B$3," ",REPT(" ",99)),99*INT((LEN($B$3)-LEN(SUBSTITUTE($B$3," ","")))/2),99))) -> September | M21: =IF(J21<1," ","JV-KB/TK-"&$L$11&"-"&J21) -> JV-KB/TK-September-6 | N21: ="KB/TK "&E21 -> KB/TK Penarikan Sampah | P21: =E21 -> Penarikan Sampah | Q21: =F21+G21 -> 350000 | R21: =Q21 -> 350000 | T21: =$T$10 -> UNIT | U21: =CONCATENATE(T21,N21) -> UNITKB/TK Penarikan Sampah
B22: 45910 | C22: 530805 | D22: 7 | E22: Bantuan Pulsa KS | G22: 150000 | H22: =H21+F22-G22 -> 2.9526373e+08 | J22: =D22 -> 7 | K22: =DAY(B22) -> 10 | L22: =PROPER(TRIM(MID(SUBSTITUTE($B$3," ",REPT(" ",99)),99*INT((LEN($B$3)-LEN(SUBSTITUTE($B$3," ","")))/2),99))) -> September | M22: =IF(J22<1," ","JV-KB/TK-"&$L$11&"-"&J22) -> JV-KB/TK-September-7 | N22: ="KB/TK "&E22 -> KB/TK Bantuan Pulsa KS | P22: =E22 -> Bantuan Pulsa KS | Q22: =F22+G22 -> 150000 | R22: =Q22 -> 150000 | T22: =$T$10 -> UNIT | U22: =CONCATENATE(T22,N22) -> UNITKB/TK Bantuan Pulsa KS
B23: 45910 | C23: 530806 | D23: 8 | E23: Bantuan Pulsa WKS | G23: 375000 | H23: =H22+F23-G23 -> 2.9488873e+08 | J23: =D23 -> 8 | K23: =DAY(B23) -> 10 | L23: =PROPER(TRIM(MID(SUBSTITUTE($B$3," ",REPT(" ",99)),99*INT((LEN($B$3)-LEN(SUBSTITUTE($B$3," ","")))/2),99))) -> September | M23: =IF(J23<1," ","JV-KB/TK-"&$L$11&"-"&J23) -> JV-KB/TK-September-8 | N23: ="KB/TK "&E23 -> KB/TK Bantuan Pulsa WKS | P23: =E23 -> Bantuan Pulsa WKS | Q23: =F23+G23 -> 375000 | R23: =Q23 -> 375000 | T23: =$T$10 -> UNIT | U23: =CONCATENATE(T23,N23) -> UNITKB/TK Bantuan Pulsa WKS
B24: 45910 | C24: 530807 | D24: 9 | E24: Bantuan Pulsa Wali Kelas | G24: 975000 | H24: =H23+F24-G24 -> 2.9391373e+08 | J24: =D24 -> 9 | K24: =DAY(B24) -> 10 | L24: =PROPER(TRIM(MID(SUBSTITUTE($B$3," ",REPT(" ",99)),99*INT((LEN($B$3)-LEN(SUBSTITUTE($B$3," ","")))/2),99))) -> September | M24: =IF(J24<1," ","JV-KB/TK-"&$L$11&"-"&J24) -> JV-KB/TK-September-9 | N24: ="KB/TK "&E24 -> KB/TK Bantuan Pulsa Wali Kelas | P24: =E24 -> Bantuan Pulsa Wali Kelas | Q24: =F24+G24 -> 975000 | R24: =Q24 -> 975000 | T24: =$T$10 -> UNIT | U24: =CONCATENATE(T24,N24) -> UNITKB/TK Bantuan Pulsa Wali Kelas
B25: 45910 | C25: 530817 | D25: 10 | E25: Bantuan Pulsa Bendahara | G25: 50000 | H25: =H24+F25-G25 -> 2.9386373e+08 | J25: =D25 -> 10 | K25: =DAY(B25) -> 10 | L25: =PROPER(TRIM(MID(SUBSTITUTE($B$3," ",REPT(" ",99)),99*INT((LEN($B$3)-LEN(SUBSTITUTE($B$3," ","")))/2),99))) -> September | M25: =IF(J25<1," ","JV-KB/TK-"&$L$11&"-"&J25) -> JV-KB/TK-September-10 | N25: ="KB/TK "&E25 -> KB/TK Bantuan Pulsa Bendahara | P25: =E25 -> Bantuan Pulsa Bendahara | Q25: =F25+G25 -> 50000 | R25: =Q25 -> 50000 | T25: =$T$10 -> UNIT | U25: =CONCATENATE(T25,N25) -> UNITKB/TK Bantuan Pulsa Bendahara
B26: 45910 | C26: 531001 | D26: 11 | E26: Transport KS | G26: 200000 | H26: =H25+F26-G26 -> 2.9366373e+08 | J26: =D26 -> 11 | K26: =DAY(B26) -> 10 | L26: =PROPER(TRIM(MID(SUBSTITUTE($B$3," ",REPT(" ",99)),99*INT((LEN($B$3)-LEN(SUBSTITUTE($B$3," ","")))/2),99))) -> September | M26: =IF(J26<1," ","JV-KB/TK-"&$L$11&"-"&J26) -> JV-KB/TK-September-11 | N26: ="KB/TK "&E26 -> KB/TK Transport KS | P26: =E26 -> Transport KS | Q26: =F26+G26 -> 200000 | R26: =Q26 -> 200000 | T26: =$T$10 -> UNIT | U26: =CONCATENATE(T26,N26) -> UNITKB/TK Transport KS
B27: 45910 | C27: 531002 | D27: 12 | E27: Transport WKS | G27: 450000 | H27: =H26+F27-G27 -> 2.9321373e+08 | J27: =D27 -> 12 | K27: =DAY(B27) -> 10 | L27: =PROPER(TRIM(MID(SUBSTITUTE($B$3," ",REPT(" ",99)),99*INT((LEN($B$3)-LEN(SUBSTITUTE($B$3," ","")))/2),99))) -> September | M27: =IF(J27<1," ","JV-KB/TK-"&$L$11&"-"&J27) -> JV-KB/TK-September-12 | N27: ="KB/TK "&E27 -> KB/TK Transport WKS | P27: =E27 -> Transport WKS | Q27: =F27+G27 -> 450000 | R27: =Q27 -> 450000 | T27: =$T$10 -> UNIT | U27: =CONCATENATE(T27,N27) -> UNITKB/TK Transport WKS
B28: 45910 | C28: 531022 | D28: 13 | E28: Transport Bendahara | G28: 150000 | H28: =H27+F28-G28 -> 2.9306373e+08 | J28: =D28 -> 13 | K28: =DAY(B28) -> 10 | L28: =PROPER(TRIM(MID(SUBSTITUTE($B$3," ",REPT(" ",99)),99*INT((LEN($B$3)-LEN(SUBSTITUTE($B$3," ","")))/2),99))) -> September | M28: =IF(J28<1," ","JV-KB/TK-"&$L$11&"-"&J28) -> JV-KB/TK-September-13 | N28: ="KB/TK "&E28 -> KB/TK Transport Bendahara | P28: =E28 -> Transport Bendahara | Q28: =F28+G28 -> 150000 | R28: =Q28 -> 150000 | T28: =$T$10 -> UNIT | U28: =CONCATENATE(T28,N28) -> UNITKB/TK Transport Bendahara
... B30: 45911 | C30: 553100 | D30: 15 | E30: Biaya Lain-Lain | G30: 362750 | H30: =H29+F30-G30 -> 2.9266318e+08 | J30: =D30 -> 15 | K30: =DAY(B30) -> 11 | L30: =PROPER(TRIM(MID(SUBSTITUTE($B$3," ",REPT(" ",99)),99*INT((LEN($B$3)-LEN(SUBSTITUTE($B$3," ","")))/2),99))) -> September | M30: =IF(J30<1," ","JV-KB/TK-"&$L$11&"-"&J30) -> JV-KB/TK-September-15 | N30: ="KB/TK "&E30 -> KB/TK Biaya Lain-Lain | P30: =E30 -> Biaya Lain-Lain | Q30: =F30+G30 -> 362750 | R30: =Q30 -> 362750 | T30: =$T$10 -> UNIT | U30: =CONCATENATE(T30,N30) -> UNITKB/TK Biaya Lain-Lain
B31: 45912 | E31: Pengambilan Droping (Kontribusi Milad Pusat) | F31: 9000000 | H31: =H30+F31-G31 -> 3.0166318e+08 | J31: =D31 -> 0 | K31: =DAY(B31) -> 12 | L31: =PROPER(TRIM(MID(SUBSTITUTE($B$3," ",REPT(" ",99)),99*INT((LEN($B$3)-LEN(SUBSTITUTE($B$3," ","")))/2),99))) -> September | M31: =IF(J31<1," ","JV-KB/TK-"&$L$11&"-"&J31) | N31: ="KB/TK "&E31 -> KB/TK Pengambilan Droping (Kontribusi Milad Pusat) | P31: =E31 -> Pengambilan Droping (Kontribusi Milad Pusat) | Q31: =F31+G31 -> 9000000 | R31: =Q31 -> 9000000 | T31: =$T$10 -> UNIT | U31: =CONCATENATE(T31,N31) -> UNITKB/TK Pengambilan Droping (Kontribusi Milad Pusat)
B32: 45912 | E32: Diterima kas tunai di Bendahara | G32: 9000000 | H32: =H31+F32-G32 -> 2.9266318e+08 | J32: =D32 -> 0 | K32: =DAY(B32) -> 12 | L32: =PROPER(TRIM(MID(SUBSTITUTE($B$3," ",REPT(" ",99)),99*INT((LEN($B$3)-LEN(SUBSTITUTE($B$3," ","")))/2),99))) -> September | M32: =IF(J32<1," ","JV-KB/TK-"&$L$11&"-"&J32) | N32: ="KB/TK "&E32 -> KB/TK Diterima kas tunai di Bendahara | P32: =E32 -> Diterima kas tunai di Bendahara | Q32: =F32+G32 -> 9000000 | R32: =Q32 -> 9000000 | T32: =$T$10 -> UNIT | U32: =CONCATENATE(T32,N32) -> UNITKB/TK Diterima kas tunai di Bendahara
B33: 45913 | C33: 518301 | D33: 16 | E33: Duplikat Piala | G33: 150000 | H33: =H32+F33-G33 -> 2.9251318e+08 | J33: =D33 -> 16 | K33: =DAY(B33) -> 13 | L33: =PROPER(TRIM(MID(SUBSTITUTE($B$3," ",REPT(" ",99)),99*INT((LEN($B$3)-LEN(SUBSTITUTE($B$3," ","")))/2),99))) -> September | M33: =IF(J33<1," ","JV-KB/TK-"&$L$11&"-"&J33) -> JV-KB/TK-September-16 | N33: ="KB/TK "&E33 -> KB/TK Duplikat Piala | P33: =E33 -> Duplikat Piala | Q33: =F33+G33 -> 150000 | R33: =Q33 -> 150000 | T33: =$T$10 -> UNIT | U33: =CONCATENATE(T33,N33) -> UNITKB/TK Duplikat Piala
B34: 45915 | C34: 540214 | D34: 17 | E34: Komputer | G34: 18494000 | H34: =H33+F34-G34 -> 2.7401918e+08 | J34: =D34 -> 17 | K34: =DAY(B34) -> 15 | L34: =PROPER(TRIM(MID(SUBSTITUTE($B$3," ",REPT(" ",99)),99*INT((LEN($B$3)-LEN(SUBSTITUTE($B$3," ","")))/2),99))) -> September | M34: =IF(J34<1," ","JV-KB/TK-"&$L$11&"-"&J34) -> JV-KB/TK-September-17 | N34: ="KB/TK "&E34 -> KB/TK Komputer | P34: =E34 -> Komputer | Q34: =F34+G34 -> 18494000 | R34: =Q34 -> 18494000 | T34: =$T$10 -> UNIT | U34: =CONCATENATE(T34,N34) -> UNITKB/TK Komputer
B35: 45915 | E35: Pengambilan Droping | F35: 20000000 | H35: =H34+F35-G35 -> 2.9401918e+08 | J35: =D35 -> 0 | K35: =DAY(B35) -> 15 | L35: =PROPER(TRIM(MID(SUBSTITUTE($B$3," ",REPT(" ",99)),99*INT((LEN($B$3)-LEN(SUBSTITUTE($B$3," ","")))/2),99))) -> September | M35: =IF(J35<1," ","JV-KB/TK-"&$L$11&"-"&J35) | N35: ="KB/TK "&E35 -> KB/TK Pengambilan Droping | P35: =E35 -> Pengambilan Droping | Q35: =F35+G35 -> 20000000 | R35: =Q35 -> 20000000 | T35: =$T$10 -> UNIT | U35: =CONCATENATE(T35,N35) -> UNITKB/TK Pengambilan Droping
B36: 45915 | E36: Diterima kas tunai di Bendahara | G36: 20000000 | H36: =H35+F36-G36 -> 2.7401918e+08 | J36: =D36 -> 0 | K36: =DAY(B36) -> 15 | L36: =PROPER(TRIM(MID(SUBSTITUTE($B$3," ",REPT(" ",99)),99*INT((LEN($B$3)-LEN(SUBSTITUTE($B$3," ","")))/2),99))) -> September | M36: =IF(J36<1," ","JV-KB/TK-"&$L$11&"-"&J36) | N36: ="KB/TK "&E36 -> KB/TK Diterima kas tunai di Bendahara | P36: =E36 -> Diterima kas tunai di Bendahara | Q36: =F36+G36 -> 20000000 | R36: =Q36 -> 20000000 | T36: =$T$10 -> UNIT | U36: =CONCATENATE(T36,N36) -> UNITKB/TK Diterima kas tunai di Bendahara
B37: 45916 | C37: 511303 | D37: 18 | E37: Perlengkapan Alat Ekstrakurikuler | G37: 27300 | H37: =H36+F37-G37 -> 2.7399188e+08 | J37: =D37 -> 18 | K37: =DAY(B37) -> 16 | L37: =PROPER(TRIM(MID(SUBSTITUTE($B$3," ",REPT(" ",99)),99*INT((LEN($B$3)-LEN(SUBSTITUTE($B$3," ","")))/2),99))) -> September | M37: =IF(J37<1," ","JV-KB/TK-"&$L$11&"-"&J37) -> JV-KB/TK-September-18 | N37: ="KB/TK "&E37 -> KB/TK Perlengkapan Alat Ekstrakurikuler | P37: =E37 -> Perlengkapan Alat Ekstrakurikuler | Q37: =F37+G37 -> 27300 | R37: =Q37 -> 27300 | T37: =$T$10 -> UNIT | U37: =CONCATENATE(T37,N37) -> UNITKB/TK Perlengkapan Alat Ekstrakurikuler
B38: 45916 | C38: 515121 | D38: 19 | E38: Perawatan Mobil | G38: 40000 | H38: =H37+F38-G38 -> 2.7395188e+08 | J38: =D38 -> 19 | K38: =DAY(B38) -> 16 | L38: =PROPER(TRIM(MID(SUBSTITUTE($B$3," ",REPT(" ",99)),99*INT((LEN($B$3)-LEN(SUBSTITUTE($B$3," ","")))/2),99))) -> September | M38: =IF(J38<1," ","JV-KB/TK-"&$L$11&"-"&J38) -> JV-KB/TK-September-19 | N38: ="KB/TK "&E38 -> KB/TK Perawatan Mobil | P38: =E38 -> Perawatan Mobil | Q38: =F38+G38 -> 40000 | R38: =Q38 -> 40000 | T38: =$T$10 -> UNIT | U38: =CONCATENATE(T38,N38) -> UNITKB/TK Perawatan Mobil
B39: 45916 | C39: 530202 | D39: 20 | E39: Alat kebersihan | G39: 239500 | H39: =H38+F39-G39 -> 2.7371238e+08 | J39: =D39 -> 20 | K39: =DAY(B39) -> 16 | L39: =PROPER(TRIM(MID(SUBSTITUTE($B$3," ",REPT(" ",99)),99*INT((LEN($B$3)-LEN(SUBSTITUTE($B$3," ","")))/2),99))) -> September | M39: =IF(J39<1," ","JV-KB/TK-"&$L$11&"-"&J39) -> JV-KB/TK-September-20 | N39: ="KB/TK "&E39 -> KB/TK Alat kebersihan | P39: =E39 -> Alat kebersihan | Q39: =F39+G39 -> 239500 | R39: =Q39 -> 239500 | T39: =$T$10 -> UNIT | U39: =CONCATENATE(T39,N39) -> UNITKB/TK Alat kebersihan
B40: 45918 | E40: Dropping unit TK bulan September 2025 | F40: 72163000 | H40: =H39+F40-G40 -> 3.4587538e+08 | J40: =D40 -> 0 | K40: =DAY(B40) -> 18 | L40: =PROPER(TRIM(MID(SUBSTITUTE($B$3," ",REPT(" ",99)),99*INT((LEN($B$3)-LEN(SUBSTITUTE($B$3," ","")))/2),99))) -> September | M40: =IF(J40<1," ","JV-KB/TK-"&$L$11&"-"&J40) | N40: ="KB/TK "&E40 -> KB/TK Dropping unit TK bulan September 2025 | P40: =E40 -> Dropping unit TK bulan September 2025 | Q40: =F40+G40 -> 72163000 | R40: =Q40 -> 72163000 | T40: =$T$10 -> UNIT | U40: =CONCATENATE(T40,N40) -> UNITKB/TK Dropping unit TK bulan September 2025
B41: 45918 | C41: 516060 | D41: 21 | E41: Edu Fair / Open House (Milad Al Irsyad) | G41: 26807100 | H41: =H40+F41-G41 -> 3.1906828e+08 | J41: =D41 -> 21 | K41: =DAY(B41) -> 18 | L41: =PROPER(TRIM(MID(SUBSTITUTE($B$3," ",REPT(" ",99)),99*INT((LEN($B$3)-LEN(SUBSTITUTE($B$3," ","")))/2),99))) -> September | M41: =IF(J41<1," ","JV-KB/TK-"&$L$11&"-"&J41) -> JV-KB/TK-September-21 | N41: ="KB/TK "&E41 -> KB/TK Edu Fair / Open House (Milad Al Irsyad) | P41: =E41 -> Edu Fair / Open House (Milad Al Irsyad) | Q41: =F41+G41 -> 26807100 | R41: =Q41 -> 26807100 | T41: =$T$10 -> UNIT | U41: =CONCATENATE(T41,N41) -> UNITKB/TK Edu Fair / Open House (Milad Al Irsyad)
B42: 45918 | C42: 530907 | D42: 22 | E42: Himpaudi | G42: 214000 | H42: =H41+F42-G42 -> 3.1885428e+08 | J42: =D42 -> 22 | K42: =DAY(B42) -> 18 | L42: =PROPER(TRIM(MID(SUBSTITUTE($B$3," ",REPT(" ",99)),99*INT((LEN($B$3)-LEN(SUBSTITUTE($B$3," ","")))/2),99))) -> September | M42: =IF(J42<1," ","JV-KB/TK-"&$L$11&"-"&J42) -> JV-KB/TK-September-22 | N42: ="KB/TK "&E42 -> KB/TK Himpaudi | P42: =E42 -> Himpaudi | Q42: =F42+G42 -> 214000 | R42: =Q42 -> 214000 | T42: =$T$10 -> UNIT | U42: =CONCATENATE(T42,N42) -> UNITKB/TK Himpaudi
...

Sheet OKT25
B1: Tanggal | C1: No. Kode | D1: No. Bukti | E1: Uraian | F1: Penerimaan (Debit) | G1: Pengeluaran (Kredit) | H1: Saldo Kas | I1: 1 | J1: no | K1: tgl | L1: bulan | M1: jurnal voucher | N1: KB/TK+uraian | O1: COA | P1: URAIAN | Q1: JUMLAH (DEBIT+KREDIT) | R1: JUMLAH (DEBIT+KREDIT)2 | S1: KOSONGI | T1: UNIT | U1: CONCENATE | V1: KB/TK
B2: BUKU KAS UMUM
B3: BULAN OKTOBER 2025
B5: Sekolah | D5: : KB & TK AL IRSYAD AL ISLAMIYYAH PURWOKERTO
B6: Desa / Kecamatan | D6: : SOKANEGARA / PURWOKERTO TIMUR
B7: Kabupaten | D7: : BANYUMAS
B8: Provinsi | D8: : JAWA TENGAH
L9: 2 | T9: KB/TK
B10: Tanggal | C10: No. Kode | D10: No. Bukti | E10: Uraian | F10: Penerimaan (Kredit) | G10: Pengeluaran (Debit) | H10: Saldo Kas | J10: no | K10: tgl | L10: bulan | M10: jurnal voucher | N10: KB/TK+uraian | O10: COA | P10: URAIAN | Q10: JUMLAH (DEBIT+KREDIT) | R10: JUMLAH (DEBIT+KREDIT)2 | S10: KOSONGI | T10: UNIT | U10: CONCENATE | V10: KB/TK
B11: 45931 | E11: Saldo bulan lalu | F11: 2.9325782e+08 | H11: =F11 -> 2.9325782e+08 | J11: =D11 -> 0 | K11: =DAY(B11) -> 1 | L11: =PROPER(TRIM(MID(SUBSTITUTE($B$3," ",REPT(" ",99)),99*INT((LEN($B$3)-LEN(SUBSTITUTE($B$3," ","")))/2),99))) -> Oktober | M11: =IF(J11<1," ","JV-KB/TK-"&$L$11&"-"&J11) | N11: ="KB/TK "&E11 -> KB/TK Saldo bulan lalu | P11: =E11 -> Saldo bulan lalu | Q11: =F11+G11 -> 2.9325782e+08 | R11: =Q11 -> 2.9325782e+08 | T11: =$T$10 -> UNIT | U11: =CONCATENATE(T11,N11) -> UNITKB/TK Saldo bulan lalu
B12: 45931 | C12: 530805 | D12: 1 | E12: Bantuan Pulsa KS | G12: 150000 | H12: =H11+F12-G12 -> 2.9310782e+08 | J12: =D12 -> 1 | K12: =DAY(B12) -> 1 | L12: =PROPER(TRIM(MID(SUBSTITUTE($B$3," ",REPT(" ",99)),99*INT((LEN($B$3)-LEN(SUBSTITUTE($B$3," ","")))/2),99))) -> Oktober | M12: =IF(J12<1," ","JV-KB/TK-"&$L$11&"-"&J12) -> JV-KB/TK-Oktober-1 | N12: ="KB/TK "&E12 -> KB/TK Bantuan Pulsa KS | P12: =E12 -> Bantuan Pulsa KS | Q12: =F12+G12 -> 150000 | R12: =Q12 -> 150000 | T12: =$T$10 -> UNIT | U12: =CONCATENATE(T12,N12) -> UNITKB/TK Bantuan Pulsa KS
B13: 45931 | C13: 530806 | D13: 2 | E13: Bantuan Pulsa WKS | G13: 375000 | H13: =H12+F13-G13 -> 2.9273282e+08 | J13: =D13 -> 2 | K13: =DAY(B13) -> 1 | L13: =PROPER(TRIM(MID(SUBSTITUTE($B$3," ",REPT(" ",99)),99*INT((LEN($B$3)-LEN(SUBSTITUTE($B$3," ","")))/2),99))) -> Oktober | M13: =IF(J13<1," ","JV-KB/TK-"&$L$11&"-"&J13) -> JV-KB/TK-Oktober-2 | N13: ="KB/TK "&E13 -> KB/TK Bantuan Pulsa WKS | P13: =E13 -> Bantuan Pulsa WKS | Q13: =F13+G13 -> 375000 | R13: =Q13 -> 375000 | T13: =$T$10 -> UNIT | U13: =CONCATENATE(T13,N13) -> UNITKB/TK Bantuan Pulsa WKS
B14: 45931 | C14: 530807 | D14: 3 | E14: Bantuan Pulsa Wali Kelas | G14: 975000 | H14: =H13+F14-G14 -> 2.9175782e+08 | J14: =D14 -> 3 | K14: =DAY(B14) -> 1 | L14: =PROPER(TRIM(MID(SUBSTITUTE($B$3," ",REPT(" ",99)),99*INT((LEN($B$3)-LEN(SUBSTITUTE($B$3," ","")))/2),99))) -> Oktober | M14: =IF(J14<1," ","JV-KB/TK-"&$L$11&"-"&J14) -> JV-KB/TK-Oktober-3 | N14: ="KB/TK "&E14 -> KB/TK Bantuan Pulsa Wali Kelas | P14: =E14 -> Bantuan Pulsa Wali Kelas | Q14: =F14+G14 -> 975000 | R14: =Q14 -> 975000 | T14: =$T$10 -> UNIT | U14: =CONCATENATE(T14,N14) -> UNITKB/TK Bantuan Pulsa Wali Kelas
B15: 45931 | C15: 530817 | D15: 4 | E15: Bantuan Pulsa Bendahara | G15: 50000 | H15: =H14+F15-G15 -> 2.9170782e+08 | J15: =D15 -> 4 | K15: =DAY(B15) -> 1 | L15: =PROPER(TRIM(MID(SUBSTITUTE($B$3," ",REPT(" ",99)),99*INT((LEN($B$3)-LEN(SUBSTITUTE($B$3," ","")))/2),99))) -> Oktober | M15: =IF(J15<1," ","JV-KB/TK-"&$L$11&"-"&J15) -> JV-KB/TK-Oktober-4 | N15: ="KB/TK "&E15 -> KB/TK Bantuan Pulsa Bendahara | P15: =E15 -> Bantuan Pulsa Bendahara | Q15: =F15+G15 -> 50000 | R15: =Q15 -> 50000 | T15: =$T$10 -> UNIT | U15: =CONCATENATE(T15,N15) -> UNITKB/TK Bantuan Pulsa Bendahara
B16: 45931 | C16: 531001 | D16: 5 | E16: Transport KS | G16: 200000 | H16: =H15+F16-G16 -> 2.9150782e+08 | J16: =D16 -> 5 | K16: =DAY(B16) -> 1 | L16: =PROPER(TRIM(MID(SUBSTITUTE($B$3," ",REPT(" ",99)),99*INT((LEN($B$3)-LEN(SUBSTITUTE($B$3," ","")))/2),99))) -> Oktober | M16: =IF(J16<1," ","JV-KB/TK-"&$L$11&"-"&J16) -> JV-KB/TK-Oktober-5 | N16: ="KB/TK "&E16 -> KB/TK Transport KS | P16: =E16 -> Transport KS | Q16: =F16+G16 -> 200000 | R16: =Q16 -> 200000 | T16: =$T$10 -> UNIT | U16: =CONCATENATE(T16,N16) -> UNITKB/TK Transport KS
B17: 45931 | C17: 531002 | D17: 6 | E17: Transport WKS | G17: 450000 | H17: =H16+F17-G17 -> 2.9105782e+08 | J17: =D17 -> 6 | K17: =DAY(B17) -> 1 | L17: =PROPER(TRIM(MID(SUBSTITUTE($B$3," ",REPT(" ",99)),99*INT((LEN($B$3)-LEN(SUBSTITUTE($B$3," ","")))/2),99))) -> Oktober | M17: =IF(J17<1," ","JV-KB/TK-"&$L$11&"-"&J17) -> JV-KB/TK-Oktober-6 | N17: ="KB/TK "&E17 -> KB/TK Transport WKS | P17: =E17 -> Transport WKS | Q17: =F17+G17 -> 450000 | R17: =Q17 -> 450000 | T17: =$T$10 -> UNIT | U17: =CONCATENATE(T17,N17) -> UNITKB/TK Transport WKS
B18: 45931 | C18: 531022 | D18: 7 | E18: Transport Bendahara | G18: 150000 | H18: =H17+F18-G18 -> 2.9090782e+08 | J18: =D18 -> 7 | K18: =DAY(B18) -> 1 | L18: =PROPER(TRIM(MID(SUBSTITUTE($B$3," ",REPT(" ",99)),99*INT((LEN($B$3)-LEN(SUBSTITUTE($B$3," ","")))/2),99))) -> Oktober | M18: =IF(J18<1," ","JV-KB/TK-"&$L$11&"-"&J18) -> JV-KB/TK-Oktober-7 | N18: ="KB/TK "&E18 -> KB/TK Transport Bendahara | P18: =E18 -> Transport Bendahara | Q18: =F18+G18 -> 150000 | R18: =Q18 -> 150000 | T18: =$T$10 -> UNIT | U18: =CONCATENATE(T18,N18) -> UNITKB/TK Transport Bendahara
B19: 45931 | C19: 553100 | D19: 8 | E19: Biaya Lain-Lain | G19: 366500 | H19: =H18+F19-G19 -> 2.9054132e+08 | J19: =D19 -> 8 | K19: =DAY(B19) -> 1 | L19: =PROPER(TRIM(MID(SUBSTITUTE($B$3," ",REPT(" ",99)),99*INT((LEN($B$3)-LEN(SUBSTITUTE($B$3," ","")))/2),99))) -> Oktober | M19: =IF(J19<1," ","JV-KB/TK-"&$L$11&"-"&J19) -> JV-KB/TK-Oktober-8 | N19: ="KB/TK "&E19 -> KB/TK Biaya Lain-Lain | P19: =E19 -> Biaya Lain-Lain | Q19: =F19+G19 -> 366500 | R19: =Q19 -> 366500 | T19: =$T$10 -> UNIT | U19: =CONCATENATE(T19,N19) -> UNITKB/TK Biaya Lain-Lain
B20: 45932 | C20: 511408 | D20: 9 | E20: Pelaksanaan Lomba Insidental | G20: 40000 | H20: =H19+F20-G20 -> 2.9050132e+08 | J20: =D20 -> 9 | K20: =DAY(B20) -> 2 | L20: =PROPER(TRIM(MID(SUBSTITUTE($B$3," ",REPT(" ",99)),99*INT((LEN($B$3)-LEN(SUBSTITUTE($B$3," ","")))/2),99))) -> Oktober | M20: =IF(J20<1," ","JV-KB/TK-"&$L$11&"-"&J20) -> JV-KB/TK-Oktober-9 | N20: ="KB/TK "&E20 -> KB/TK Pelaksanaan Lomba Insidental | P20: =E20 -> Pelaksanaan Lomba Insidental | Q20: =F20+G20 -> 40000 | R20: =Q20 -> 40000 | T20: =$T$10 -> UNIT | U20: =CONCATENATE(T20,N20) -> UNITKB/TK Pelaksanaan Lomba Insidental
B21: 45932 | C21: 530908 | D21: 10 | E21: IGTK Kecamatan | G21: 820000 | H21: =H20+F21-G21 -> 2.8968132e+08 | J21: =D21 -> 10 | K21: =DAY(B21) -> 2 | L21: =PROPER(TRIM(MID(SUBSTITUTE($B$3," ",REPT(" ",99)),99*INT((LEN($B$3)-LEN(SUBSTITUTE($B$3," ","")))/2),99))) -> Oktober | M21: =IF(J21<1," ","JV-KB/TK-"&$L$11&"-"&J21) -> JV-KB/TK-Oktober-10 | N21: ="KB/TK "&E21 -> KB/TK IGTK Kecamatan | P21: =E21 -> IGTK Kecamatan | Q21: =F21+G21 -> 820000 | R21: =Q21 -> 820000 | T21: =$T$10 -> UNIT | U21: =CONCATENATE(T21,N21) -> UNITKB/TK IGTK Kecamatan
