Workbook

Sheet JUL25
B1: Tanggal | C1: No. Kode | D1: No. Bukti | E1: Uraian | F1: Penerimaan (Debit) | G1: Pengeluaran (Kredit) | H1: Saldo Kas | I1: 1 | J1: no | K1: tgl | L1: bulan | M1: jurnal voucher | N1: KB/TK+uraian | O1: COA | P1: URAIAN | Q1: JUMLAH (DEBIT+KREDIT) | R1: JUMLAH (DEBIT+KREDIT)2 | S1: KOSONGI | T1: UNIT | U1: CONCENATE | V1: KB/TK
B2: BUKU KAS UMUM
B3: BULAN JULI 2025
B5: Sekolah | D5: : KB & TK AL IRSYAD AL ISLAMIYYAH PURWOKERTO
B6: Desa / Kecamatan | D6: : SOKANEGARA / PURWOKERTO TIMUR
B7: Kabupaten | D7: : BANYUMAS
B8: Provinsi | D8: : JAWA TENGAH
L9: 2 | T9: KB/TK
B10: Tanggal | C10: No. Kode | D10: No. Bukti | E10: Uraian | F10: Penerimaan (Kredit) | G10: Pengeluaran (Debit) | H10: Saldo Kas | J10: no | K10: tgl | L10: bulan | M10: jurnal voucher | N10: KB/TK+uraian | O10: COA | P10: URAIAN | Q10: JUMLAH (DEBIT+KREDIT) | R10: JUMLAH (DEBIT+KREDIT)2 | S10: KOSONGI | T10: UNIT | U10: CONCENATE | V10: KB/TK
B11: 45839 | E11: Saldo bulan lalu | H11: 35067380 | J11: =D11 -> 0 | K11: =DAY(B11) -> 1 | L11: =PROPER(TRIM(MID(SUBSTITUTE($B$3," ",REPT(" ",99)),99*INT((LEN($B$3)-LEN(SUBSTITUTE($B$3," ","")))/2),99))) -> Juli | M11: =IF(J11<1," ","JV-KB/TK-"&$L$11&"-"&J11) | N11: ="KB/TK "&E11 -> KB/TK Saldo bulan lalu | P11: =E11 -> Saldo bulan lalu | Q11: =F11+G11 -> 0 | R11: =Q11 -> 0 | T11: =$T$10 -> UNIT | U11: =CONCATENATE(T11,N11) -> UNITKB/TK Saldo bulan lalu | V11: SD 01
B12: 45839 | E12: Bagi Hasil atau Bonus | F12: 12949.52 | H12: =H11+F12-G12 -> 35080329 | J12: =D12 -> 0 | K12: =DAY(B12) -> 1 | L12: =PROPER(TRIM(MID(SUBSTITUTE($B$3," ",REPT(" ",99)),99*INT((LEN($B$3)-LEN(SUBSTITUTE($B$3," ","")))/2),99))) -> Juli | M12: =IF(J12<1," ","JV-KB/TK-"&$L$10&"-"&J12) | N12: ="KB/TK "&E12 -> KB/TK Bagi Hasil atau Bonus | P12: =E12 -> Bagi Hasil atau Bonus | Q12: =F12+G12 -> 12949.52 | R12: =Q12 -> 12949.52 | T12: =$T$10 -> UNIT | U12: =CONCATENATE(T12,N12) -> UNITKB/TK Bagi Hasil atau Bonus
B13: 45839 | E13: Pajak | G13: 2589.9 | H13: =H12+F13-G13 -> 35077739 | J13: =D13 -> 0 | K13: =DAY(B13) -> 1 | L13: =PROPER(TRIM(MID(SUBSTITUTE($B$3," ",REPT(" ",99)),99*INT((LEN($B$3)-LEN(SUBSTITUTE($B$3," ","")))/2),99))) -> Juli | M13: =IF(J13<1," ","JV-KB/TK-"&$L$10&"-"&J13) | N13: ="KB/TK "&E13 -> KB/TK Pajak | P13: =E13 -> Pajak | Q13: =F13+G13 -> 2589.9 | R13: =Q13 -> 2589.9 | T13: =$T$10 -> UNIT | U13: =CONCATENATE(T13,N13) -> UNITKB/TK Pajak
B14: 45839 | E14: Biaya Administrasi | G14: 10000 | H14: =H13+F14-G14 -> 35067739 | J14: =D14 -> 0 | K14: =DAY(B14) -> 1 | L14: =PROPER(TRIM(MID(SUBSTITUTE($B$3," ",REPT(" ",99)),99*INT((LEN($B$3)-LEN(SUBSTITUTE($B$3," ","")))/2),99))) -> Juli | M14: =IF(J14<1," ","JV-KB/TK-"&$L$10&"-"&J14) | N14: ="KB/TK "&E14 -> KB/TK Biaya Administrasi | P14: =E14 -> Biaya Administrasi | Q14: =F14+G14 -> 10000 | R14: =Q14 -> 10000 | T14: =$T$10 -> UNIT | U14: =CONCATENATE(T14,N14) -> UNITKB/TK Biaya Administrasi
B15: 45839 | C15: 553100 | D15: 1 | E15: Biaya Lain-Lain | G15: 326000 | H15: =H14+F15-G15 -> 34741739 | J15: =D15 -> 1 | K15: =DAY(B15) -> 1 | L15: =PROPER(TRIM(MID(SUBSTITUTE($B$3," ",REPT(" ",99)),99*INT((LEN($B$3)-LEN(SUBSTITUTE($B$3," ","")))/2),99))) -> Juli | M15: =IF(J15<1," ","JV-KB/TK-"&$L$10&"-"&J15) -> JV-KB/TK-bulan-1 | N15: ="KB/TK "&E15 -> KB/TK Biaya Lain-Lain | P15: =E15 -> Biaya Lain-Lain | Q15: =F15+G15 -> 326000 | R15: =Q15 -> 326000 | T15: =$T$10 -> UNIT | U15: =CONCATENATE(T15,N15) -> UNITKB/TK Biaya Lain-Lain
B16: 45840 | E16: By. Adm BSMNet JUN 25 | G16: 10000 | H16: =H15+F16-G16 -> 34731739
B17: 45840 | C17: 530801 | D17: 2 | E17: Internet | G17: 982350 | H17: =H16+F17-G17 -> 33749389 | J17: =D17 -> 2 | K17: =DAY(B17) -> 2 | L17: =PROPER(TRIM(MID(SUBSTITUTE($B$3," ",REPT(" ",99)),99*INT((LEN($B$3)-LEN(SUBSTITUTE($B$3," ","")))/2),99))) -> Juli | M17: =IF(J17<1," ","JV-KB/TK-"&$L$10&"-"&J17) -> JV-KB/TK-bulan-2 | N17: ="KB/TK "&E17 -> KB/TK Internet | P17: =E17 -> Internet | Q17: =F17+G17 -> 982350 | R17: =Q17 -> 982350 | T17: =$T$10 -> UNIT | U17: =CONCATENATE(T17,N17) -> UNITKB/TK Internet
B18: 45840 | C18: 530802 | D18: 3 | E18: Listrik | G18: 3747250 | H18: =H17+F18-G18 -> 30002139 | J18: =D18 -> 3 | K18: =DAY(B18) -> 2 | L18: =PROPER(TRIM(MID(SUBSTITUTE($B$3," ",REPT(" ",99)),99*INT((LEN($B$3)-LEN(SUBSTITUTE($B$3," ","")))/2),99))) -> Juli | M18: =IF(J18<1," ","JV-KB/TK-"&$L$10&"-"&J18) -> JV-KB/TK-bulan-3 | N18: ="KB/TK "&E18 -> KB/TK Listrik | P18: =E18 -> Listrik | Q18: =F18+G18 -> 3747250 | R18: =Q18 -> 3747250 | T18: =$T$10 -> UNIT | U18: =CONCATENATE(T18,N18) -> UNITKB/TK Listrik
B19: 45840 | C19: 530801 | D19: 4 | E19: Internet | G19: 1045900 | H19: =H18+F19-G19 -> 28956239 | J19: =D19 -> 4 | K19: =DAY(B19) -> 2 | L19: =PROPER(TRIM(MID(SUBSTITUTE($B$3," ",REPT(" ",99)),99*INT((LEN($B$3)-LEN(SUBSTITUTE($B$3," ","")))/2),99))) -> Juli | M19: =IF(J19<1," ","JV-KB/TK-"&$L$10&"-"&J19) -> JV-KB/TK-bulan-4 | N19: ="KB/TK "&E19 -> KB/TK Internet | P19: =E19 -> Internet | Q19: =F19+G19 -> 1045900 | R19: =Q19 -> 1045900 | T19: =$T$10 -> UNIT | U19: =CONCATENATE(T19,N19) -> UNITKB/TK Internet
B20: 45841 | C20: 553100 | D20: 5 | E20: Biaya Lain-Lain | G20: 111000 | H20: =H19+F20-G20 -> 28845239 | J20: =D20 -> 5 | K20: =DAY(B20) -> 3 | L20: =PROPER(TRIM(MID(SUBSTITUTE($B$3," ",REPT(" ",99)),99*INT((LEN($B$3)-LEN(SUBSTITUTE($B$3," ","")))/2),99))) -> Juli | M20: =IF(J20<1," ","JV-KB/TK-"&$L$10&"-"&J20) -> JV-KB/TK-bulan-5 | N20: ="KB/TK "&E20 -> KB/TK Biaya Lain-Lain | P20: =E20 -> Biaya Lain-Lain | Q20: =F20+G20 -> 111000 | R20: =Q20 -> 111000 | T20: =$T$10 -> UNIT | U20: =CONCATENATE(T20,N20) -> UNITKB/TK Biaya Lain-Lain
B21: 45842 | E21: Pengambilan dana dropping dari BSM | F21: 30000000 | H21: =H20+F21-G21 -> 58845239 | J21: =D21 -> 0 | K21: =DAY(B21) -> 4 | L21: =PROPER(TRIM(MID(SUBSTITUTE($B$3," ",REPT(" ",99)),99*INT((LEN($B$3)-LEN(SUBSTITUTE($B$3," ","")))/2),99))) -> Juli | M21: =IF(J21<1," ","JV-KB/TK-"&$L$10&"-"&J21) | N21: ="KB/TK "&E21 -> KB/TK Pengambilan dana dropping dari BSM | P21: =E21 -> Pengambilan dana dropping dari BSM | Q21: =F21+G21 -> 30000000 | R21: =Q21 -> 30000000 | T21: =$T$10 -> UNIT | U21: =CONCATENATE(T21,N21) -> UNITKB/TK Pengambilan dana dropping dari BSM
B22: 45842 | E22: Diterima kas tunai di bendahara | G22: 30000000 | H22: =H21+F22-G22 -> 28845239 | J22: =D22 -> 0 | K22: =DAY(B22) -> 4 | L22: =PROPER(TRIM(MID(SUBSTITUTE($B$3," ",REPT(" ",99)),99*INT((LEN($B$3)-LEN(SUBSTITUTE($B$3," ","")))/2),99))) -> Juli | M22: =IF(J22<1," ","JV-KB/TK-"&$L$10&"-"&J22) | N22: ="KB/TK "&E22 -> KB/TK Diterima kas tunai di bendahara | P22: =E22 -> Diterima kas tunai di bendahara | Q22: =F22+G22 -> 30000000 | R22: =Q22 -> 30000000 | T22: =$T$10 -> UNIT | U22: =CONCATENATE(T22,N22) -> UNITKB/TK Diterima kas tunai di bendahara
B23: 45842 | C23: 530711 | D23: 6 | E23: Rapat Internal | G23: 796000 | H23: =H22+F23-G23 -> 28049239 | J23: =D23 -> 6 | K23: =DAY(B23) -> 4 | L23: =PROPER(TRIM(MID(SUBSTITUTE($B$3," ",REPT(" ",99)),99*INT((LEN($B$3)-LEN(SUBSTITUTE($B$3," ","")))/2),99))) -> Juli | M23: =IF(J23<1," ","JV-KB/TK-"&$L$10&"-"&J23) -> JV-KB/TK-bulan-6 | N23: ="KB/TK "&E23 -> KB/TK Rapat Internal | P23: =E23 -> Rapat Internal | Q23: =F23+G23 -> 796000 | R23: =Q23 -> 796000 | T23: =$T$10 -> UNIT | U23: =CONCATENATE(T23,N23) -> UNITKB/TK Rapat Internal
B24: 45845 | C24: 530803 | D24: 7 | E24: PDAM | G24: 117500 | H24: =H23+F24-G24 -> 27931739 | J24: =D24 -> 7 | K24: =DAY(B24) -> 7 | L24: =PROPER(TRIM(MID(SUBSTITUTE($B$3," ",REPT(" ",99)),99*INT((LEN($B$3)-LEN(SUBSTITUTE($B$3," ","")))/2),99))) -> Juli | M24: =IF(J24<1," ","JV-KB/TK-"&$L$10&"-"&J24) -> JV-KB/TK-bulan-7 | N24: ="KB/TK "&E24 -> KB/TK PDAM | P24: =E24 -> PDAM | Q24: =F24+G24 -> 117500 | R24: =Q24 -> 117500 | T24: =$T$10 -> UNIT | U24: =CONCATENATE(T24,N24) -> UNITKB/TK PDAM
B25: 45846 | E25: Pengambilan dana dropping dari BSM | F25: 35000000 | H25: =H24+F25-G25 -> 62931739 | J25: =D25 -> 0 | K25: =DAY(B25) -> 8 | L25: =PROPER(TRIM(MID(SUBSTITUTE($B$3," ",REPT(" ",99)),99*INT((LEN($B$3)-LEN(SUBSTITUTE($B$3," ","")))/2),99))) -> Juli | M25: =IF(J25<1," ","JV-KB/TK-"&$L$10&"-"&J25) | N25: ="KB/TK "&E25 -> KB/TK Pengambilan dana dropping dari BSM | P25: =E25 -> Pengambilan dana dropping dari BSM | Q25: =F25+G25 -> 35000000 | R25: =Q25 -> 35000000 | T25: =$T$10 -> UNIT | U25: =CONCATENATE(T25,N25) -> UNITKB/TK Pengambilan dana dropping dari BSM
B26: 45846 | E26: Diterima kas tunai di bendahara | G26: 35000000 | H26: =H25+F26-G26 -> 27931739 | J26: =D26 -> 0 | K26: =DAY(B26) -> 8 | L26: =PROPER(TRIM(MID(SUBSTITUTE($B$3," ",REPT(" ",99)),99*INT((LEN($B$3)-LEN(SUBSTITUTE($B$3," ","")))/2),99))) -> Juli | M26: =IF(J26<1," ","JV-KB/TK-"&$L$10&"-"&J26) | N26: ="KB/TK "&E26 -> KB/TK Diterima kas tunai di bendahara | P26: =E26 -> Diterima kas tunai di bendahara | Q26: =F26+G26 -> 35000000 | R26: =Q26 -> 35000000 | T26: =$T$10 -> UNIT | U26: =CONCATENATE(T26,N26) -> UNITKB/TK Diterima kas tunai di bendahara
B27: 45846 | C27: 531010 | D27: 8 | E27: Operasional Mobil Sekolah | G27: 63000 | H27: =H26+F27-G27 -> 27868739 | J27: =D27 -> 8 | K27: =DAY(B27) -> 8 | L27: =PROPER(TRIM(MID(SUBSTITUTE($B$3," ",REPT(" ",99)),99*INT((LEN($B$3)-LEN(SUBSTITUTE($B$3," ","")))/2),99))) -> Juli | M27: =IF(J27<1," ","JV-KB/TK-"&$L$10&"-"&J27) -> JV-KB/TK-bulan-8 | N27: ="KB/TK "&E27 -> KB/TK Operasional Mobil Sekolah | P27: =E27 -> Operasional Mobil Sekolah | Q27: =F27+G27 -> 63000 | R27: =Q27 -> 63000 | T27: =$T$10 -> UNIT | U27: =CONCATENATE(T27,N27) -> UNITKB/TK Operasional Mobil Sekolah
B28: 45848 | C28: 530805 | D28: 9 | E28: Bantuan Pulsa KS | G28: 150000 | H28: =H27+F28-G28 -> 27718739 | J28: =D28 -> 9 | K28: =DAY(B28) -> 10 | L28: =PROPER(TRIM(MID(SUBSTITUTE($B$3," ",REPT(" ",99)),99*INT((LEN($B$3)-LEN(SUBSTITUTE($B$3," ","")))/2),99))) -> Juli | M28: =IF(J28<1," ","JV-KB/TK-"&$L$10&"-"&J28) -> JV-KB/TK-bulan-9 | N28: ="KB/TK "&E28 -> KB/TK Bantuan Pulsa KS | P28: =E28 -> Bantuan Pulsa KS | Q28: =F28+G28 -> 150000 | R28: =Q28 -> 150000 | T28: =$T$10 -> UNIT | U28: =CONCATENATE(T28,N28) -> UNITKB/TK Bantuan Pulsa KS
B29: 45848 | C29: 530806 | D29: 10 | E29: Bantuan Pulsa WKS | G29: 375000 | H29: =H28+F29-G29 -> 27343739 | J29: =D29 -> 10 | K29: =DAY(B29) -> 10 | L29: =PROPER(TRIM(MID(SUBSTITUTE($B$3," ",REPT(" ",99)),99*INT((LEN($B$3)-LEN(SUBSTITUTE($B$3," ","")))/2),99))) -> Juli | M29: =IF(J29<1," ","JV-KB/TK-"&$L$10&"-"&J29) -> JV-KB/TK-bulan-10 | N29: ="KB/TK "&E29 -> KB/TK Bantuan Pulsa WKS | P29: =E29 -> Bantuan Pulsa WKS | Q29: =F29+G29 -> 375000 | R29: =Q29 -> 375000 | T29: =$T$10 -> UNIT | U29: =CONCATENATE(T29,N29) -> UNITKB/TK Bantuan Pulsa WKS
B30: 45848 | C30: 530807 | D30: 11 | E30: Bantuan Pulsa Wali Kelas | G30: 975000 | H30: =H29+F30-G30 -> 26368739 | J30: =D30 -> 11 | K30: =DAY(B30) -> 10 | L30: =PROPER(TRIM(MID(SUBSTITUTE($B$3," ",REPT(" ",99)),99*INT((LEN($B$3)-LEN(SUBSTITUTE($B$3," ","")))/2),99))) -> Juli | M30: =IF(J30<1," ","JV-KB/TK-"&$L$10&"-"&J30) -> JV-KB/TK-bulan-11 | N30: ="KB/TK "&E30 -> KB/TK Bantuan Pulsa Wali Kelas | P30: =E30 -> Bantuan Pulsa Wali Kelas | Q30: =F30+G30 -> 975000 | R30: =Q30 -> 975000 | T30: =$T$10 -> UNIT | U30: =CONCATENATE(T30,N30) -> UNITKB/TK Bantuan Pulsa Wali Kelas
B31: 45848 | C31: 530817 | D31: 12 | E31: Bantuan Pulsa Bendahara | G31: 50000 | H31: =H30+F31-G31 -> 26318739 | J31: =D31 -> 12 | K31: =DAY(B31) -> 10 | L31: =PROPER(TRIM(MID(SUBSTITUTE($B$3," ",REPT(" ",99)),99*INT((LEN($B$3)-LEN(SUBSTITUTE($B$3," ","")))/2),99))) -> Juli | M31: =IF(J31<1," ","JV-KB/TK-"&$L$10&"-"&J31) -> JV-KB/TK-bulan-12 | N31: ="KB/TK "&E31 -> KB/TK Bantuan Pulsa Bendahara | P31: =E31 -> Bantuan Pulsa Bendahara | Q31: =F31+G31 -> 50000 | R31: =Q31 -> 50000 | T31: =$T$10 -> UNIT | U31: =CONCATENATE(T31,N31) -> UNITKB/TK Bantuan Pulsa Bendahara
B32: 45848 | C32: 531001 | D32: 13 | E32: Transport KS | G32: 200000 | H32: =H31+F32-G32 -> 26118739 | J32: =D32 -> 13 | K32: =DAY(B32) -> 10 | L32: =PROPER(TRIM(MID(SUBSTITUTE($B$3," ",REPT(" ",99)),99*INT((LEN($B$3)-LEN(SUBSTITUTE($B$3," ","")))/2),99))) -> Juli | M32: =IF(J32<1," ","JV-KB/TK-"&$L$10&"-"&J32) -> JV-KB/TK-bulan-13 | N32: ="KB/TK "&E32 -> KB/TK Transport KS | P32: =E32 -> Transport KS | Q32: =F32+G32 -> 200000 | R32: =Q32 -> 200000 | T32: =$T$10 -> UNIT | U32: =CONCATENATE(T32,N32) -> UNITKB/TK Transport KS
B33: 45848 | C33: 531002 | D33: 14 | E33: Transport WKS | G33: 450000 | H33: =H32+F33-G33 -> 25668739 | J33: =D33 -> 14 | K33: =DAY(B33) -> 10 | L33: =PROPER(TRIM(MID(SUBSTITUTE($B$3," ",REPT(" ",99)),99*INT((LEN($B$3)-LEN(SUBSTITUTE($B$3," ","")))/2),99))) -> Juli | M33: =IF(J33<1," ","JV-KB/TK-"&$L$10&"-"&J33) -> JV-KB/TK-bulan-14 | N33: ="KB/TK "&E33 -> KB/TK Transport WKS | P33: =E33 -> Transport WKS | Q33: =F33+G33 -> 450000 | R33: =Q33 -> 450000 | T33: =$T$10 -> UNIT | U33: =CONCATENATE(T33,N33) -> UNITKB/TK Transport WKS
B34: 45848 | C34: 531022 | D34: 15 | E34: Transport Bendahara | G34: 150000 | H34: =H33+F34-G34 -> 25518739 | J34: =D34 -> 15 | K34: =DAY(B34) -> 10 | L34: =PROPER(TRIM(MID(SUBSTITUTE($B$3," ",REPT(" ",99)),99*INT((LEN($B$3)-LEN(SUBSTITUTE($B$3," ","")))/2),99))) -> Juli | M34: =IF(J34<1," ","JV-KB/TK-"&$L$10&"-"&J34) -> JV-KB/TK-bulan-15 | N34: ="KB/TK "&E34 -> KB/TK Transport Bendahara | P34: =E34 -> Transport Bendahara | Q34: =F34+G34 -> 150000 | R34: =Q34 -> 150000 | T34: =$T$10 -> UNIT | U34: =CONCATENATE(T34,N34) -> UNITKB/TK Transport Bendahara
B35: 45849 | E35: Pengambilan dana dropping dari BSM | F35: 10000000 | H35: =H34+F35-G35 -> 35518739 | J35: =D35 -> 0 | K35: =DAY(B35) -> 11 | L35: =PROPER(TRIM(MID(SUBSTITUTE($B$3," ",REPT(" ",99)),99*INT((LEN($B$3)-LEN(SUBSTITUTE($B$3," ","")))/2),99))) -> Juli | M35: =IF(J35<1," ","JV-KB/TK-"&$L$10&"-"&J35) | N35: ="KB/TK "&E35 -> KB/TK Pengambilan dana dropping dari BSM | P35: =E35 -> Pengambilan dana dropping dari BSM | Q35: =F35+G35 -> 10000000 | R35: =Q35 -> 10000000 | T35: =$T$10 -> UNIT | U35: =CONCATENATE(T35,N35) -> UNITKB/TK Pengambilan dana dropping dari BSM
B36: 45849 | E36: Diterima kas tunai di bendahara | G36: 10000000 | H36: =H35+F36-G36 -> 25518739 | J36: =D36 -> 0 | K36: =DAY(B36) -> 11 | L36: =PROPER(TRIM(MID(SUBSTITUTE($B$3," ",REPT(" ",99)),99*INT((LEN($B$3)-LEN(SUBSTITUTE($B$3," ","")))/2),99))) -> Juli | M36: =IF(J36<1," ","JV-KB/TK-"&$L$10&"-"&J36) | N36: ="KB/TK "&E36 -> KB/TK Diterima kas tunai di bendahara | P36: =E36 -> Diterima kas tunai di bendahara | Q36: =F36+G36 -> 10000000 | R36: =Q36 -> 10000000 | T36: =$T$10 -> UNIT | U36: =CONCATENATE(T36,N36) -> UNITKB/TK Diterima kas tunai di bendahara
B37: 45849 | C37: 516120 | D37: 16 | E37: Rapat Kerja Sekolah | G37: 450000 | H37: =H36+F37-G37 -> 25068739 | J37: =D37 -> 16 | K37: =DAY(B37) -> 11 | L37: =PROPER(TRIM(MID(SUBSTITUTE($B$3," ",REPT(" ",99)),99*INT((LEN($B$3)-LEN(SUBSTITUTE($B$3," ","")))/2),99))) -> Juli | M37: =IF(J37<1," ","JV-KB/TK-"&$L$10&"-"&J37) -> JV-KB/TK-bulan-16 | N37: ="KB/TK "&E37 -> KB/TK Rapat Kerja Sekolah | P37: =E37 -> Rapat Kerja Sekolah | Q37: =F37+G37 -> 450000 | R37: =Q37 -> 450000 | T37: =$T$10 -> UNIT | U37: =CONCATENATE(T37,N37) -> UNITKB/TK Rapat Kerja Sekolah
B38: 45850 | C38: 530702 | D38: 17 | E38: Kegiatan Insidental | G38: 432000 | H38: =H37+F38-G38 -> 24636739 | J38: =D38 -> 17 | K38: =DAY(B38) -> 12 | L38: =PROPER(TRIM(MID(SUBSTITUTE($B$3," ",REPT(" ",99)),99*INT((LEN($B$3)-LEN(SUBSTITUTE($B$3," ","")))/2),99))) -> Juli | M38: =IF(J38<1," ","JV-KB/TK-"&$L$10&"-"&J38) -> JV-KB/TK-bulan-17 | N38: ="KB/TK "&E38 -> KB/TK Kegiatan Insidental | P38: =E38 -> Kegiatan Insidental | Q38: =F38+G38 -> 432000 | R38: =Q38 -> 432000 | T38: =$T$10 -> UNIT | U38: =CONCATENATE(T38,N38) -> UNITKB/TK Kegiatan Insidental
B39: 45851 | C39: 515108 | D39: 18 | E39: Perawatan Gedung | G39: 125000 | H39: =H38+F39-G39 -> 24511739 | J39: =D39 -> 18 | K39: =DAY(B39) -> 13 | L39: =PROPER(TRIM(MID(SUBSTITUTE($B$3," ",REPT(" ",99)),99*INT((LEN($B$3)-LEN(SUBSTITUTE($B$3," ","")))/2),99))) -> Juli | M39: =IF(J39<1," ","JV-KB/TK-"&$L$10&"-"&J39) -> JV-KB/TK-bulan-18 | N39: ="KB/TK "&E39 -> KB/TK Perawatan Gedung | P39: =E39 -> Perawatan Gedung | Q39: =F39+G39 -> 125000 | R39: =Q39 -> 125000 | T39: =$T$10 -> UNIT | U39: =CONCATENATE(T39,N39) -> UNITKB/TK Perawatan Gedung
B40: 45852 | C40: 515115 | D40: 19 | E40: Perawatan Kebun dan Taman | G40: 585000 | H40: =H39+F40-G40 -> 23926739 | J40: =D40 -> 19 | K40: =DAY(B40) -> 14 | L40: =PROPER(TRIM(MID(SUBSTITUTE($B$3," ",REPT(" ",99)),99*INT((LEN($B$3)-LEN(SUBSTITUTE($B$3," ","")))/2),99))) -> Juli | M40: =IF(J40<1," ","JV-KB/TK-"&$L$10&"-"&J40) -> JV-KB/TK-bulan-19 | N40: ="KB/TK "&E40 -> KB/TK Perawatan Kebun dan Taman | P40: =E40 -> Perawatan Kebun dan Taman | Q40: =F40+G40 -> 585000 | R40: =Q40 -> 585000 | T40: =$T$10 -> UNIT | U40: =CONCATENATE(T40,N40) -> UNITKB/TK Perawatan Kebun dan Taman
B41: 45853 | C41: 530918 | D41: 20 | E41: Penarikan Sampah | G41: 350000 | H41: =H40+F41-G41 -> 23576739 | J41: =D41 -> 20 | K41: =DAY(B41) -> 15 | L41: =PROPER(TRIM(MID(SUBSTITUTE($B$3," ",REPT(" ",99)),99*INT((LEN($B$3)-LEN(SUBSTITUTE($B$3," ","")))/2),99))) -> Juli | M41: =IF(J41<1," ","JV-KB/TK-"&$L$10&"-"&J41) -> JV-KB/TK-bulan-20 | N41: ="KB/TK "&E41 -> KB/TK Penarikan Sampah | P41: =E41 -> Penarikan Sampah | Q41: =F41+G41 -> 350000 | R41: =Q41 -> 350000 | T41: =$T$10 -> UNIT | U41: =CONCATENATE(T41,N41) -> UNITKB/TK Penarikan Sampah
B42: 45855 | C42: 530701 | D42: 21 | E42: Air mineral galon | G42: 40800 | H42: =H41+F42-G42 -> 23535939 | J42: =D42 -> 21 | K42: =DAY(B42) -> 17 | L42: =PROPER(TRIM(MID(SUBSTITUTE($B$3," ",REPT(" ",99)),99*INT((LEN($B$3)-LEN(SUBSTITUTE($B$3," ","")))/2),99))) -> Juli | M42: =IF(J42<1," ","JV-KB/TK-"&$L$10&"-"&J42) -> JV-KB/TK-bulan-21 | N42: ="KB/TK "&E42 -> KB/TK Air mineral galon | P42: =E42 -> Air mineral galon | Q42: =F42+G42 -> 40800 | R42: =Q42 -> 40800 | T42: =$T$10 -> UNIT | U42: =CONCATENATE(T42,N42) -> UNITKB/TK Air mineral galon
B43: 45857 | C43: 530212 | D43: 22 | E43: Obat pembersih & pengharum | G43: 758700 | H43: =H42+F43-G43 -> 22777239 | J43: =D43 -> 22 | K43: =DAY(B43) -> 19 | L43: =PROPER(TRIM(MID(SUBSTITUTE($B$3," ",REPT(" ",99)),99*INT((LEN($B$3)-LEN(SUBSTITUTE($B$3," ","")))/2),99))) -> Juli | M43: =IF(J43<1," ","JV-KB/TK-"&$L$10&"-"&J43) -> JV-KB/TK-bulan-22 | N43: ="KB/TK "&E43 -> KB/TK Obat pembersih & pengharum | P43: =E43 -> Obat pembersih & pengharum | Q43: =F43+G43 -> 758700 | R43: =Q43 -> 758700 | T43: =$T$10 -> UNIT | U43: =CONCATENATE(T43,N43) -> UNITKB/TK Obat pembersih & pengharum
B44: 45857 | C44: 530709 | D44: 23 | E44: Minuman Guru dan Karyawan | G44: 316800 | H44: =H43+F44-G44 -> 22460439 | J44: =D44 -> 23 | K44: =DAY(B44) -> 19 | L44: =PROPER(TRIM(MID(SUBSTITUTE($B$3," ",REPT(" ",99)),99*INT((LEN($B$3)-LEN(SUBSTITUTE($B$3," ","")))/2),99))) -> Juli | M44: =IF(J44<1," ","JV-KB/TK-"&$L$10&"-"&J44) -> JV-KB/TK-bulan-23 | N44: ="KB/TK "&E44 -> KB/TK Minuman Guru dan Karyawan | P44: =E44 -> Minuman Guru dan Karyawan | Q44: =F44+G44 -> 316800 | R44: =Q44 -> 316800 | T44: =$T$10 -> UNIT | U44: =CONCATENATE(T44,N44) -> UNITKB/TK Minuman Guru dan Karyawan
B45: 45859 | C45: 515107 | D45: 24 | E45: Perawatan Elektronik Lain | G45: 150000 | H45: =H44+F45-G45 -> 22310439 | J45: =D45 -> 24 | K45: =DAY(B45) -> 21 | L45: =PROPER(TRIM(MID(SUBSTITUTE($B$3," ",REPT(" ",99)),99*INT((LEN($B$3)-LEN(SUBSTITUTE($B$3," ","")))/2),99))) -> Juli | M45: =IF(J45<1," ","JV-KB/TK-"&$L$10&"-"&J45) -> JV-KB/TK-bulan-24 | N45: ="KB/TK "&E45 -> KB/TK Perawatan Elektronik Lain | P45: =E45 -> Perawatan Elektronik Lain | Q45: =F45+G45 -> 150000 | R45: =Q45 -> 150000 | T45: =$T$10 -> UNIT | U45: =CONCATENATE(T45,N45) -> UNITKB/TK Perawatan Elektronik Lain
B46: 45859 | C46: 515307 | D46: 25 | E46: Pengobatan cepat ( Pertolongan pertama ) | G46: 515400 | H46: =H45+F46-G46 -> 21795039 | J46: =D46 -> 25 | K46: =DAY(B46) -> 21 | L46: =PROPER(TRIM(MID(SUBSTITUTE($B$3," ",REPT(" ",99)),99*INT((LEN($B$3)-LEN(SUBSTITUTE($B$3," ","")))/2),99))) -> Juli | M46: =IF(J46<1," ","JV-KB/TK-"&$L$10&"-"&J46) -> JV-KB/TK-bulan-25 | N46: ="KB/TK "&E46 -> KB/TK Pengobatan cepat ( Pertolongan pertama ) | P46: =E46 -> Pengobatan cepat ( Pertolongan pertama ) | Q46: =F46+G46 -> 515400 | R46: =Q46 -> 515400 | T46: =$T$10 -> UNIT | U46: =CONCATENATE(T46,N46) -> UNITKB/TK Pengobatan cepat ( Pertolongan pertama )
B47: 45860 | C47: 530202 | D47: 26 | E47: Alat kebersihan | G47: 291700 | H47: =H46+F47-G47 -> 21503339 | J47: =D47 -> 26 | K47: =DAY(B47) -> 22 | L47: =PROPER(TRIM(MID(SUBSTITUTE($B$3," ",REPT(" ",99)),99*INT((LEN($B$3)-LEN(SUBSTITUTE($B$3," ","")))/2),99))) -> Juli | M47: =IF(J47<1," ","JV-KB/TK-"&$L$10&"-"&J47) -> JV-KB/TK-bulan-26 | N47: ="KB/TK "&E47 -> KB/TK Alat kebersihan | P47: =E47 -> Alat kebersihan | Q47: =F47+G47 -> 291700 | R47: =Q47 -> 291700 | T47: =$T$10 -> UNIT | U47: =CONCATENATE(T47,N47) -> UNITKB/TK Alat kebersihan
B48: 45861 | C48: 530906 | D48: 27 | E48: GOPTKI | G48: 40000 | H48: =H47+F48-G48 -> 21463339 | J48: =D48 -> 27 | K48: =DAY(B48) -> 23 | L48: =PROPER(TRIM(MID(SUBSTITUTE($B$3," ",REPT(" ",99)),99*INT((LEN($B$3)-LEN(SUBSTITUTE($B$3," ","")))/2),99))) -> Juli | M48: =IF(J48<1," ","JV-KB/TK-"&$L$10&"-"&J48) -> JV-KB/TK-bulan-27 | N48: ="KB/TK "&E48 -> KB/TK GOPTKI | P48: =E48 -> GOPTKI | Q48: =F48+G48 -> 40000 | R48: =Q48 -> 40000 | T48: =$T$10 -> UNIT | U48: =CONCATENATE(T48,N48) -> UNITKB/TK GOPTKI
B49: 45862 | C49: 530707 | D49: 28 | E49: Kunjungan Tamu | G49: 296000 | H49: =H48+F49-G49 -> 21167339 | N49: ="KB/TK "&E49 -> KB/TK Kunjungan Tamu | P49: =E49 -> Kunjungan Tamu
B50: 45863 | C50: 530914 | D50: 29 | E50: KKG/MGMP | G50: 234000 | H50: =H49+F50-G50 -> 20933339 | J50: =D50 -> 29 | K50: =DAY(B50) -> 25 | L50: =PROPER(TRIM(MID(SUBSTITUTE($B$3," ",REPT(" ",99)),99*INT((LEN($B$3)-LEN(SUBSTITUTE($B$3," ","")))/2),99))) -> Juli | M50: =IF(J50<1," ","JV-KB/TK-"&$L$10&"-"&J50) -> JV-KB/TK-bulan-29 | N50: ="KB/TK "&E50 -> KB/TK KKG/MGMP | P50: =E50 -> KKG/MGMP | Q50: =F50+G50 -> 234000 | R50: =Q50 -> 234000 | T50: =$T$10 -> UNIT | U50: =CONCATENATE(T50,N50) -> UNITKB/TK KKG/MGMP
B51: 45864 | C51: 530704 | D51: 30 | E51: Ketempatan Rapat | G51: 60000 | H51: =H50+F51-G51 -> 20873339 | J51: =D51 -> 30 | K51: =DAY(B51) -> 26 | L51: =PROPER(TRIM(MID(SUBSTITUTE($B$3," ",REPT(" ",99)),99*INT((LEN($B$3)-LEN(SUBSTITUTE($B$3," ","")))/2),99))) -> Juli | M51: =IF(J51<1," ","JV-KB/TK-"&$L$10&"-"&J51) -> JV-KB/TK-bulan-30 | N51: ="KB/TK "&E51 -> KB/TK Ketempatan Rapat | P51: =E51 -> Ketempatan Rapat | Q51: =F51+G51 -> 60000 | R51: =Q51 -> 60000 | T51: =$T$10 -> UNIT | U51: =CONCATENATE(T51,N51) -> UNITKB/TK Ketempatan Rapat
B52: 45866 | C52: 553100 | D52: 31 | E52: Biaya Lain-Lain | G52: 1475800 | H52: =H51+F52-G52 -> 19397539 | J52: =D52 -> 31 | K52: =DAY(B52) -> 28 | L52: =PROPER(TRIM(MID(SUBSTITUTE($B$3," ",REPT(" ",99)),99*INT((LEN($B$3)-LEN(SUBSTITUTE($B$3," ","")))/2),99))) -> Juli | M52: =IF(J52<1," ","JV-KB/TK-"&$L$10&"-"&J52) -> JV-KB/TK-bulan-31 | N52: ="KB/TK "&E52 -> KB/TK Biaya Lain-Lain | P52: =E52 -> Biaya Lain-Lain | Q52: =F52+G52 -> 1475800 | R52: =Q52 -> 1475800 | T52: =$T$10 -> UNIT | U52: =CONCATENATE(T52,N52) -> UNITKB/TK Biaya Lain-Lain
B53: 45867 | E53: Pengambilan dana dropping dari BSM | F53: 24833000 | H53: =H52+F53-G53 -> 44230539 | J53: =D53 -> 0 | K53: =DAY(B53) -> 29 | L53: =PROPER(TRIM(MID(SUBSTITUTE($B$3," ",REPT(" ",99)),99*INT((LEN($B$3)-LEN(SUBSTITUTE($B$3," ","")))/2),99))) -> Juli | M53: =IF(J53<1," ","JV-KB/TK-"&$L$10&"-"&J53) | N53: ="KB/TK "&E53 -> KB/TK Pengambilan dana dropping dari BSM | P53: =E53 -> Pengambilan dana dropping dari BSM | Q53: =F53+G53 -> 24833000 | R53: =Q53 -> 24833000 | T53: =$T$10 -> UNIT | U53: =CONCATENATE(T53,N53) -> UNITKB/TK Pengambilan dana dropping dari BSM
B54: 45867 | E54: Diterima kas tunai di bendahara | G54: 24833000 | H54: =H53+F54-G54 -> 19397539 | J54: =D54 -> 0 | K54: =DAY(B54) -> 29 | L54: =PROPER(TRIM(MID(SUBSTITUTE($B$3," ",REPT(" ",99)),99*INT((LEN($B$3)-LEN(SUBSTITUTE($B$3," ","")))/2),99))) -> Juli | M54: =IF(J54<1," ","JV-KB/TK-"&$L$10&"-"&J54) | N54: ="KB/TK "&E54 -> KB/TK Diterima kas tunai di bendahara | P54: =E54 -> Diterima kas tunai di bendahara | Q54: =F54+G54 -> 24833000 | R54: =Q54 -> 24833000 | T54: =$T$10 -> UNIT | U54: =CONCATENATE(T54,N54) -> UNITKB/TK Diterima kas tunai di bendahara
B55: 45867 | C55: 530907 | D55: 32 | E55: Himpaudi | G55: 134000 | H55: =H54+F55-G55 -> 19263539 | J55: =D55 -> 32 | K55: =DAY(B55) -> 29 | L55: =PROPER(TRIM(MID(SUBSTITUTE($B$3," ",REPT(" ",99)),99*INT((LEN($B$3)-LEN(SUBSTITUTE($B$3," ","")))/2),99))) -> Juli | M55: =IF(J55<1," ","JV-KB/TK-"&$L$10&"-"&J55) -> JV-KB/TK-bulan-32 | N55: ="KB/TK "&E55 -> KB/TK Himpaudi | P55: =E55 -> Himpaudi | Q55: =F55+G55 -> 134000 | R55: =Q55 -> 134000 | T55: =$T$10 -> UNIT | U55: =CONCATENATE(T55,N55) -> UNITKB/TK Himpaudi
B56: 45867 | E56: Biaya Pemindahbukuan e-Banking | G56: 2500 | H56: =H55+F56-G56 -> 19261039
B57: 45868 | C57: 516040 | D57: 33 | E57: Desain Kelas | G57: 2026900 | H57: =H56+F57-G57 -> 17234139
B58: 45869 | C58: 512401 | D58: 34 | E58: Administrasi Kelas | G58: 750750 | H58: =H57+F58-G58 -> 16483389
B59: 45869 | C59: 530127 | D59: 35 | E59: ATK Lain-lain | G59: 344300 | H59: =H58+F59-G59 -> 16139089
B60: 45869 | C60: 530409 | D60: 36 | E60: Jilid Portofolio | G60: 272000 | H60: =H59+F60-G60 -> 15867089
B61: 45869 | C61: 530601 | D61: 37 | E61: Perkantoran | G61: 17750 | H61: =H60+F61-G61 -> 15849339
B62: 45869 | C62: 530602 | D62: 38 | E62: Work sheet | G62: 615250 | H62: =H61+F62-G62 -> 15234089
B63: 45869 | E63: DROPPING KB TK BLN JULI 2025 | F63: 64290000 | H63: =H62+F63-G63 -> 79524089
I64: =SUM(G11:G63) -> 1.1967924e+08
B66: Pada hari ini Kamis, 31 Juli 2025 Buku Kas Umum ditutup dengan keadaan / posisi buku sebagai berikut : | I66: =G13+G14+G16+G22+G26+G36+G54+G56 -> 99858090
B67: Saldo kas Umum | F67: =H63 -> 79524089 | I67: =I64-I66 -> 19821150
B68: Terdiri dari :
B69: Saldo Bank | E69: 64682889
B70: Saldo Kas Tunai | E70: 14841200
B71: Jumlah | E71: =SUM(E69:E70) -> 79524089
C73: Mengetahui, | G73: Purwoketo, 31 Juli 2025
C74: Kepala Sekolah | G74: Bendahara
C78: Khusnul Khotimah, S.Si., S.Pd. | G78: Sigit Purwanto, A.Md.Kom.

Sheet AGU25
B1: Tanggal | C1: No. Kode | D1: No. Bukti | E1: Uraian | F1: Penerimaan (Debit) | G1: Pengeluaran (Kredit) | H1: Saldo Kas | I1: 1 | J1: no | K1: tgl | L1: bulan | M1: jurnal voucher | N1: KB/TK+uraian | O1: COA | P1: URAIAN | Q1: JUMLAH (DEBIT+KREDIT) | R1: JUMLAH (DEBIT+KREDIT)2 | S1: KOSONGI | T1: UNIT | U1: CONCENATE | V1: KB/TK
B2: BUKU KAS UMUM
B3: BULAN AGUSTUS 2025
B5: Sekolah | D5: : KB & TK AL IRSYAD AL ISLAMIYYAH PURWOKERTO
B6: Desa / Kecamatan | D6: : SOKANEGARA / PURWOKERTO TIMUR
B7: Kabupaten | D7: : BANYUMAS
B8: Provinsi | D8: : JAWA TENGAH
L9: 2 | T9: KB/TK
B10: Tanggal | C10: No. Kode | D10: No. Bukti | E10: Uraian | F10: Penerimaan (Kredit) | G10: Pengeluaran (Debit) | H10: Saldo Kas | J10: no | K10: tgl | L10: bulan | M10: jurnal voucher | N10: KB/TK+uraian | O10: COA | P10: URAIAN | Q10: JUMLAH (DEBIT+KREDIT) | R10: JUMLAH (DEBIT+KREDIT)2 | S10: KOSONGI | T10: UNIT | U10: CONCENATE | V10: KB/TK
B11: 45870 | E11: Saldo bulan lalu | F11: ='JUL25'!E71 -> 79524089 | H11: =F11 -> 79524089 | J11: =D11 -> 0 | K11: =DAY(B11) -> 1 | L11: =PROPER(TRIM(MID(SUBSTITUTE($B$3," ",REPT(" ",99)),99*INT((LEN($B$3)-LEN(SUBSTITUTE($B$3," ","")))/2),99))) -> Agustus | M11: =IF(J11<1," ","JV-KB/TK-"&$L$11&"-"&J11) | N11: ="KB/TK "&E11 -> KB/TK Saldo bulan lalu | P11: =E11 -> Saldo bulan lalu | Q11: =F11+G11 -> 79524089 | R11: =Q11 -> 79524089 | T11: =$T$10 -> UNIT | U11: =CONCATENATE(T11,N11) -> UNITKB/TK Saldo bulan lalu
B12: 45870 | C12: 553100 | D12: 1 | E12: Biaya Lain-Lain | G12: 325400 | H12: =H11+F12-G12 -> 79198689 | J12: =D12 -> 1 | K12: =DAY(B12) -> 1 | L12: =PROPER(TRIM(MID(SUBSTITUTE($B$3," ",REPT(" ",99)),99*INT((LEN($B$3)-LEN(SUBSTITUTE($B$3," ","")))/2),99))) -> Agustus | M12: =IF(J12<1," ","JV-KB/TK-"&$L$10&"-"&J12) -> JV-KB/TK-bulan-1 | N12: ="KB/TK "&E12 -> KB/TK Biaya Lain-Lain | P12: =E12 -> Biaya Lain-Lain | Q12: =F12+G12 -> 325400 | R12: =Q12 -> 325400 | T12: =$T$10 -> UNIT | U12: =CONCATENATE(T12,N12) -> UNITKB/TK Biaya Lain-Lain
B13: 45870 | E13: Bagi Hasil atau Bonus | F13: 2975.61 | H13: =H12+F13-G13 -> 79201665 | J13: =D13 -> 0 | K13: =DAY(B13) -> 1 | L13: =PROPER(TRIM(MID(SUBSTITUTE($B$3," ",REPT(" ",99)),99*INT((LEN($B$3)-LEN(SUBSTITUTE($B$3," ","")))/2),99))) -> Agustus | M13: =IF(J13<1," ","JV-KB/TK-"&$L$10&"-"&J13) | N13: ="KB/TK "&E13 -> KB/TK Bagi Hasil atau Bonus | P13: =E13 -> Bagi Hasil atau Bonus | Q13: =F13+G13 -> 2975.61 | R13: =Q13 -> 2975.61 | T13: =$T$10 -> UNIT | U13: =CONCATENATE(T13,N13) -> UNITKB/TK Bagi Hasil atau Bonus
B14: 45870 | E14: Pajak | G14: 595.12 | H14: =H13+F14-G14 -> 79201070 | J14: =D14 -> 0 | K14: =DAY(B14) -> 1 | L14: =PROPER(TRIM(MID(SUBSTITUTE($B$3," ",REPT(" ",99)),99*INT((LEN($B$3)-LEN(SUBSTITUTE($B$3," ","")))/2),99))) -> Agustus | M14: =IF(J14<1," ","JV-KB/TK-"&$L$10&"-"&J14) | N14: ="KB/TK "&E14 -> KB/TK Pajak | P14: =E14 -> Pajak | Q14: =F14+G14 -> 595.12 | R14: =Q14 -> 595.12 | T14: =$T$10 -> UNIT | U14: =CONCATENATE(T14,N14) -> UNITKB/TK Pajak
B15: 45871 | E15: By. Adm BSMNet JUL 25 | G15: 10000 | H15: =H14+F15-G15 -> 79191070 | J15: =D15 -> 0 | K15: =DAY(B15) -> 2 | L15: =PROPER(TRIM(MID(SUBSTITUTE($B$3," ",REPT(" ",99)),99*INT((LEN($B$3)-LEN(SUBSTITUTE($B$3," ","")))/2),99))) -> Agustus | M15: =IF(J15<1," ","JV-KB/TK-"&$L$10&"-"&J15) | N15: ="KB/TK "&E15 -> KB/TK By. Adm BSMNet JUL 25 | P15: =E15 -> By. Adm BSMNet JUL 25 | Q15: =F15+G15 -> 10000 | R15: =Q15 -> 10000 | T15: =$T$10 -> UNIT | U15: =CONCATENATE(T15,N15) -> UNITKB/TK By. Adm BSMNet JUL 25
B16: 45873 | E16: Biaya Administrasi | G16: 10000 | H16: =H15+F16-G16 -> 79181070
B17: 45874 | C17: 530918 | D17: 2 | E17: Penarikan Sampah | G17: 350000 | H17: =H16+F17-G17 -> 78831070 | J17: =D17 -> 2 | K17: =DAY(B17) -> 5 | L17: =PROPER(TRIM(MID(SUBSTITUTE($B$3," ",REPT(" ",99)),99*INT((LEN($B$3)-LEN(SUBSTITUTE($B$3," ","")))/2),99))) -> Agustus | M17: =IF(J17<1," ","JV-KB/TK-"&$L$10&"-"&J17) -> JV-KB/TK-bulan-2 | N17: ="KB/TK "&E17 -> KB/TK Penarikan Sampah | P17: =E17 -> Penarikan Sampah | Q17: =F17+G17 -> 350000 | R17: =Q17 -> 350000 | T17: =$T$10 -> UNIT | U17: =CONCATENATE(T17,N17) -> UNITKB/TK Penarikan Sampah
B18: 45875 | C18: 540224/120231 | D18: 3 | E18: Printer | G18: 498000 | H18: =H17+F18-G18 -> 78333070 | J18: =D18 -> 3 | K18: =DAY(B18) -> 6 | L18: =PROPER(TRIM(MID(SUBSTITUTE($B$3," ",REPT(" ",99)),99*INT((LEN($B$3)-LEN(SUBSTITUTE($B$3," ","")))/2),99))) -> Agustus | M18: =IF(J18<1," ","JV-KB/TK-"&$L$10&"-"&J18) -> JV-KB/TK-bulan-3 | N18: ="KB/TK "&E18 -> KB/TK Printer | P18: =E18 -> Printer | Q18: =F18+G18 -> 498000 | R18: =Q18 -> 498000 | T18: =$T$10 -> UNIT | U18: =CONCATENATE(T18,N18) -> UNITKB/TK Printer
B19: 45876 | E19: Pengambilan dana dropping dari BSM | F19: 15000000 | H19: =H18+F19-G19 -> 93333070 | J19: =D19 -> 0 | K19: =DAY(B19) -> 7 | L19: =PROPER(TRIM(MID(SUBSTITUTE($B$3," ",REPT(" ",99)),99*INT((LEN($B$3)-LEN(SUBSTITUTE($B$3," ","")))/2),99))) -> Agustus | M19: =IF(J19<1," ","JV-KB/TK-"&$L$10&"-"&J19) | N19: ="KB/TK "&E19 -> KB/TK Pengambilan dana dropping dari BSM | P19: =E19 -> Pengambilan dana dropping dari BSM | Q19: =F19+G19 -> 15000000 | R19: =Q19 -> 15000000 | T19: =$T$10 -> UNIT | U19: =CONCATENATE(T19,N19) -> UNITKB/TK Pengambilan dana dropping dari BSM
B20: 45876 | E20: Diterima kas tunai di Bendahara | G20: 15000000 | H20: =H19+F20-G20 -> 78333070 | J20: =D20 -> 0 | K20: =DAY(B20) -> 7 | L20: =PROPER(TRIM(MID(SUBSTITUTE($B$3," ",REPT(" ",99)),99*INT((LEN($B$3)-LEN(SUBSTITUTE($B$3," ","")))/2),99))) -> Agustus | M20: =IF(J20<1," ","JV-KB/TK-"&$L$10&"-"&J20) | N20: ="KB/TK "&E20 -> KB/TK Diterima kas tunai di Bendahara | P20: =E20 -> Diterima kas tunai di Bendahara | Q20: =F20+G20 -> 15000000 | R20: =Q20 -> 15000000 | T20: =$T$10 -> UNIT | U20: =CONCATENATE(T20,N20) -> UNITKB/TK Diterima kas tunai di Bendahara
B21: 45876 | E21: Pengambilan dana dropping dari BSM | F21: 20000000 | H21: =H20+F21-G21 -> 98333070 | J21: =D21 -> 0 | K21: =DAY(B21) -> 7 | L21: =PROPER(TRIM(MID(SUBSTITUTE($B$3," ",REPT(" ",99)),99*INT((LEN($B$3)-LEN(SUBSTITUTE($B$3," ","")))/2),99))) -> Agustus | M21: =IF(J21<1," ","JV-KB/TK-"&$L$10&"-"&J21) | N21: ="KB/TK "&E21 -> KB/TK Pengambilan dana dropping dari BSM | P21: =E21 -> Pengambilan dana dropping dari BSM | Q21: =F21+G21 -> 20000000 | R21: =Q21 -> 20000000 | T21: =$T$10 -> UNIT | U21: =CONCATENATE(T21,N21) -> UNITKB/TK Pengambilan dana dropping dari BSM
B22: 45876 | E22: Diterima kas tunai di Bendahara | G22: 20000000 | H22: =H21+F22-G22 -> 78333070 | J22: =D22 -> 0 | K22: =DAY(B22) -> 7 | L22: =PROPER(TRIM(MID(SUBSTITUTE($B$3," ",REPT(" ",99)),99*INT((LEN($B$3)-LEN(SUBSTITUTE($B$3," ","")))/2),99))) -> Agustus | M22: =IF(J22<1," ","JV-KB/TK-"&$L$10&"-"&J22) | N22: ="KB/TK "&E22 -> KB/TK Diterima kas tunai di Bendahara | P22: =E22 -> Diterima kas tunai di Bendahara | Q22: =F22+G22 -> 20000000 | R22: =Q22 -> 20000000 | T22: =$T$10 -> UNIT | U22: =CONCATENATE(T22,N22) -> UNITKB/TK Diterima kas tunai di Bendahara
B23: 45877 | C23: 530218 | D23: 4 | E23: Refill Gas | G23: 215000 | H23: =H22+F23-G23 -> 78118070 | J23: =D23 -> 4 | K23: =DAY(B23) -> 8 | L23: =PROPER(TRIM(MID(SUBSTITUTE($B$3," ",REPT(" ",99)),99*INT((LEN($B$3)-LEN(SUBSTITUTE($B$3," ","")))/2),99))) -> Agustus | M23: =IF(J23<1," ","JV-KB/TK-"&$L$10&"-"&J23) -> JV-KB/TK-bulan-4 | N23: ="KB/TK "&E23 -> KB/TK Refill Gas | P23: =E23 -> Refill Gas | Q23: =F23+G23 -> 215000 | R23: =Q23 -> 215000 | T23: =$T$10 -> UNIT | U23: =CONCATENATE(T23,N23) -> UNITKB/TK Refill Gas
B24: 45877 | C24: 530404 | D24: 5 | E24: Buku PAI | G24: 9295000 | H24: =H23+F24-G24 -> 68823070 | J24: =D24 -> 5 | K24: =DAY(B24) -> 8 | L24: =PROPER(TRIM(MID(SUBSTITUTE($B$3," ",REPT(" ",99)),99*INT((LEN($B$3)-LEN(SUBSTITUTE($B$3," ","")))/2),99))) -> Agustus | M24: =IF(J24<1," ","JV-KB/TK-"&$L$10&"-"&J24) -> JV-KB/TK-bulan-5 | N24: ="KB/TK "&E24 -> KB/TK Buku PAI | P24: =E24 -> Buku PAI | Q24: =F24+G24 -> 9295000 | R24: =Q24 -> 9295000 | T24: =$T$10 -> UNIT | U24: =CONCATENATE(T24,N24) -> UNITKB/TK Buku PAI
B25: 45877 | C25: 530801 | D25: 6 | E25: Internet | G25: 870900 | H25: =H24+F25-G25 -> 67952170 | J25: =D25 -> 6 | K25: =DAY(B25) -> 8 | L25: =PROPER(TRIM(MID(SUBSTITUTE($B$3," ",REPT(" ",99)),99*INT((LEN($B$3)-LEN(SUBSTITUTE($B$3," ","")))/2),99))) -> Agustus | M25: =IF(J25<1," ","JV-KB/TK-"&$L$10&"-"&J25) -> JV-KB/TK-bulan-6 | N25: ="KB/TK "&E25 -> KB/TK Internet | P25: =E25 -> Internet | Q25: =F25+G25 -> 870900 | R25: =Q25 -> 870900 | T25: =$T$10 -> UNIT | U25: =CONCATENATE(T25,N25) -> UNITKB/TK Internet
B26: 45877 | C26: 530802 | D26: 7 | E26: Listrik | G26: 2810800 | H26: =H25+F26-G26 -> 65141370 | J26: =D26 -> 7 | K26: =DAY(B26) -> 8 | L26: =PROPER(TRIM(MID(SUBSTITUTE($B$3," ",REPT(" ",99)),99*INT((LEN($B$3)-LEN(SUBSTITUTE($B$3," ","")))/2),99))) -> Agustus | M26: =IF(J26<1," ","JV-KB/TK-"&$L$10&"-"&J26) -> JV-KB/TK-bulan-7 | N26: ="KB/TK "&E26 -> KB/TK Listrik | P26: =E26 -> Listrik | Q26: =F26+G26 -> 2810800 | R26: =Q26 -> 2810800 | T26: =$T$10 -> UNIT | U26: =CONCATENATE(T26,N26) -> UNITKB/TK Listrik
B27: 45877 | C27: 530803 | D27: 8 | E27: PDAM | G27: 42800 | H27: =H26+F27-G27 -> 65098570 | J27: =D27 -> 8 | K27: =DAY(B27) -> 8 | L27: =PROPER(TRIM(MID(SUBSTITUTE($B$3," ",REPT(" ",99)),99*INT((LEN($B$3)-LEN(SUBSTITUTE($B$3," ","")))/2),99))) -> Agustus | M27: =IF(J27<1," ","JV-KB/TK-"&$L$10&"-"&J27) -> JV-KB/TK-bulan-8 | N27: ="KB/TK "&E27 -> KB/TK PDAM | P27: =E27 -> PDAM | Q27: =F27+G27 -> 42800 | R27: =Q27 -> 42800 | T27: =$T$10 -> UNIT | U27: =CONCATENATE(T27,N27) -> UNITKB/TK PDAM
B28: 45877 | C28: 530804 | D28: 9 | E28: Telepon | G28: 759200 | H28: =H27+F28-G28 -> 64339370 | J28: =D28 -> 9 | K28: =DAY(B28) -> 8 | L28: =PROPER(TRIM(MID(SUBSTITUTE($B$3," ",REPT(" ",99)),99*INT((LEN($B$3)-LEN(SUBSTITUTE($B$3," ","")))/2),99))) -> Agustus | M28: =IF(J28<1," ","JV-KB/TK-"&$L$10&"-"&J28) -> JV-KB/TK-bulan-9 | N28: ="KB/TK "&E28 -> KB/TK Telepon | P28: =E28 -> Telepon | Q28: =F28+G28 -> 759200 | R28: =Q28 -> 759200 | T28: =$T$10 -> UNIT | U28: =CONCATENATE(T28,N28) -> UNITKB/TK Telepon
B29: 45877 | C29: 531010 | D29: 10 | E29: Operasional Mobil Sekolah | G29: 29000 | H29: =H28+F29-G29 -> 64310370 | J29: =D29 -> 10 | K29: =DAY(B29) -> 8 | L29: =PROPER(TRIM(MID(SUBSTITUTE($B$3," ",REPT(" ",99)),99*INT((LEN($B$3)-LEN(SUBSTITUTE($B$3," ","")))/2),99))) -> Agustus | M29: =IF(J29<1," ","JV-KB/TK-"&$L$10&"-"&J29) -> JV-KB/TK-bulan-10 | N29: ="KB/TK "&E29 -> KB/TK Operasional Mobil Sekolah | P29: =E29 -> Operasional Mobil Sekolah | Q29: =F29+G29 -> 29000 | R29: =Q29 -> 29000 | T29: =$T$10 -> UNIT | U29: =CONCATENATE(T29,N29) -> UNITKB/TK Operasional Mobil Sekolah
B30: 45878 | C30: 515806 | D30: 11 | E30: Studio Rekaman Mini | G30: 2018700 | H30: =H29+F30-G30 -> 62291670 | J30: =D30 -> 11 | K30: =DAY(B30) -> 9 | L30: =PROPER(TRIM(MID(SUBSTITUTE($B$3," ",REPT(" ",99)),99*INT((LEN($B$3)-LEN(SUBSTITUTE($B$3," ","")))/2),99))) -> Agustus | M30: =IF(J30<1," ","JV-KB/TK-"&$L$10&"-"&J30) -> JV-KB/TK-bulan-11 | N30: ="KB/TK "&E30 -> KB/TK Studio Rekaman Mini | P30: =E30 -> Studio Rekaman Mini | Q30: =F30+G30 -> 2018700 | R30: =Q30 -> 2018700 | T30: =$T$10 -> UNIT | U30: =CONCATENATE(T30,N30) -> UNITKB/TK Studio Rekaman Mini
B31: 45878 | C31: 516080 | D31: 12 | E31: Kegiatan Parenting | G31: 1332650 | H31: =H30+F31-G31 -> 60959020 | J31: =D31 -> 12 | K31: =DAY(B31) -> 9 | L31: =PROPER(TRIM(MID(SUBSTITUTE($B$3," ",REPT(" ",99)),99*INT((LEN($B$3)-LEN(SUBSTITUTE($B$3," ","")))/2),99))) -> Agustus | M31: =IF(J31<1," ","JV-KB/TK-"&$L$10&"-"&J31) -> JV-KB/TK-bulan-12 | N31: ="KB/TK "&E31 -> KB/TK Kegiatan Parenting | P31: =E31 -> Kegiatan Parenting | Q31: =F31+G31 -> 1332650 | R31: =Q31 -> 1332650 | T31: =$T$10 -> UNIT | U31: =CONCATENATE(T31,N31) -> UNITKB/TK Kegiatan Parenting
B32: 45878 | C32: 530212 | D32: 13 | E32: Obat pembersih & pengharum | G32: 724600 | H32: =H31+F32-G32 -> 60234420 | J32: =D32 -> 13 | K32: =DAY(B32) -> 9 | L32: =PROPER(TRIM(MID(SUBSTITUTE($B$3," ",REPT(" ",99)),99*INT((LEN($B$3)-LEN(SUBSTITUTE($B$3," ","")))/2),99))) -> Agustus | M32: =IF(J32<1," ","JV-KB/TK-"&$L$10&"-"&J32) -> JV-KB/TK-bulan-13 | N32: ="KB/TK "&E32 -> KB/TK Obat pembersih & pengharum | P32: =E32 -> Obat pembersih & pengharum | Q32: =F32+G32 -> 724600 | R32: =Q32 -> 724600 | T32: =$T$10 -> UNIT | U32: =CONCATENATE(T32,N32) -> UNITKB/TK Obat pembersih & pengharum
B33: 45878 | C33: 530709 | D33: 14 | E33: Minuman Guru dan Karyawan | G33: 264600 | H33: =H32+F33-G33 -> 59969820 | J33: =D33 -> 14 | K33: =DAY(B33) -> 9 | L33: =PROPER(TRIM(MID(SUBSTITUTE($B$3," ",REPT(" ",99)),99*INT((LEN($B$3)-LEN(SUBSTITUTE($B$3," ","")))/2),99))) -> Agustus | M33: =IF(J33<1," ","JV-KB/TK-"&$L$10&"-"&J33) -> JV-KB/TK-bulan-14 | N33: ="KB/TK "&E33 -> KB/TK Minuman Guru dan Karyawan | P33: =E33 -> Minuman Guru dan Karyawan | Q33: =F33+G33 -> 264600 | R33: =Q33 -> 264600 | T33: =$T$10 -> UNIT | U33: =CONCATENATE(T33,N33) -> UNITKB/TK Minuman Guru dan Karyawan
B34: 45880 | C34: 515308 | D34: 15 | E34: Perlengkapan Desain UKS | G34: 255400 | H34: =H33+F34-G34 -> 59714420 | J34: =D34 -> 15 | K34: =DAY(B34) -> 11 | L34: =PROPER(TRIM(MID(SUBSTITUTE($B$3," ",REPT(" ",99)),99*INT((LEN($B$3)-LEN(SUBSTITUTE($B$3," ","")))/2),99))) -> Agustus | M34: =IF(J34<1," ","JV-KB/TK-"&$L$10&"-"&J34) -> JV-KB/TK-bulan-15 | N34: ="KB/TK "&E34 -> KB/TK Perlengkapan Desain UKS | P34: =E34 -> Perlengkapan Desain UKS | Q34: =F34+G34 -> 255400 | R34: =Q34 -> 255400 | T34: =$T$10 -> UNIT | U34: =CONCATENATE(T34,N34) -> UNITKB/TK Perlengkapan Desain UKS
... B48: 45886 | C48: 553100 | D48: 29 | E48: Biaya Lain-Lain | G48: 1129500 | H48: =H47+F48-G48 -> 54255520 | J48: =D48 -> 29 | K48: =DAY(B48) -> 17 | L48: =PROPER(TRIM(MID(SUBSTITUTE($B$3," ",REPT(" ",99)),99*INT((LEN($B$3)-LEN(SUBSTITUTE($B$3," ","")))/2),99))) -> Agustus | M48: =IF(J48<1," ","JV-KB/TK-"&$L$10&"-"&J48) -> JV-KB/TK-bulan-29 | N48: ="KB/TK "&E48 -> KB/TK Biaya Lain-Lain | P48: =E48 -> Biaya Lain-Lain | Q48: =F48+G48 -> 1129500 | R48: =Q48 -> 1129500 | T48: =$T$10 -> UNIT | U48: =CONCATENATE(T48,N48) -> UNITKB/TK Biaya Lain-Lain
B49: 45888 | C49: 515114 | D49: 30 | E49: Perawatan Karpet dan Sarana Ibadah | G49: 690000 | H49: =H48+F49-G49 -> 53565520 | N49: ="KB/TK "&E49 -> KB/TK Perawatan Karpet dan Sarana Ibadah | P49: =E49 -> Perawatan Karpet dan Sarana Ibadah
B50: 45888 | C50: 530202 | D50: 31 | E50: Alat kebersihan | G50: 910000 | H50: =H49+F50-G50 -> 52655520 | J50: =D50 -> 31 | K50: =DAY(B50) -> 19 | L50: =PROPER(TRIM(MID(SUBSTITUTE($B$3," ",REPT(" ",99)),99*INT((LEN($B$3)-LEN(SUBSTITUTE($B$3," ","")))/2),99))) -> Agustus | M50: =IF(J50<1," ","JV-KB/TK-"&$L$10&"-"&J50) -> JV-KB/TK-bulan-31 | N50: ="KB/TK "&E50 -> KB/TK Alat kebersihan | P50: =E50 -> Alat kebersihan | Q50: =F50+G50 -> 910000 | R50: =Q50 -> 910000 | T50: =$T$10 -> UNIT | U50: =CONCATENATE(T50,N50) -> UNITKB/TK Alat kebersihan
B51: 45889 | C51: 530906 | D51: 32 | E51: GOPTKI | G51: 20000 | H51: =H50+F51-G51 -> 52635520 | J51: =D51 -> 32 | K51: =DAY(B51) -> 20 | L51: =PROPER(TRIM(MID(SUBSTITUTE($B$3," ",REPT(" ",99)),99*INT((LEN($B$3)-LEN(SUBSTITUTE($B$3," ","")))/2),99))) -> Agustus | M51: =IF(J51<1," ","JV-KB/TK-"&$L$10&"-"&J51) -> JV-KB/TK-bulan-32 | N51: ="KB/TK "&E51 -> KB/TK GOPTKI | P51: =E51 -> GOPTKI | Q51: =F51+G51 -> 20000 | R51: =Q51 -> 20000 | T51: =$T$10 -> UNIT | U51: =CONCATENATE(T51,N51) -> UNITKB/TK GOPTKI
B52: 45891 | C52: 530304 | D52: 33 | E52: Batu Baterai | G52: 100000 | H52: =H51+F52-G52 -> 52535520 | J52: =D52 -> 33 | K52: =DAY(B52) -> 22 | L52: =PROPER(TRIM(MID(SUBSTITUTE($B$3," ",REPT(" ",99)),99*INT((LEN($B$3)-LEN(SUBSTITUTE($B$3," ","")))/2),99))) -> Agustus | M52: =IF(J52<1," ","JV-KB/TK-"&$L$10&"-"&J52) -> JV-KB/TK-bulan-33 | N52: ="KB/TK "&E52 -> KB/TK Batu Baterai | P52: =E52 -> Batu Baterai | Q52: =F52+G52 -> 100000 | R52: =Q52 -> 100000 | T52: =$T$10 -> UNIT | U52: =CONCATENATE(T52,N52) -> UNITKB/TK Batu Baterai
B53: 45892 | C53: 530127 | D53: 34 | E53: ATK Lain-lain | G53: 244500 | H53: =H52+F53-G53 -> 52291020 | J53: =D53 -> 34 | K53: =DAY(B53) -> 23 | L53: =PROPER(TRIM(MID(SUBSTITUTE($B$3," ",REPT(" ",99)),99*INT((LEN($B$3)-LEN(SUBSTITUTE($B$3," ","")))/2),99))) -> Agustus | M53: =IF(J53<1," ","JV-KB/TK-"&$L$10&"-"&J53) -> JV-KB/TK-bulan-34 | N53: ="KB/TK "&E53 -> KB/TK ATK Lain-lain | P53: =E53 -> ATK Lain-lain | Q53: =F53+G53 -> 244500 | R53: =Q53 -> 244500 | T53: =$T$10 -> UNIT | U53: =CONCATENATE(T53,N53) -> UNITKB/TK ATK Lain-lain
B54: 45892 | C54: 530201 | D54: 35 | E54: Alat Dapur | G54: 25800 | H54: =H53+F54-G54 -> 52265220 | J54: =D54 -> 35 | K54: =DAY(B54) -> 23 | L54: =PROPER(TRIM(MID(SUBSTITUTE($B$3," ",REPT(" ",99)),99*INT((LEN($B$3)-LEN(SUBSTITUTE($B$3," ","")))/2),99))) -> Agustus | M54: =IF(J54<1," ","JV-KB/TK-"&$L$10&"-"&J54) -> JV-KB/TK-bulan-35 | N54: ="KB/TK "&E54 -> KB/TK Alat Dapur | P54: =E54 -> Alat Dapur | Q54: =F54+G54 -> 25800 | R54: =Q54 -> 25800 | T54: =$T$10 -> UNIT | U54: =CONCATENATE(T54,N54) -> UNITKB/TK Alat Dapur
B55: 45893 | C55: 516040 | D55: 36 | E55: Desain Kelas | G55: 327800 | H55: =H54+F55-G55 -> 51937420 | J55: =D55 -> 36 | K55: =DAY(B55) -> 24 | L55: =PROPER(TRIM(MID(SUBSTITUTE($B$3," ",REPT(" ",99)),99*INT((LEN($B$3)-LEN(SUBSTITUTE($B$3," ","")))/2),99))) -> Agustus | M55: =IF(J55<1," ","JV-KB/TK-"&$L$10&"-"&J55) -> JV-KB/TK-bulan-36 | N55: ="KB/TK "&E55 -> KB/TK Desain Kelas | P55: =E55 -> Desain Kelas | Q55: =F55+G55 -> 327800 | R55: =Q55 -> 327800 | T55: =$T$10 -> UNIT | U55: =CONCATENATE(T55,N55) -> UNITKB/TK Desain Kelas
B56: 45894 | C56: 511303 | D56: 37 | E56: Perlengkapan Alat Ekstrakurikuler | G56: 432900 | H56: =H55+F56-G56 -> 51504520
B57: 45894 | C57: 515116 | D57: 38 | E57: Perawatan Komputer | G57: 250000 | H57: =H56+F57-G57 -> 51254520
B58: 45894 | C58: 531005 | D58: 39 | E58: Home Visit Siswa Dalam Kota | G58: 30000 | H58: =H57+F58-G58 -> 51224520
B59: 45894 | C59: 531008 | D59: 40 | E59: Home Visit SDM | G59: 400000 | H59: =H58+F59-G59 -> 50824520
B60: 45894 | C60: 552600 | D60: 41 | E60: Rehab Ringan Gedung | G60: 1068000 | H60: =H59+F60-G60 -> 49756520
B61: 45895 | C61: 515113 | D61: 42 | E61: Perawatan Jaringan Listrik | G61: 114500 | H61: =H60+F61-G61 -> 49642020
B62: 45895 | E62: Dropping unit TK bulan Agustus 2025 | F62: 264147688 | H62: =H61+F62-G62 -> 3.1378971e+08
B63: 45896 | C63: 511111 | D63: 43 | E63: Merah Putih / Ceria Kemerdekaan | G63: 7224900 | H63: =H62+F63-G63 -> 3.0656481e+08
B64: 45897 | C64: 511107 | D64: 44 | E64: Happy Day (Batike inyong / Cita-citaku / Aksiku) | G64: 453200 | H64: =H63+F64-G64 -> 3.0611161e+08
B65: 45897 | C65: 530419 | D65: 45 | E65: Tartili | G65: 1997500 | H65: =H64+F65-G65 -> 3.0411411e+08
B66: 45898 | C66: 511302 | D66: 46 | E66: Honor Pelatih Ekstrakurikuler | G66: 765000 | H66: =H65+F66-G66 -> 3.0334911e+08
B67: 45898 | C67: 530707 | D67: 47 | E67: Kunjungan Tamu | G67: 285000 | H67: =H66+F67-G67 -> 3.0306411e+08
B68: 45898 | E68: Pengambilan dana dropping dari BSM | F68: 48500000 | H68: =H67+F68-G68 -> 3.5156411e+08
B69: 45898 | E69: Diterima kas tunai di Bendahara | G69: 48500000 | H69: =H68+F69-G69 -> 3.0306411e+08
B70: 45900 | C70: 530409 | D70: 48 | E70: Jilid Portofolio | G70: 57500 | H70: =H69+F70-G70 -> 3.0300661e+08
B71: 45900 | C71: 530602 | D71: 49 | E71: Work sheet | G71: 551500 | H71: =H70+F71-G71 -> 3.0245511e+08
B72: 45900 | E72: Bagi Hasil atau Bonus | F72: 11532.71 | H72: =H71+F72-G72 -> 3.0246664e+08
B73: 45900 | E73: Pajak | G73: 2306.54 | H73: =H72+F73-G73 -> 3.0246433e+08
B76: Pada hari ini Ahad, 31 Agustus 2025 Buku Kas Umum ditutup dengan keadaan / posisi buku sebagai berikut :
B77: Saldo kas Umum | F77: =H73 -> 3.0246433e+08 | I77: =SUM(G11:G73) -> 1.2472195e+08
B78: Terdiri dari : | I78: =G14+G15+G16+G20+G22+G69+G73 -> 83522902
B79: Saldo Bank | E79: 2.4532218e+08 | I79: =I77-I78 -> 41199050
B80: Saldo Kas Tunai | E80: 57142150
B81: Jumlah | E81: =SUM(E79:E80) -> 3.0246433e+08
C83: Mengetahui, | G83: Purwoketo, 31 Agustus 2025
C84: Kepala Sekolah | G84: Bendahara
C88: Khusnul Khotimah, S.Si., S.Pd. | G88: Sigit Purwanto, A.Md.Kom.

Sheet SEP25
B1: Tanggal | C1: No. Kode | D1: No. Bukti | E1: Uraian | F1: Penerimaan (Debit) | G1: Pengeluaran (Kredit) | H1: Saldo Kas | I1: 1 | J1: no | K1: tgl | L1: bulan | M1: jurnal voucher | N1: KB/TK+uraian | O1: COA | P1: URAIAN | Q1: JUMLAH (DEBIT+KREDIT) | R1: JUMLAH (DEBIT+KREDIT)2 | S1: KOSONGI | T1: UNIT | U1: CONCENATE | V1: KB/TK
B2: BUKU KAS UMUM
B3: BULAN SEPTEMBER 2025
B5: Sekolah | D5: : KB & TK AL IRSYAD AL ISLAMIYYAH PURWOKERTO
B6: Desa / Kecamatan | D6: : SOKANEGARA / PURWOKERTO TIMUR
B7: Kabupaten | D7: : BANYUMAS
B8: Provinsi | D8: : JAWA TENGAH
L9: 2 | T9: KB/TK
B10: Tanggal | C10: No. Kode | D10: No. Bukti | E10: Uraian | F10: Penerimaan (Kredit) | G10: Pengeluaran (Debit) | H10: Saldo Kas | J10: no | K10: tgl | L10: bulan | M10: jurnal voucher | N10: KB/TK+uraian | O10: COA | P10: URAIAN | Q10: JUMLAH (DEBIT+KREDIT) | R10: JUMLAH (DEBIT+KREDIT)2 | S10: KOSONGI | T10: UNIT | U10: CONCENATE | V10: KB/TK
B11: 45901 | E11: Saldo bulan lalu | F11: ='AGU25'!F77 -> 3.0246433e+08 | H11: =F11 -> 3.0246433e+08 | J11: =D11 -> 0 | K11: =DAY(B11) -> 1 | L11: =PROPER(TRIM(MID(SUBSTITUTE($B$3," ",REPT(" ",99)),99*INT((LEN($B$3)-LEN(SUBSTITUTE($B$3," ","")))/2),99))) -> September | M11: =IF(J11<1," ","JV-KB/TK-"&$L$11&"-"&J11) | N11: ="KB/TK "&E11 -> KB/TK Saldo bulan lalu | P11: =E11 -> Saldo bulan lalu | Q11: =F11+G11 -> 3.0246433e+08 | R11: =Q11 -> 3.0246433e+08 | T11: =$T$10 -> UNIT | U11: =CONCATENATE(T11,N11) -> UNITKB/TK Saldo bulan lalu
B12: 45901 | C12: 530701 | D12: 1 | E12: Air mineral galon | G12: 620000 | H12: =H11+F12-G12 -> 3.0184433e+08 | J12: =D12 -> 1 | K12: =DAY(B12) -> 1 | L12: =PROPER(TRIM(MID(SUBSTITUTE($B$3," ",REPT(" ",99)),99*INT((LEN($B$3)-LEN(SUBSTITUTE($B$3," ","")))/2),99))) -> September | M12: =IF(J12<1," ","JV-KB/TK-"&$L$11&"-"&J12) -> JV-KB/TK-September-1 | N12: ="KB/TK "&E12 -> KB/TK Air mineral galon | P12: =E12 -> Air mineral galon | Q12: =F12+G12 -> 620000 | R12: =Q12 -> 620000 | T12: =$T$10 -> UNIT | U12: =CONCATENATE(T12,N12) -> UNITKB/TK Air mineral galon
B13: 45901 | E13: Pengambilan Droping (Sewa Sound Milad) | F13: 700000 | H13: =H12+F13-G13 -> 3.0254433e+08 | J13: =D13 -> 0 | K13: =DAY(B13) -> 1 | L13: =PROPER(TRIM(MID(SUBSTITUTE($B$3," ",REPT(" ",99)),99*INT((LEN($B$3)-LEN(SUBSTITUTE($B$3," ","")))/2),99))) -> September | M13: =IF(J13<1," ","JV-KB/TK-"&$L$11&"-"&J13) | N13: ="KB/TK "&E13 -> KB/TK Pengambilan Droping (Sewa Sound Milad) | P13: =E13 -> Pengambilan Droping (Sewa Sound Milad) | Q13: =F13+G13 -> 700000 | R13: =Q13 -> 700000 | T13: =$T$10 -> UNIT | U13: =CONCATENATE(T13,N13) -> UNITKB/TK Pengambilan Droping (Sewa Sound Milad)
B14: 45901 | E14: Diterima kas tunai di Bendahara | G14: 700000 | H14: =H13+F14-G14 -> 3.0184433e+08 | J14: =D14 -> 0 | K14: =DAY(B14) -> 1 | L14: =PROPER(TRIM(MID(SUBSTITUTE($B$3," ",REPT(" ",99)),99*INT((LEN($B$3)-LEN(SUBSTITUTE($B$3," ","")))/2),99))) -> September | M14: =IF(J14<1," ","JV-KB/TK-"&$L$11&"-"&J14) | N14: ="KB/TK "&E14 -> KB/TK Diterima kas tunai di Bendahara | P14: =E14 -> Diterima kas tunai di Bendahara | Q14: =F14+G14 -> 700000 | R14: =Q14 -> 700000 | T14: =$T$10 -> UNIT | U14: =CONCATENATE(T14,N14) -> UNITKB/TK Diterima kas tunai di Bendahara
B15: 45902 | E15: By. Adm BSMNet AUG 25 | G15: 10000 | H15: =H14+F15-G15 -> 3.0183433e+08 | J15: =D15 -> 0 | K15: =DAY(B15) -> 2 | L15: =PROPER(TRIM(MID(SUBSTITUTE($B$3," ",REPT(" ",99)),99*INT((LEN($B$3)-LEN(SUBSTITUTE($B$3," ","")))/2),99))) -> September | M15: =IF(J15<1," ","JV-KB/TK-"&$L$11&"-"&J15) | N15: ="KB/TK "&E15 -> KB/TK By. Adm BSMNet AUG 25 | P15: =E15 -> By. Adm BSMNet AUG 25 | Q15: =F15+G15 -> 10000 | R15: =Q15 -> 10000 | T15: =$T$10 -> UNIT | U15: =CONCATENATE(T15,N15) -> UNITKB/TK By. Adm BSMNet AUG 25
B16: 45904 | E16: Biaya Administrasi | G16: 10000 | H16: =H15+F16-G16 -> 3.0182433e+08 | J16: =D16 -> 0 | K16: =DAY(B16) -> 4 | L16: =PROPER(TRIM(MID(SUBSTITUTE($B$3," ",REPT(" ",99)),99*INT((LEN($B$3)-LEN(SUBSTITUTE($B$3," ","")))/2),99))) -> September | M16: =IF(J16<1," ","JV-KB/TK-"&$L$11&"-"&J16) | N16: ="KB/TK "&E16 -> KB/TK Biaya Administrasi | P16: =E16 -> Biaya Administrasi | Q16: =F16+G16 -> 10000 | R16: =Q16 -> 10000 | T16: =$T$10 -> UNIT | U16: =CONCATENATE(T16,N16) -> UNITKB/TK Biaya Administrasi
B17: 45904 | C17: 530801 | D17: 2 | E17: Internet | G17: 1065100 | H17: =H16+F17-G17 -> 3.0075923e+08 | J17: =D17 -> 2 | K17: =DAY(B17) -> 4 | L17: =PROPER(TRIM(MID(SUBSTITUTE($B$3," ",REPT(" ",99)),99*INT((LEN($B$3)-LEN(SUBSTITUTE($B$3," ","")))/2),99))) -> September | M17: =IF(J17<1," ","JV-KB/TK-"&$L$11&"-"&J17) -> JV-KB/TK-September-2 | N17: ="KB/TK "&E17 -> KB/TK Internet | P17: =E17 -> Internet | Q17: =F17+G17 -> 1065100 | R17: =Q17 -> 1065100 | T17: =$T$10 -> UNIT | U17: =CONCATENATE(T17,N17) -> UNITKB/TK Internet
B18: 45904 | C18: 530802 | D18: 3 | E18: Listrik | G18: 4531400 | H18: =H17+F18-G18 -> 2.9622783e+08 | J18: =D18 -> 3 | K18: =DAY(B18) -> 4 | L18: =PROPER(TRIM(MID(SUBSTITUTE($B$3," ",REPT(" ",99)),99*INT((LEN($B$3)-LEN(SUBSTITUTE($B$3," ","")))/2),99))) -> September | M18: =IF(J18<1," ","JV-KB/TK-"&$L$11&"-"&J18) -> JV-KB/TK-September-3 | N18: ="KB/TK "&E18 -> KB/TK Listrik | P18: =E18 -> Listrik | Q18: =F18+G18 -> 4531400 | R18: =Q18 -> 4531400 | T18: =$T$10 -> UNIT | U18: =CONCATENATE(T18,N18) -> UNITKB/TK Listrik
B19: 45904 | C19: 530803 | D19: 4 | E19: PDAM | G19: 109100 | H19: =H18+F19-G19 -> 2.9611873e+08 | J19: =D19 -> 4 | K19: =DAY(B19) -> 4 | L19: =PROPER(TRIM(MID(SUBSTITUTE($B$3," ",REPT(" ",99)),99*INT((LEN($B$3)-LEN(SUBSTITUTE($B$3," ","")))/2),99))) -> September | M19: =IF(J19<1," ","JV-KB/TK-"&$L$11&"-"&J19) -> JV-KB/TK-September-4 | N19: ="KB/TK "&E19 -> KB/TK PDAM | P19: =E19 -> PDAM | Q19: =F19+G19 -> 109100 | R19: =Q19 -> 109100 | T19: =$T$10 -> UNIT | U19: =CONCATENATE(T19,N19) -> UNITKB/TK PDAM
B20: 45909 | C20: 515307 | D20: 5 | E20: Pengobatan cepat ( Pertolongan pertama ) | G20: 355000 | H20: =H19+F20-G20 -> 2.9576373e+08 | J20: =D20 -> 5 | K20: =DAY(B20) -> 9 | L20: =PROPER(TRIM(MID(SUBSTITUTE($B$3," ",REPT(" ",99)),99*INT((LEN($B$3)-LEN(SUBSTITUTE($B$3," ","")))/2),99))) -> September | M20: =IF(J20<1," ","JV-KB/TK-"&$L$11&"-"&J20) -> JV-KB/TK-September-5 | N20: ="KB/TK "&E20 -> KB/TK Pengobatan cepat ( Pertolongan pertama ) | P20: =E20 -> Pengobatan cepat ( Pertolongan pertama ) | Q20: =F20+G20 -> 355000 | R20: =Q20 -> 355000 | T20: =$T$10 -> UNIT | U20: =CONCATENATE(T20,N20) -> UNITKB/TK Pengobatan cepat ( Pertolongan pertama )
B21: 45909 | C21: 530918 | D21: 6 | E21: Penarikan Sampah | G21: 350000 | H21: =H20+F21-G21 -> 2.9541373e+08 | J21: =D21 -> 6 | K21: =DAY(B21) -> 9 | L21: =PROPER(TRIM(MID(SUBSTITUTE($B$3," ",REPT(" ",99)),99*INT((LEN($B$3)-LEN(SUBSTITUTE($B$3," ","")))/2),99))) -> September | M21: =IF(J21<1," ","JV-KB/TK-"&$L$11&"-"&J21) -> JV-KB/TK-September-6 | N21: ="KB/TK "&E21 -> KB/TK Penarikan Sampah | P21: =E21 -> Penarikan Sampah | Q21: =F21+G21 -> 350000 | R21: =Q21 -> 350000 | T21: =$T$10 -> UNIT | U21: =CONCATENATE(T21,N21) -> UNITKB/TK Penarikan Sampah
B22: 45910 | C22: 530805 | D22: 7 | E22: Bantuan Pulsa KS | G22: 150000 | H22: =H21+F22-G22 -> 2.9526373e+08 | J22: =D22 -> 7 | K22: =DAY(B22) -> 10 | L22: =PROPER(TRIM(MID(SUBSTITUTE($B$3," ",REPT(" ",99)),99*INT((LEN($B$3)-LEN(SUBSTITUTE($B$3," ","")))/2),99))) -> September | M22: =IF(J22<1," ","JV-KB/TK-"&$L$11&"-"&J22) -> JV-KB/TK-September-7 | N22: ="KB/TK "&E22 -> KB/TK Bantuan Pulsa KS | P22: =E22 -> Bantuan Pulsa KS | Q22: =F22+G22 -> 150000 | R22: =Q22 -> 150000 | T22: =$T$10 -> UNIT | U22: =CONCATENATE(T22,N22) -> UNITKB/TK Bantuan Pulsa KS
B23: 45910 | C23: 530806 | D23: 8 | E23: Bantuan Pulsa WKS | G23: 375000 | H23: =H22+F23-G23 -> 2.9488873e+08 | J23: =D23 -> 8 | K23: =DAY(B23) -> 10 | L23: =PROPER(TRIM(MID(SUBSTITUTE($B$3," ",REPT(" ",99)),99*INT((LEN($B$3)-LEN(SUBSTITUTE($B$3," ","")))/2),99))) -> September | M23: =IF(J23<1," ","JV-KB/TK-"&$L$11&"-"&J23) -> JV-KB/TK-September-8 | N23: ="KB/TK "&E23 -> KB/TK Bantuan Pulsa WKS | P23: =E23 -> Bantuan Pulsa WKS | Q23: =F23+G23 -> 375000 | R23: =Q23 -> 375000 | T23: =$T$10 -> UNIT | U23: =CONCATENATE(T23,N23) -> UNITKB/TK Bantuan Pulsa WKS
B24: 45910 | C24: 530807 | D24: 9 | E24: Bantuan Pulsa Wali Kelas | G24: 975000 | H24: =H23+F24-G24 -> 2.9391373e+08 | J24: =D24 -> 9 | K24: =DAY(B24) -> 10 | L24: =PROPER(TRIM(MID(SUBSTITUTE($B$3," ",REPT(" ",99)),99*INT((LEN($B$3)-LEN(SUBSTITUTE($B$3," ","")))/2),99))) -> September | M24: =IF(J24<1," ","JV-KB/TK-"&$L$11&"-"&J24) -> JV-KB/TK-September-9 | N24: ="KB/TK "&E24 -> KB/TK Bantuan Pulsa Wali Kelas | P24: =E24 -> Bantuan Pulsa Wali Kelas | Q24: =F24+G24 -> 975000 | R24: =Q24 -> 975000 | T24: =$T$10 -> UNIT | U24: =CONCATENATE(T24,N24) -> UNITKB/TK Bantuan Pulsa Wali Kelas
B25: 45910 | C25: 530817 | D25: 10 | E25: Bantuan Pulsa Bendahara | G25: 50000 | H25: =H24+F25-G25 -> 2.9386373e+08 | J25: =D25 -> 10 | K25: =DAY(B25) -> 10 | L25: =PROPER(TRIM(MID(SUBSTITUTE($B$3," ",REPT(" ",99)),99*INT((LEN($B$3)-LEN(SUBSTITUTE($B$3," ","")))/2),99))) -> September | M25: =IF(J25<1," ","JV-KB/TK-"&$L$11&"-"&J25) -> JV-KB/TK-September-10 | N25: ="KB/TK "&E25 -> KB/TK Bantuan Pulsa Bendahara | P25: =E25 -> Bantuan Pulsa Bendahara | Q25: =F25+G25 -> 50000 | R25: =Q25 -> 50000 | T25: =$T$10 -> UNIT | U25: =CONCATENATE(T25,N25) -> UNITKB/TK Bantuan Pulsa Bendahara
B26: 45910 | C26: 531001 | D26: 11 | E26: Transport KS | G26: 200000 | H26: =H25+F26-G26 -> 2.9366373e+08 | J26: =D26 -> 11 | K26: =DAY(B26) -> 10 | L26: =PROPER(TRIM(MID(SUBSTITUTE($B$3," ",REPT(" ",99)),99*INT((LEN($B$3)-LEN(SUBSTITUTE($B$3," ","")))/2),99))) -> September | M26: =IF(J26<1," ","JV-KB/TK-"&$L$11&"-"&J26) -> JV-KB/TK-September-11 | N26: ="KB/TK "&E26 -> KB/TK Transport KS | P26: =E26 -> Transport KS | Q26: =F26+G26 -> 200000 | R26: =Q26 -> 200000 | T26: =$T$10 -> UNIT | U26: =CONCATENATE(T26,N26) -> UNITKB/TK Transport KS
B27: 45910 | C27: 531002 | D27: 12 | E27: Transport WKS | G27: 450000 | H27: =H26+F27-G27 -> 2.9321373e+08 | J27: =D27 -> 12 | K27: =DAY(B27) -> 10 | L27: =PROPER(TRIM(MID(SUBSTITUTE($B$3," ",REPT(" ",99)),99*INT((LEN($B$3)-LEN(SUBSTITUTE($B$3," ","")))/2),99))) -> September | M27: =IF(J27<1," ","JV-KB/TK-"&$L$11&"-"&J27) -> JV-KB/TK-September-12 | N27: ="KB/TK "&E27 -> KB/TK Transport WKS | P27: =E27 -> Transport WKS | Q27: =F27+G27 -> 450000 | R27: =Q27 -> 450000 | T27: =$T$10 -> UNIT | U27: =CONCATENATE(T27,N27) -> UNITKB/TK Transport WKS
B28: 45910 | C28: 531022 | D28: 13 | E28: Transport Bendahara | G28: 150000 | H28: =H27+F28-G28 -> 2.9306373e+08 | J28: =D28 -> 13 | K28: =DAY(B28) -> 10 | L28: =PROPER(TRIM(MID(SUBSTITUTE($B$3," ",REPT(" ",99)),99*INT((LEN($B$3)-LEN(SUBSTITUTE($B$3," ","")))/2),99))) -> September | M28: =IF(J28<1," ","JV-KB/TK-"&$L$11&"-"&J28) -> JV-KB/TK-September-13 | N28: ="KB/TK "&E28 -> KB/TK Transport Bendahara | P28: =E28 -> Transport Bendahara | Q28: =F28+G28 -> 150000 | R28: =Q28 -> 150000 | T28: =$T$10 -> UNIT | U28: =CONCATENATE(T28,N28) -> UNITKB/TK Transport Bendahara
... B30: 45911 | C30: 553100 | D30: 15 | E30: Biaya Lain-Lain | G30: 362750 | H30: =H29+F30-G30 -> 2.9266318e+08 | J30: =D30 -> 15 | K30: =DAY(B30) -> 11 | L30: =PROPER(TRIM(MID(SUBSTITUTE($B$3," ",REPT(" ",99)),99*INT((LEN($B$3)-LEN(SUBSTITUTE($B$3," ","")))/2),99))) -> September | M30: =IF(J30<1," ","JV-KB/TK-"&$L$11&"-"&J30) -> JV-KB/TK-September-15 | N30: ="KB/TK "&E30 -> KB/TK Biaya Lain-Lain | P30: =E30 -> Biaya Lain-Lain | Q30: =F30+G30 -> 362750 | R30: =Q30 -> 362750 | T30: =$T$10 -> UNIT | U30: =CONCATENATE(T30,N30) -> UNITKB/TK Biaya Lain-Lain
B31: 45912 | E31: Pengambilan Droping (Kontribusi Milad Pusat) | F31: 9000000 | H31: =H30+F31-G31 -> 3.0166318e+08 | J31: =D31 -> 0 | K31: =DAY(B31) -> 12 | L31: =PROPER(TRIM(MID(SUBSTITUTE($B$3," ",REPT(" ",99)),99*INT((LEN($B$3)-LEN(SUBSTITUTE($B$3," ","")))/2),99))) -> September | M31: =IF(J31<1," ","JV-KB/TK-"&$L$11&"-"&J31) | N31: ="KB/TK "&E31 -> KB/TK Pengambilan Droping (Kontribusi Milad Pusat) | P31: =E31 -> Pengambilan Droping (Kontribusi Milad Pusat) | Q31: =F31+G31 -> 9000000 | R31: =Q31 -> 9000000 | T31: =$T$10 -> UNIT | U31: =CONCATENATE(T31,N31) -> UNITKB/TK Pengambilan Droping (Kontribusi Milad Pusat)
B32: 45912 | E32: Diterima kas tunai di Bendahara | G32: 9000000 | H32: =H31+F32-G32 -> 2.9266318e+08 | J32: =D32 -> 0 | K32: =DAY(B32) -> 12 | L32: =PROPER(TRIM(MID(SUBSTITUTE($B$3," ",REPT(" ",99)),99*INT((LEN($B$3)-LEN(SUBSTITUTE($B$3," ","")))/2),99))) -> September | M32: =IF(J32<1," ","JV-KB/TK-"&$L$11&"-"&J32) | N32: ="KB/TK "&E32 -> KB/TK Diterima kas tunai di Bendahara | P32: =E32 -> Diterima kas tunai di Bendahara | Q32: =F32+G32 -> 9000000 | R32: =Q32 -> 9000000 | T32: =$T$10 -> UNIT | U32: =CONCATENATE(T32,N32) -> UNITKB/TK Diterima kas tunai di Bendahara
B33: 45913 | C33: 518301 | D33: 16 | E33: Duplikat Piala | G33: 150000 | H33: =H32+F33-G33 -> 2.9251318e+08 | J33: =D33 -> 16 | K33: =DAY(B33) -> 13 | L33: =PROPER(TRIM(MID(SUBSTITUTE($B$3," ",REPT(" ",99)),99*INT((LEN($B$3)-LEN(SUBSTITUTE($B$3," ","")))/2),99))) -> September | M33: =IF(J33<1," ","JV-KB/TK-"&$L$11&"-"&J33) -> JV-KB/TK-September-16 | N33: ="KB/TK "&E33 -> KB/TK Duplikat Piala | P33: =E33 -> Duplikat Piala | Q33: =F33+G33 -> 150000 | R33: =Q33 -> 150000 | T33: =$T$10 -> UNIT | U33: =CONCATENATE(T33,N33) -> UNITKB/TK Duplikat Piala
B34: 45915 | C34: 540214 | D34: 17 | E34: Komputer | G34: 18494000 | H34: =H33+F34-G34 -> 2.7401918e+08 | J34: =D34 -> 17 | K34: =DAY(B34) -> 15 | L34: =PROPER(TRIM(MID(SUBSTITUTE($B$3," ",REPT(" ",99)),99*INT((LEN($B$3)-LEN(SUBSTITUTE($B$3," ","")))/2),99))) -> September | M34: =IF(J34<1," ","JV-KB/TK-"&$L$11&"-"&J34) -> JV-KB/TK-September-17 | N34: ="KB/TK "&E34 -> KB/TK Komputer | P34: =E34 -> Komputer | Q34: =F34+G34 -> 18494000 | R34: =Q34 -> 18494000 | T34: =$T$10 -> UNIT | U34: =CONCATENATE(T34,N34) -> UNITKB/TK Komputer
B35: 45915 | E35: Pengambilan Droping | F35: 20000000 | H35: =H34+F35-G35 -> 2.9401918e+08 | J35: =D35 -> 0 | K35: =DAY(B35) -> 15 | L35: =PROPER(TRIM(MID(SUBSTITUTE($B$3," ",REPT(" ",99)),99*INT((LEN($B$3)-LEN(SUBSTITUTE($B$3," ","")))/2),99))) -> September | M35: =IF(J35<1," ","JV-KB/TK-"&$L$11&"-"&J35) | N35: ="KB/TK "&E35 -> KB/TK Pengambilan Droping | P35: =E35 -> Pengambilan Droping | Q35: =F35+G35 -> 20000000 | R35: =Q35 -> 20000000 | T35: =$T$10 -> UNIT | U35: =CONCATENATE(T35,N35) -> UNITKB/TK Pengambilan Droping
B36: 45915 | E36: Diterima kas tunai di Bendahara | G36: 20000000 | H36: =H35+F36-G36 -> 2.7401918e+08 | J36: =D36 -> 0 | K36: =DAY(B36) -> 15 | L36: =PROPER(TRIM(MID(SUBSTITUTE($B$3," ",REPT(" ",99)),99*INT((LEN($B$3)-LEN(SUBSTITUTE($B$3," ","")))/2),99))) -> September | M36: =IF(J36<1," ","JV-KB/TK-"&$L$11&"-"&J36) | N36: ="KB/TK "&E36 -> KB/TK Diterima kas tunai di Bendahara | P36: =E36 -> Diterima kas tunai di Bendahara | Q36: =F36+G36 -> 20000000 | R36: =Q36 -> 20000000 | T36: =$T$10 -> UNIT | U36: =CONCATENATE(T36,N36) -> UNITKB/TK Diterima kas tunai di Bendahara
B37: 45916 | C37: 511303 | D37: 18 | E37: Perlengkapan Alat Ekstrakurikuler | G37: 27300 | H37: =H36+F37-G37 -> 2.7399188e+08 | J37: =D37 -> 18 | K37: =DAY(B37) -> 16 | L37: =PROPER(TRIM(MID(SUBSTITUTE($B$3," ",REPT(" ",99)),99*INT((LEN($B$3)-LEN(SUBSTITUTE($B$3," ","")))/2),99))) -> September | M37: =IF(J37<1," ","JV-KB/TK-"&$L$11&"-"&J37) -> JV-KB/TK-September-18 | N37: ="KB/TK "&E37 -> KB/TK Perlengkapan Alat Ekstrakurikuler | P37: =E37 -> Perlengkapan Alat Ekstrakurikuler | Q37: =F37+G37 -> 27300 | R37: =Q37 -> 27300 | T37: =$T$10 -> UNIT | U37: =CONCATENATE(T37,N37) -> UNITKB/TK Perlengkapan Alat Ekstrakurikuler
B38: 45916 | C38: 515121 | D38: 19 | E38: Perawatan Mobil | G38: 40000 | H38: =H37+F38-G38 -> 2.7395188e+08 | J38: =D38 -> 19 | K38: =DAY(B38) -> 16 | L38: =PROPER(TRIM(MID(SUBSTITUTE($B$3," ",REPT(" ",99)),99*INT((LEN($B$3)-LEN(SUBSTITUTE($B$3," ","")))/2),99))) -> September | M38: =IF(J38<1," ","JV-KB/TK-"&$L$11&"-"&J38) -> JV-KB/TK-September-19 | N38: ="KB/TK "&E38 -> KB/TK Perawatan Mobil | P38: =E38 -> Perawatan Mobil | Q38: =F38+G38 -> 40000 | R38: =Q38 -> 40000 | T38: =$T$10 -> UNIT | U38: =CONCATENATE(T38,N38) -> UNITKB/TK Perawatan Mobil
B39: 45916 | C39: 530202 | D39: 20 | E39: Alat kebersihan | G39: 239500 | H39: =H38+F39-G39 -> 2.7371238e+08 | J39: =D39 -> 20 | K39: =DAY(B39) -> 16 | L39: =PROPER(TRIM(MID(SUBSTITUTE($B$3," ",REPT(" ",99)),99*INT((LEN($B$3)-LEN(SUBSTITUTE($B$3," ","")))/2),99))) -> September | M39: =IF(J39<1," ","JV-KB/TK-"&$L$11&"-"&J39) -> JV-KB/TK-September-20 | N39: ="KB/TK "&E39 -> KB/TK Alat kebersihan | P39: =E39 -> Alat kebersihan | Q39: =F39+G39 -> 239500 | R39: =Q39 -> 239500 | T39: =$T$10 -> UNIT | U39: =CONCATENATE(T39,N39) -> UNITKB/TK Alat kebersihan
B40: 45918 | E40: Dropping unit TK bulan September 2025 | F40: 72163000 | H40: =H39+F40-G40 -> 3.4587538e+08 | J40: =D40 -> 0 | K40: =DAY(B40) -> 18 | L40: =PROPER(TRIM(MID(SUBSTITUTE($B$3," ",REPT(" ",99)),99*INT((LEN($B$3)-LEN(SUBSTITUTE($B$3," ","")))/2),99))) -> September | M40: =IF(J40<1," ","JV-KB/TK-"&$L$11&"-"&J40) | N40: ="KB/TK "&E40 -> KB/TK Dropping unit TK bulan September 2025 | P40: =E40 -> Dropping unit TK bulan September 2025 | Q40: =F40+G40 -> 72163000 | R40: =Q40 -> 72163000 | T40: =$T$10 -> UNIT | U40: =CONCATENATE(T40,N40) -> UNITKB/TK Dropping unit TK bulan September 2025
B41: 45918 | C41: 516060 | D41: 21 | E41: Edu Fair / Open House (Milad Al Irsyad) | G41: 26807100 | H41: =H40+F41-G41 -> 3.1906828e+08 | J41: =D41 -> 21 | K41: =DAY(B41) -> 18 | L41: =PROPER(TRIM(MID(SUBSTITUTE($B$3," ",REPT(" ",99)),99*INT((LEN($B$3)-LEN(SUBSTITUTE($B$3," ","")))/2),99))) -> September | M41: =IF(J41<1," ","JV-KB/TK-"&$L$11&"-"&J41) -> JV-KB/TK-September-21 | N41: ="KB/TK "&E41 -> KB/TK Edu Fair / Open House (Milad Al Irsyad) | P41: =E41 -> Edu Fair / Open House (Milad Al Irsyad) | Q41: =F41+G41 -> 26807100 | R41: =Q41 -> 26807100 | T41: =$T$10 -> UNIT | U41: =CONCATENATE(T41,N41) -> UNITKB/TK Edu Fair / Open House (Milad Al Irsyad)
B42: 45918 | C42: 530907 | D42: 22 | E42: Himpaudi | G42: 214000 | H42: =H41+F42-G42 -> 3.1885428e+08 | J42: =D42 -> 22 | K42: =DAY(B42) -> 18 | L42: =PROPER(TRIM(MID(SUBSTITUTE($B$3," ",REPT(" ",99)),99*INT((LEN($B$3)-LEN(SUBSTITUTE($B$3," ","")))/2),99))) -> September | M42: =IF(J42<1," ","JV-KB/TK-"&$L$11&"-"&J42) -> JV-KB/TK-September-22 | N42: ="KB/TK "&E42 -> KB/TK Himpaudi | P42: =E42 -> Himpaudi | Q42: =F42+G42 -> 214000 | R42: =Q42 -> 214000 | T42: =$T$10 -> UNIT | U42: =CONCATENATE(T42,N42) -> UNITKB/TK Himpaudi
B43: 45919 | C43: 516080 | D43: 23 | E43: Kegiatan Parenting | G43: 5490200 | H43: =H42+F43-G43 -> 3.1336408e+08 | J43: =D43 -> 23 | K43: =DAY(B43) -> 19 | L43: =PROPER(TRIM(MID(SUBSTITUTE($B$3," ",REPT(" ",99)),99*INT((LEN($B$3)-LEN(SUBSTITUTE($B$3," ","")))/2),99))) -> September | M43: =IF(J43<1," ","JV-KB/TK-"&$L$11&"-"&J43) -> JV-KB/TK-September-23 | N43: ="KB/TK "&E43 -> KB/TK Kegiatan Parenting | P43: =E43 -> Kegiatan Parenting | Q43: =F43+G43 -> 5490200 | R43: =Q43 -> 5490200 | T43: =$T$10 -> UNIT | U43: =CONCATENATE(T43,N43) -> UNITKB/TK Kegiatan Parenting
B44: 45920 | C44: 516050 | D44: 24 | E44: Desain Sekolah | G44: 46500 | H44: =H43+F44-G44 -> 3.1331758e+08 | J44: =D44 -> 24 | K44: =DAY(B44) -> 20 | L44: =PROPER(TRIM(MID(SUBSTITUTE($B$3," ",REPT(" ",99)),99*INT((LEN($B$3)-LEN(SUBSTITUTE($B$3," ","")))/2),99))) -> September | M44: =IF(J44<1," ","JV-KB/TK-"&$L$11&"-"&J44) -> JV-KB/TK-September-24 | N44: ="KB/TK "&E44 -> KB/TK Desain Sekolah | P44: =E44 -> Desain Sekolah | Q44: =F44+G44 -> 46500 | R44: =Q44 -> 46500 | T44: =$T$10 -> UNIT | U44: =CONCATENATE(T44,N44) -> UNITKB/TK Desain Sekolah
B45: 45921 | C45: 530906 | D45: 25 | E45: GOPTKI | G45: 250000 | H45: =H44+F45-G45 -> 3.1306758e+08 | J45: =D45 -> 25 | K45: =DAY(B45) -> 21 | L45: =PROPER(TRIM(MID(SUBSTITUTE($B$3," ",REPT(" ",99)),99*INT((LEN($B$3)-LEN(SUBSTITUTE($B$3," ","")))/2),99))) -> September | M45: =IF(J45<1," ","JV-KB/TK-"&$L$11&"-"&J45) -> JV-KB/TK-September-25 | N45: ="KB/TK "&E45 -> KB/TK GOPTKI | P45: =E45 -> GOPTKI | Q45: =F45+G45 -> 250000 | R45: =Q45 -> 250000 | T45: =$T$10 -> UNIT | U45: =CONCATENATE(T45,N45) -> UNITKB/TK GOPTKI
B46: 45922 | E46: Pengambilan Droping | F46: 20000000 | H46: =H45+F46-G46 -> 3.3306758e+08 | J46: =D46 -> 0 | K46: =DAY(B46) -> 22 | L46: =PROPER(TRIM(MID(SUBSTITUTE($B$3," ",REPT(" ",99)),99*INT((LEN($B$3)-LEN(SUBSTITUTE($B$3," ","")))/2),99))) -> September | M46: =IF(J46<1," ","JV-KB/TK-"&$L$11&"-"&J46) | N46: ="KB/TK "&E46 -> KB/TK Pengambilan Droping | P46: =E46 -> Pengambilan Droping | Q46: =F46+G46 -> 20000000 | R46: =Q46 -> 20000000 | T46: =$T$10 -> UNIT | U46: =CONCATENATE(T46,N46) -> UNITKB/TK Pengambilan Droping
B47: 45922 | E47: Diterima kas tunai di Bendahara | G47: 20000000 | H47: =H46+F47-G47 -> 3.1306758e+08 | J47: =D47 -> 0 | K47: =DAY(B47) -> 22 | L47: =PROPER(TRIM(MID(SUBSTITUTE($B$3," ",REPT(" ",99)),99*INT((LEN($B$3)-LEN(SUBSTITUTE($B$3," ","")))/2),99))) -> September | M47: =IF(J47<1," ","JV-KB/TK-"&$L$11&"-"&J47) | N47: ="KB/TK "&E47 -> KB/TK Diterima kas tunai di Bendahara | P47: =E47 -> Diterima kas tunai di Bendahara | Q47: =F47+G47 -> 20000000 | R47: =Q47 -> 20000000 | T47: =$T$10 -> UNIT | U47: =CONCATENATE(T47,N47) -> UNITKB/TK Diterima kas tunai di Bendahara
B48: 45922 | C48: 511115 | D48: 26 | E48: Outdor Study | G48: 2734200 | H48: =H47+F48-G48 -> 3.1033338e+08 | J48: =D48 -> 26 | K48: =DAY(B48) -> 22 | L48: =PROPER(TRIM(MID(SUBSTITUTE($B$3," ",REPT(" ",99)),99*INT((LEN($B$3)-LEN(SUBSTITUTE($B$3," ","")))/2),99))) -> September | M48: =IF(J48<1," ","JV-KB/TK-"&$L$11&"-"&J48) -> JV-KB/TK-September-26 | N48: ="KB/TK "&E48 -> KB/TK Outdor Study | P48: =E48 -> Outdor Study | Q48: =F48+G48 -> 2734200 | R48: =Q48 -> 2734200 | T48: =$T$10 -> UNIT | U48: =CONCATENATE(T48,N48) -> UNITKB/TK Outdor Study
B49: 45922 | C49: 515107 | D49: 27 | E49: Perawatan Elektronik Lain | G49: 100000 | H49: =H48+F49-G49 -> 3.1023338e+08 | J49: =D49 -> 27 | K49: =DAY(B49) -> 22 | L49: =PROPER(TRIM(MID(SUBSTITUTE($B$3," ",REPT(" ",99)),99*INT((LEN($B$3)-LEN(SUBSTITUTE($B$3," ","")))/2),99))) -> September | M49: =IF(J49<1," ","JV-KB/TK-"&$L$11&"-"&J49) -> JV-KB/TK-September-27 | N49: ="KB/TK "&E49 -> KB/TK Perawatan Elektronik Lain | P49: =E49 -> Perawatan Elektronik Lain | Q49: =F49+G49 -> 100000 | R49: =Q49 -> 100000 | T49: =$T$10 -> UNIT | U49: =CONCATENATE(T49,N49) -> UNITKB/TK Perawatan Elektronik Lain
B50: 45922 | C50: 515116 | D50: 28 | E50: Perawatan Komputer | G50: 440000 | H50: =H49+F50-G50 -> 3.0979338e+08 | J50: =D50 -> 28 | K50: =DAY(B50) -> 22 | L50: =PROPER(TRIM(MID(SUBSTITUTE($B$3," ",REPT(" ",99)),99*INT((LEN($B$3)-LEN(SUBSTITUTE($B$3," ","")))/2),99))) -> September | M50: =IF(J50<1," ","JV-KB/TK-"&$L$11&"-"&J50) -> JV-KB/TK-September-28 | N50: ="KB/TK "&E50 -> KB/TK Perawatan Komputer | P50: =E50 -> Perawatan Komputer | Q50: =F50+G50 -> 440000 | R50: =Q50 -> 440000 | T50: =$T$10 -> UNIT | U50: =CONCATENATE(T50,N50) -> UNITKB/TK Perawatan Komputer
B51: 45922 | C51: 530304 | D51: 29 | E51: Batu Baterai | G51: 89700 | H51: =H50+F51-G51 -> 3.0970368e+08 | J51: =D51 -> 29 | K51: =DAY(B51) -> 22 | L51: =PROPER(TRIM(MID(SUBSTITUTE($B$3," ",REPT(" ",99)),99*INT((LEN($B$3)-LEN(SUBSTITUTE($B$3," ","")))/2),99))) -> September | M51: =IF(J51<1," ","JV-KB/TK-"&$L$11&"-"&J51) -> JV-KB/TK-September-29 | N51: ="KB/TK "&E51 -> KB/TK Batu Baterai | P51: =E51 -> Batu Baterai | Q51: =F51+G51 -> 89700 | R51: =Q51 -> 89700 | T51: =$T$10 -> UNIT | U51: =CONCATENATE(T51,N51) -> UNITKB/TK Batu Baterai
B52: 45922 | C52: 531010 | D52: 30 | E52: Operasional Mobil Sekolah | G52: 275200 | H52: =H51+F52-G52 -> 3.0942848e+08 | J52: =D52 -> 30 | K52: =DAY(B52) -> 22 | L52: =PROPER(TRIM(MID(SUBSTITUTE($B$3," ",REPT(" ",99)),99*INT((LEN($B$3)-LEN(SUBSTITUTE($B$3," ","")))/2),99))) -> September | M52: =IF(J52<1," ","JV-KB/TK-"&$L$11&"-"&J52) -> JV-KB/TK-September-30 | N52: ="KB/TK "&E52 -> KB/TK Operasional Mobil Sekolah | P52: =E52 -> Operasional Mobil Sekolah | Q52: =F52+G52 -> 275200 | R52: =Q52 -> 275200 | T52: =$T$10 -> UNIT | U52: =CONCATENATE(T52,N52) -> UNITKB/TK Operasional Mobil Sekolah
B53: 45923 | C53: 570311 | D53: 31 | E53: Konsultasi Pendidikan Bagi Orang Tua (2kali) | G53: 2800000 | H53: =H52+F53-G53 -> 3.0662848e+08 | J53: =D53 -> 31 | K53: =DAY(B53) -> 23 | L53: =PROPER(TRIM(MID(SUBSTITUTE($B$3," ",REPT(" ",99)),99*INT((LEN($B$3)-LEN(SUBSTITUTE($B$3," ","")))/2),99))) -> September | M53: =IF(J53<1," ","JV-KB/TK-"&$L$11&"-"&J53) -> JV-KB/TK-September-31 | N53: ="KB/TK "&E53 -> KB/TK Konsultasi Pendidikan Bagi Orang Tua (2kali) | P53: =E53 -> Konsultasi Pendidikan Bagi Orang Tua (2kali) | Q53: =F53+G53 -> 2800000 | R53: =Q53 -> 2800000 | T53: =$T$10 -> UNIT | U53: =CONCATENATE(T53,N53) -> UNITKB/TK Konsultasi Pendidikan Bagi Orang Tua (2kali)
B54: 45924 | C54: 518110 | D54: 32 | E54: Pas Photo | G54: 2870000 | H54: =H53+F54-G54 -> 3.0375848e+08 | J54: =D54 -> 32 | K54: =DAY(B54) -> 24 | L54: =PROPER(TRIM(MID(SUBSTITUTE($B$3," ",REPT(" ",99)),99*INT((LEN($B$3)-LEN(SUBSTITUTE($B$3," ","")))/2),99))) -> September | M54: =IF(J54<1," ","JV-KB/TK-"&$L$11&"-"&J54) -> JV-KB/TK-September-32 | N54: ="KB/TK "&E54 -> KB/TK Pas Photo | P54: =E54 -> Pas Photo | Q54: =F54+G54 -> 2870000 | R54: =Q54 -> 2870000 | T54: =$T$10 -> UNIT | U54: =CONCATENATE(T54,N54) -> UNITKB/TK Pas Photo
B55: 45925 | C55: 511106 | D55: 33 | E55: Guest Teacher | G55: 522700 | H55: =H54+F55-G55 -> 3.0323578e+08 | J55: =D55 -> 33 | K55: =DAY(B55) -> 25 | L55: =PROPER(TRIM(MID(SUBSTITUTE($B$3," ",REPT(" ",99)),99*INT((LEN($B$3)-LEN(SUBSTITUTE($B$3," ","")))/2),99))) -> September | M55: =IF(J55<1," ","JV-KB/TK-"&$L$11&"-"&J55) -> JV-KB/TK-September-33 | N55: ="KB/TK "&E55 -> KB/TK Guest Teacher | P55: =E55 -> Guest Teacher | Q55: =F55+G55 -> 522700 | R55: =Q55 -> 522700 | T55: =$T$10 -> UNIT | U55: =CONCATENATE(T55,N55) -> UNITKB/TK Guest Teacher
B56: 45926 | C56: 515113 | D56: 34 | E56: Perawatan Jaringan Listrik | G56: 222000 | H56: =H55+F56-G56 -> 3.0301378e+08 | J56: =D56 -> 34 | K56: =DAY(B56) -> 26 | L56: =PROPER(TRIM(MID(SUBSTITUTE($B$3," ",REPT(" ",99)),99*INT((LEN($B$3)-LEN(SUBSTITUTE($B$3," ","")))/2),99))) -> September | M56: =IF(J56<1," ","JV-KB/TK-"&$L$11&"-"&J56) -> JV-KB/TK-September-34 | N56: ="KB/TK "&E56 -> KB/TK Perawatan Jaringan Listrik | P56: =E56 -> Perawatan Jaringan Listrik | Q56: =F56+G56 -> 222000 | R56: =Q56 -> 222000 | T56: =$T$10 -> UNIT | U56: =CONCATENATE(T56,N56) -> UNITKB/TK Perawatan Jaringan Listrik
B57: 45926 | C57: 515114 | D57: 35 | E57: Perawatan Karpet dan Sarana Ibadah | G57: 620000 | H57: =H56+F57-G57 -> 3.0239378e+08 | J57: =D57 -> 35 | K57: =DAY(B57) -> 26 | L57: =PROPER(TRIM(MID(SUBSTITUTE($B$3," ",REPT(" ",99)),99*INT((LEN($B$3)-LEN(SUBSTITUTE($B$3," ","")))/2),99))) -> September | M57: =IF(J57<1," ","JV-KB/TK-"&$L$11&"-"&J57) -> JV-KB/TK-September-35 | N57: ="KB/TK "&E57 -> KB/TK Perawatan Karpet dan Sarana Ibadah | P57: =E57 -> Perawatan Karpet dan Sarana Ibadah | Q57: =F57+G57 -> 620000 | R57: =Q57 -> 620000 | T57: =$T$10 -> UNIT | U57: =CONCATENATE(T57,N57) -> UNITKB/TK Perawatan Karpet dan Sarana Ibadah
B58: 45926 | C58: 530127 | D58: 36 | E58: ATK Lain-lain | G58: 687000 | H58: =H57+F58-G58 -> 3.0170678e+08 | J58: =D58 -> 36 | K58: =DAY(B58) -> 26 | L58: =PROPER(TRIM(MID(SUBSTITUTE($B$3," ",REPT(" ",99)),99*INT((LEN($B$3)-LEN(SUBSTITUTE($B$3," ","")))/2),99))) -> September | M58: =IF(J58<1," ","JV-KB/TK-"&$L$11&"-"&J58) -> JV-KB/TK-September-36 | N58: ="KB/TK "&E58 -> KB/TK ATK Lain-lain | P58: =E58 -> ATK Lain-lain | Q58: =F58+G58 -> 687000 | R58: =Q58 -> 687000 | T58: =$T$10 -> UNIT | U58: =CONCATENATE(T58,N58) -> UNITKB/TK ATK Lain-lain
B59: 45926 | C59: 530914 | D59: 37 | E59: KKG/MGMP | G59: 408000 | H59: =H58+F59-G59 -> 3.0129878e+08 | J59: =D59 -> 37 | K59: =DAY(B59) -> 26 | L59: =PROPER(TRIM(MID(SUBSTITUTE($B$3," ",REPT(" ",99)),99*INT((LEN($B$3)-LEN(SUBSTITUTE($B$3," ","")))/2),99))) -> September | M59: =IF(J59<1," ","JV-KB/TK-"&$L$11&"-"&J59) -> JV-KB/TK-September-37 | N59: ="KB/TK "&E59 -> KB/TK KKG/MGMP | P59: =E59 -> KKG/MGMP | Q59: =F59+G59 -> 408000 | R59: =Q59 -> 408000 | T59: =$T$10 -> UNIT | U59: =CONCATENATE(T59,N59) -> UNITKB/TK KKG/MGMP
... B67: 45929 | C67: 530709 | D67: 45 | E67: Minuman Guru dan Karyawan | G67: 604100 | H67: =H66+F67-G67 -> 2.9678148e+08 | J67: =D67 -> 45 | K67: =DAY(B67) -> 29 | L67: =PROPER(TRIM(MID(SUBSTITUTE($B$3," ",REPT(" ",99)),99*INT((LEN($B$3)-LEN(SUBSTITUTE($B$3," ","")))/2),99))) -> September | M67: =IF(J67<1," ","JV-KB/TK-"&$L$11&"-"&J67) -> JV-KB/TK-September-45 | N67: ="KB/TK "&E67 -> KB/TK Minuman Guru dan Karyawan | P67: =E67 -> Minuman Guru dan Karyawan | Q67: =F67+G67 -> 604100 | R67: =Q67 -> 604100 | T67: =$T$10 -> UNIT | U67: =CONCATENATE(T67,N67) -> UNITKB/TK Minuman Guru dan Karyawan
B68: 45930 | E68: Bagi Hasil atau Bonus | F68: 56666.24 | H68: =H67+F68-G68 -> 2.9683815e+08 | J68: =D68 -> 0 | K68: =DAY(B68) -> 30 | L68: =PROPER(TRIM(MID(SUBSTITUTE($B$3," ",REPT(" ",99)),99*INT((LEN($B$3)-LEN(SUBSTITUTE($B$3," ","")))/2),99))) -> September | M68: =IF(J68<1," ","JV-KB/TK-"&$L$11&"-"&J68) | N68: ="KB/TK "&E68 -> KB/TK Bagi Hasil atau Bonus | P68: =E68 -> Bagi Hasil atau Bonus | Q68: =F68+G68 -> 56666.24 | R68: =Q68 -> 56666.24 | T68: =$T$10 -> UNIT | U68: =CONCATENATE(T68,N68) -> UNITKB/TK Bagi Hasil atau Bonus
B69: 45930 | E69: Pajak | G69: 11333.25 | H69: =H68+F69-G69 -> 2.9682682e+08 | J69: =D69 -> 0 | K69: =DAY(B69) -> 30 | L69: =PROPER(TRIM(MID(SUBSTITUTE($B$3," ",REPT(" ",99)),99*INT((LEN($B$3)-LEN(SUBSTITUTE($B$3," ","")))/2),99))) -> September | M69: =IF(J69<1," ","JV-KB/TK-"&$L$11&"-"&J69) | N69: ="KB/TK "&E69 -> KB/TK Pajak | P69: =E69 -> Pajak | Q69: =F69+G69 -> 11333.25 | R69: =Q69 -> 11333.25 | T69: =$T$10 -> UNIT | U69: =CONCATENATE(T69,N69) -> UNITKB/TK Pajak
B70: 45930 | C70: 514080 | D70: 46 | E70: Pelatihan Guru | G70: 495000 | H70: =H69+F70-G70 -> 2.9633182e+08 | J70: =D70 -> 46 | K70: =DAY(B70) -> 30 | L70: =PROPER(TRIM(MID(SUBSTITUTE($B$3," ",REPT(" ",99)),99*INT((LEN($B$3)-LEN(SUBSTITUTE($B$3," ","")))/2),99))) -> September | M70: =IF(J70<1," ","JV-KB/TK-"&$L$11&"-"&J70) -> JV-KB/TK-September-46 | N70: ="KB/TK "&E70 -> KB/TK Pelatihan Guru | P70: =E70 -> Pelatihan Guru | Q70: =F70+G70 -> 495000 | R70: =Q70 -> 495000 | T70: =$T$10 -> UNIT | U70: =CONCATENATE(T70,N70) -> UNITKB/TK Pelatihan Guru
B71: 45930 | C71: 516140 | D71: 47 | E71: Sukses PPDB | G71: 1565000 | H71: =H70+F71-G71 -> 2.9476682e+08 | J71: =D71 -> 47 | K71: =DAY(B71) -> 30 | L71: =PROPER(TRIM(MID(SUBSTITUTE($B$3," ",REPT(" ",99)),99*INT((LEN($B$3)-LEN(SUBSTITUTE($B$3," ","")))/2),99))) -> September | M71: =IF(J71<1," ","JV-KB/TK-"&$L$11&"-"&J71) -> JV-KB/TK-September-47 | N71: ="KB/TK "&E71 -> KB/TK Sukses PPDB | P71: =E71 -> Sukses PPDB | Q71: =F71+G71 -> 1565000 | R71: =Q71 -> 1565000 | T71: =$T$10 -> UNIT | U71: =CONCATENATE(T71,N71) -> UNITKB/TK Sukses PPDB
B72: 45930 | C72: 530409 | D72: 48 | E72: Jilid Portofolio | G72: 214500 | H72: =H71+F72-G72 -> 2.9455232e+08 | J72: =D72 -> 48 | K72: =DAY(B72) -> 30 | L72: =PROPER(TRIM(MID(SUBSTITUTE($B$3," ",REPT(" ",99)),99*INT((LEN($B$3)-LEN(SUBSTITUTE($B$3," ","")))/2),99))) -> September | M72: =IF(J72<1," ","JV-KB/TK-"&$L$11&"-"&J72) -> JV-KB/TK-September-48 | N72: ="KB/TK "&E72 -> KB/TK Jilid Portofolio | P72: =E72 -> Jilid Portofolio | Q72: =F72+G72 -> 214500 | R72: =Q72 -> 214500 | T72: =$T$10 -> UNIT | U72: =CONCATENATE(T72,N72) -> UNITKB/TK Jilid Portofolio
B73: 45930 | C73: 530601 | D73: 49 | E73: Perkantoran | G73: 88000 | H73: =H72+F73-G73 -> 2.9446432e+08 | J73: =D73 -> 49 | K73: =DAY(B73) -> 30 | L73: =PROPER(TRIM(MID(SUBSTITUTE($B$3," ",REPT(" ",99)),99*INT((LEN($B$3)-LEN(SUBSTITUTE($B$3," ","")))/2),99))) -> September | M73: =IF(J73<1," ","JV-KB/TK-"&$L$11&"-"&J73) -> JV-KB/TK-September-49 | N73: ="KB/TK "&E73 -> KB/TK Perkantoran | P73: =E73 -> Perkantoran | Q73: =F73+G73 -> 88000 | R73: =Q73 -> 88000 | T73: =$T$10 -> UNIT | U73: =CONCATENATE(T73,N73) -> UNITKB/TK Perkantoran
B74: 45930 | C74: 530602 | D74: 50 | E74: Work sheet | G74: 711500 | H74: =H73+F74-G74 -> 2.9375282e+08 | J74: =D74 -> 50 | K74: =DAY(B74) -> 30 | L74: =PROPER(TRIM(MID(SUBSTITUTE($B$3," ",REPT(" ",99)),99*INT((LEN($B$3)-LEN(SUBSTITUTE($B$3," ","")))/2),99))) -> September | M74: =IF(J74<1," ","JV-KB/TK-"&$L$11&"-"&J74) -> JV-KB/TK-September-50 | N74: ="KB/TK "&E74 -> KB/TK Work sheet | P74: =E74 -> Work sheet | Q74: =F74+G74 -> 711500 | R74: =Q74 -> 711500 | T74: =$T$10 -> UNIT | U74: =CONCATENATE(T74,N74) -> UNITKB/TK Work sheet
B75: 45930 | C75: 531005 | D75: 51 | E75: Home Visit Siswa Dalam Kota | G75: 495000 | H75: =H74+F75-G75 -> 2.9325782e+08 | J75: =D75 -> 51 | K75: =DAY(B75) -> 30 | L75: =PROPER(TRIM(MID(SUBSTITUTE($B$3," ",REPT(" ",99)),99*INT((LEN($B$3)-LEN(SUBSTITUTE($B$3," ","")))/2),99))) -> September | M75: =IF(J75<1," ","JV-KB/TK-"&$L$11&"-"&J75) -> JV-KB/TK-September-51 | N75: ="KB/TK "&E75 -> KB/TK Home Visit Siswa Dalam Kota | P75: =E75 -> Home Visit Siswa Dalam Kota | Q75: =F75+G75 -> 495000 | R75: =Q75 -> 495000 | T75: =$T$10 -> UNIT | U75: =CONCATENATE(T75,N75) -> UNITKB/TK Home Visit Siswa Dalam Kota
B78: Pada hari ini Selasa, 30 September 2025 Buku Kas Umum ditutup dengan keadaan / posisi buku sebagai berikut : | M78: =SUM(G11:G75) -> 1.3112618e+08
B79: Saldo kas Umum | F79: =H75 -> 2.9325782e+08 | M79: =G14+G15+G16+G32+G36+G47+G69 -> 49731333
B80: Terdiri dari : | M80: =M78-M79 -> 81394850
B81: Saldo Bank | E81: 2.6680052e+08
B82: Saldo Kas Tunai | E82: 26457300
B83: Jumlah | E83: =SUM(E81:E82) -> 2.9325782e+08
B85: Mengetahui, | F85: Purwoketo, 30 September 2025
B86: Kepala Sekolah | F86: Bendahara
B90: Khusnul Khotimah, S.Si., S.Pd. | F90: Sigit Purwanto, A.Md.Kom.

Sheet OKT25
B1: Tanggal | C1: No. Kode | D1: No. Bukti | E1: Uraian | F1: Penerimaan (Debit) | G1: Pengeluaran (Kredit) | H1: Saldo Kas | I1: 1 | J1: no | K1: tgl | L1: bulan | M1: jurnal voucher | N1: KB/TK+uraian | O1: COA | P1: URAIAN | Q1: JUMLAH (DEBIT+KREDIT) | R1: JUMLAH (DEBIT+KREDIT)2 | S1: KOSONGI | T1: UNIT | U1: CONCENATE | V1: KB/TK
B2: BUKU KAS UMUM
B3: BULAN OKTOBER 2025
B5: Sekolah | D5: : KB & TK AL IRSYAD AL ISLAMIYYAH PURWOKERTO
B6: Desa / Kecamatan | D6: : SOKANEGARA / PURWOKERTO TIMUR
B7: Kabupaten | D7: : BANYUMAS
B8: Provinsi | D8: : JAWA TENGAH
L9: 2 | T9: KB/TK
B10: Tanggal | C10: No. Kode | D10: No. Bukti | E10: Uraian | F10: Penerimaan (Kredit) | G10: Pengeluaran (Debit) | H10: Saldo Kas | J10: no | K10: tgl | L10: bulan | M10: jurnal voucher | N10: KB/TK+uraian | O10: COA | P10: URAIAN | Q10: JUMLAH (DEBIT+KREDIT) | R10: JUMLAH (DEBIT+KREDIT)2 | S10: KOSONGI | T10: UNIT | U10: CONCENATE | V10: KB/TK
B11: 45931 | E11: Saldo bulan lalu | F11: 2.9325782e+08 | H11: =F11 -> 2.9325782e+08 | J11: =D11 -> 0 | K11: =DAY(B11) -> 1 | L11: =PROPER(TRIM(MID(SUBSTITUTE($B$3," ",REPT(" ",99)),99*INT((LEN($B$3)-LEN(SUBSTITUTE($B$3," ","")))/2),99))) -> Oktober | M11: =IF(J11<1," ","JV-KB/TK-"&$L$11&"-"&J11) | N11: ="KB/TK "&E11 -> KB/TK Saldo bulan lalu | P11: =E11 -> Saldo bulan lalu | Q11: =F11+G11 -> 2.9325782e+08 | R11: =Q11 -> 2.9325782e+08 | T11: =$T$10 -> UNIT | U11: =CONCATENATE(T11,N11) -> UNITKB/TK Saldo bulan lalu
B12: 45931 | C12: 530805 | D12: 1 | E12: Bantuan Pulsa KS | G12: 150000 | H12: =H11+F12-G12 -> 2.9310782e+08 | J12: =D12 -> 1 | K12: =DAY(B12) -> 1 | L12: =PROPER(TRIM(MID(SUBSTITUTE($B$3," ",REPT(" ",99)),99*INT((LEN($B$3)-LEN(SUBSTITUTE($B$3," ","")))/2),99))) -> Oktober | M12: =IF(J12<1," ","JV-KB/TK-"&$L$11&"-"&J12) -> JV-KB/TK-Oktober-1 | N12: ="KB/TK "&E12 -> KB/TK Bantuan Pulsa KS | P12: =E12 -> Bantuan Pulsa KS | Q12: =F12+G12 -> 150000 | R12: =Q12 -> 150000 | T12: =$T$10 -> UNIT | U12: =CONCATENATE(T12,N12) -> UNITKB/TK Bantuan Pulsa KS
B13: 45931 | C13: 530806 | D13: 2 | E13: Bantuan Pulsa WKS | G13: 375000 | H13: =H12+F13-G13 -> 2.9273282e+08 | J13: =D13 -> 2 | K13: =DAY(B13) -> 1 | L13: =PROPER(TRIM(MID(SUBSTITUTE($B$3," ",REPT(" ",99)),99*INT((LEN($B$3)-LEN(SUBSTITUTE($B$3," ","")))/2),99))) -> Oktober | M13: =IF(J13<1," ","JV-KB/TK-"&$L$11&"-"&J13) -> JV-KB/TK-Oktober-2 | N13: ="KB/TK "&E13 -> KB/TK Bantuan Pulsa WKS | P13: =E13 -> Bantuan Pulsa WKS | Q13: =F13+G13 -> 375000 | R13: =Q13 -> 375000 | T13: =$T$10 -> UNIT | U13: =CONCATENATE(T13,N13) -> UNITKB/TK Bantuan Pulsa WKS
B14: 45931 | C14: 530807 | D14: 3 | E14: Bantuan Pulsa Wali Kelas | G14: 975000 | H14: =H13+F14-G14 -> 2.9175782e+08 | J14: =D14 -> 3 | K14: =DAY(B14) -> 1 | L14: =PROPER(TRIM(MID(SUBSTITUTE($B$3," ",REPT(" ",99)),99*INT((LEN($B$3)-LEN(SUBSTITUTE($B$3," ","")))/2),99))) -> Oktober | M14: =IF(J14<1," ","JV-KB/TK-"&$L$11&"-"&J14) -> JV-KB/TK-Oktober-3 | N14: ="KB/TK "&E14 -> KB/TK Bantuan Pulsa Wali Kelas | P14: =E14 -> Bantuan Pulsa Wali Kelas | Q14: =F14+G14 -> 975000 | R14: =Q14 -> 975000 | T14: =$T$10 -> UNIT | U14: =CONCATENATE(T14,N14) -> UNITKB/TK Bantuan Pulsa Wali Kelas
B15: 45931 | C15: 530817 | D15: 4 | E15: Bantuan Pulsa Bendahara | G15: 50000 | H15: =H14+F15-G15 -> 2.9170782e+08 | J15: =D15 -> 4 | K15: =DAY(B15) -> 1 | L15: =PROPER(TRIM(MID(SUBSTITUTE($B$3," ",REPT(" ",99)),99*INT((LEN($B$3)-LEN(SUBSTITUTE($B$3," ","")))/2),99))) -> Oktober | M15: =IF(J15<1," ","JV-KB/TK-"&$L$11&"-"&J15) -> JV-KB/TK-Oktober-4 | N15: ="KB/TK "&E15 -> KB/TK Bantuan Pulsa Bendahara | P15: =E15 -> Bantuan Pulsa Bendahara | Q15: =F15+G15 -> 50000 | R15: =Q15 -> 50000 | T15: =$T$10 -> UNIT | U15: =CONCATENATE(T15,N15) -> UNITKB/TK Bantuan Pulsa Bendahara
B16: 45931 | C16: 531001 | D16: 5 | E16: Transport KS | G16: 200000 | H16: =H15+F16-G16 -> 2.9150782e+08 | J16: =D16 -> 5 | K16: =DAY(B16) -> 1 | L16: =PROPER(TRIM(MID(SUBSTITUTE($B$3," ",REPT(" ",99)),99*INT((LEN($B$3)-LEN(SUBSTITUTE($B$3," ","")))/2),99))) -> Oktober | M16: =IF(J16<1," ","JV-KB/TK-"&$L$11&"-"&J16) -> JV-KB/TK-Oktober-5 | N16: ="KB/TK "&E16 -> KB/TK Transport KS | P16: =E16 -> Transport KS | Q16: =F16+G16 -> 200000 | R16: =Q16 -> 200000 | T16: =$T$10 -> UNIT | U16: =CONCATENATE(T16,N16) -> UNITKB/TK Transport KS
B17: 45931 | C17: 531002 | D17: 6 | E17: Transport WKS | G17: 450000 | H17: =H16+F17-G17 -> 2.9105782e+08 | J17: =D17 -> 6 | K17: =DAY(B17) -> 1 | L17: =PROPER(TRIM(MID(SUBSTITUTE($B$3," ",REPT(" ",99)),99*INT((LEN($B$3)-LEN(SUBSTITUTE($B$3," ","")))/2),99))) -> Oktober | M17: =IF(J17<1," ","JV-KB/TK-"&$L$11&"-"&J17) -> JV-KB/TK-Oktober-6 | N17: ="KB/TK "&E17 -> KB/TK Transport WKS | P17: =E17 -> Transport WKS | Q17: =F17+G17 -> 450000 | R17: =Q17 -> 450000 | T17: =$T$10 -> UNIT | U17: =CONCATENATE(T17,N17) -> UNITKB/TK Transport WKS
B18: 45931 | C18: 531022 | D18: 7 | E18: Transport Bendahara | G18: 150000 | H18: =H17+F18-G18 -> 2.9090782e+08 | J18: =D18 -> 7 | K18: =DAY(B18) -> 1 | L18: =PROPER(TRIM(MID(SUBSTITUTE($B$3," ",REPT(" ",99)),99*INT((LEN($B$3)-LEN(SUBSTITUTE($B$3," ","")))/2),99))) -> Oktober | M18: =IF(J18<1," ","JV-KB/TK-"&$L$11&"-"&J18) -> JV-KB/TK-Oktober-7 | N18: ="KB/TK "&E18 -> KB/TK Transport Bendahara | P18: =E18 -> Transport Bendahara | Q18: =F18+G18 -> 150000 | R18: =Q18 -> 150000 | T18: =$T$10 -> UNIT | U18: =CONCATENATE(T18,N18) -> UNITKB/TK Transport Bendahara
B19: 45931 | C19: 553100 | D19: 8 | E19: Biaya Lain-Lain | G19: 366500 | H19: =H18+F19-G19 -> 2.9054132e+08 | J19: =D19 -> 8 | K19: =DAY(B19) -> 1 | L19: =PROPER(TRIM(MID(SUBSTITUTE($B$3," ",REPT(" ",99)),99*INT((LEN($B$3)-LEN(SUBSTITUTE($B$3," ","")))/2),99))) -> Oktober | M19: =IF(J19<1," ","JV-KB/TK-"&$L$11&"-"&J19) -> JV-KB/TK-Oktober-8 | N19: ="KB/TK "&E19 -> KB/TK Biaya Lain-Lain | P19: =E19 -> Biaya Lain-Lain | Q19: =F19+G19 -> 366500 | R19: =Q19 -> 366500 | T19: =$T$10 -> UNIT | U19: =CONCATENATE(T19,N19) -> UNITKB/TK Biaya Lain-Lain
B20: 45932 | C20: 511408 | D20: 9 | E20: Pelaksanaan Lomba Insidental | G20: 40000 | H20: =H19+F20-G20 -> 2.9050132e+08 | J20: =D20 -> 9 | K20: =DAY(B20) -> 2 | L20: =PROPER(TRIM(MID(SUBSTITUTE($B$3," ",REPT(" ",99)),99*INT((LEN($B$3)-LEN(SUBSTITUTE($B$3," ","")))/2),99))) -> Oktober | M20: =IF(J20<1," ","JV-KB/TK-"&$L$11&"-"&J20) -> JV-KB/TK-Oktober-9 | N20: ="KB/TK "&E20 -> KB/TK Pelaksanaan Lomba Insidental | P20: =E20 -> Pelaksanaan Lomba Insidental | Q20: =F20+G20 -> 40000 | R20: =Q20 -> 40000 | T20: =$T$10 -> UNIT | U20: =CONCATENATE(T20,N20) -> UNITKB/TK Pelaksanaan Lomba Insidental
B21: 45932 | C21: 530908 | D21: 10 | E21: IGTK Kecamatan | G21: 820000 | H21: =H20+F21-G21 -> 2.8968132e+08 | J21: =D21 -> 10 | K21: =DAY(B21) -> 2 | L21: =PROPER(TRIM(MID(SUBSTITUTE($B$3," ",REPT(" ",99)),99*INT((LEN($B$3)-LEN(SUBSTITUTE($B$3," ","")))/2),99))) -> Oktober | M21: =IF(J21<1," ","JV-KB/TK-"&$L$11&"-"&J21) -> JV-KB/TK-Oktober-10 | N21: ="KB/TK "&E21 -> KB/TK IGTK Kecamatan | P21: =E21 -> IGTK Kecamatan | Q21: =F21+G21 -> 820000 | R21: =Q21 -> 820000 | T21: =$T$10 -> UNIT | U21: =CONCATENATE(T21,N21) -> UNITKB/TK IGTK Kecamatan
B22: 45932 | E22: By. Adm BSMNet SEP 25 | G22: 10000 | H22: =H21+F22-G22 -> 2.8967132e+08 | J22: =D22 -> 0 | K22: =DAY(B22) -> 2 | L22: =PROPER(TRIM(MID(SUBSTITUTE($B$3," ",REPT(" ",99)),99*INT((LEN($B$3)-LEN(SUBSTITUTE($B$3," ","")))/2),99))) -> Oktober | M22: =IF(J22<1," ","JV-KB/TK-"&$L$11&"-"&J22) | N22: ="KB/TK "&E22 -> KB/TK By. Adm BSMNet SEP 25 | P22: =E22 -> By. Adm BSMNet SEP 25 | Q22: =F22+G22 -> 10000 | R22: =Q22 -> 10000 | T22: =$T$10 -> UNIT | U22: =CONCATENATE(T22,N22) -> UNITKB/TK By. Adm BSMNet SEP 25
B23: 45933 | C23: 515108 | D23: 11 | E23: Perawatan Gedung | G23: 285000 | H23: =H22+F23-G23 -> 2.8938632e+08 | J23: =D23 -> 11 | K23: =DAY(B23) -> 3 | L23: =PROPER(TRIM(MID(SUBSTITUTE($B$3," ",REPT(" ",99)),99*INT((LEN($B$3)-LEN(SUBSTITUTE($B$3," ","")))/2),99))) -> Oktober | M23: =IF(J23<1," ","JV-KB/TK-"&$L$11&"-"&J23) -> JV-KB/TK-Oktober-11 | N23: ="KB/TK "&E23 -> KB/TK Perawatan Gedung | P23: =E23 -> Perawatan Gedung | Q23: =F23+G23 -> 285000 | R23: =Q23 -> 285000 | T23: =$T$10 -> UNIT | U23: =CONCATENATE(T23,N23) -> UNITKB/TK Perawatan Gedung
B24: 45933 | C24: 530918 | D24: 12 | E24: Penarikan Sampah | G24: 350000 | H24: =H23+F24-G24 -> 2.8903632e+08 | J24: =D24 -> 12 | K24: =DAY(B24) -> 3 | L24: =PROPER(TRIM(MID(SUBSTITUTE($B$3," ",REPT(" ",99)),99*INT((LEN($B$3)-LEN(SUBSTITUTE($B$3," ","")))/2),99))) -> Oktober | M24: =IF(J24<1," ","JV-KB/TK-"&$L$11&"-"&J24) -> JV-KB/TK-Oktober-12 | N24: ="KB/TK "&E24 -> KB/TK Penarikan Sampah | P24: =E24 -> Penarikan Sampah | Q24: =F24+G24 -> 350000 | R24: =Q24 -> 350000 | T24: =$T$10 -> UNIT | U24: =CONCATENATE(T24,N24) -> UNITKB/TK Penarikan Sampah
B25: 45933 | C25: 531010 | D25: 13 | E25: Operasional Mobil Sekolah | G25: 67300 | H25: =H24+F25-G25 -> 2.8896902e+08 | J25: =D25 -> 13 | K25: =DAY(B25) -> 3 | L25: =PROPER(TRIM(MID(SUBSTITUTE($B$3," ",REPT(" ",99)),99*INT((LEN($B$3)-LEN(SUBSTITUTE($B$3," ","")))/2),99))) -> Oktober | M25: =IF(J25<1," ","JV-KB/TK-"&$L$11&"-"&J25) -> JV-KB/TK-Oktober-13 | N25: ="KB/TK "&E25 -> KB/TK Operasional Mobil Sekolah | P25: =E25 -> Operasional Mobil Sekolah | Q25: =F25+G25 -> 67300 | R25: =Q25 -> 67300 | T25: =$T$10 -> UNIT | U25: =CONCATENATE(T25,N25) -> UNITKB/TK Operasional Mobil Sekolah
B26: 45933 | E26: Pengambilan Dropping | F26: 20000000 | H26: =H25+F26-G26 -> 3.0896902e+08 | J26: =D26 -> 0 | K26: =DAY(B26) -> 3 | L26: =PROPER(TRIM(MID(SUBSTITUTE($B$3," ",REPT(" ",99)),99*INT((LEN($B$3)-LEN(SUBSTITUTE($B$3," ","")))/2),99))) -> Oktober | M26: =IF(J26<1," ","JV-KB/TK-"&$L$11&"-"&J26) | N26: ="KB/TK "&E26 -> KB/TK Pengambilan Dropping | P26: =E26 -> Pengambilan Dropping | Q26: =F26+G26 -> 20000000 | R26: =Q26 -> 20000000 | T26: =$T$10 -> UNIT | U26: =CONCATENATE(T26,N26) -> UNITKB/TK Pengambilan Dropping
B27: 45933 | E27: Diterima kas tunai di Bendahara | G27: 20000000 | H27: =H26+F27-G27 -> 2.8896902e+08 | J27: =D27 -> 0 | K27: =DAY(B27) -> 3 | L27: =PROPER(TRIM(MID(SUBSTITUTE($B$3," ",REPT(" ",99)),99*INT((LEN($B$3)-LEN(SUBSTITUTE($B$3," ","")))/2),99))) -> Oktober | M27: =IF(J27<1," ","JV-KB/TK-"&$L$11&"-"&J27) | N27: ="KB/TK "&E27 -> KB/TK Diterima kas tunai di Bendahara | P27: =E27 -> Diterima kas tunai di Bendahara | Q27: =F27+G27 -> 20000000 | R27: =Q27 -> 20000000 | T27: =$T$10 -> UNIT | U27: =CONCATENATE(T27,N27) -> UNITKB/TK Diterima kas tunai di Bendahara
B28: 45934 | C28: 530916 | D28: 14 | E28: Langganan Majalah/koran | G28: 230000 | H28: =H27+F28-G28 -> 2.8873902e+08 | J28: =D28 -> 14 | K28: =DAY(B28) -> 4 | L28: =PROPER(TRIM(MID(SUBSTITUTE($B$3," ",REPT(" ",99)),99*INT((LEN($B$3)-LEN(SUBSTITUTE($B$3," ","")))/2),99))) -> Oktober | M28: =IF(J28<1," ","JV-KB/TK-"&$L$11&"-"&J28) -> JV-KB/TK-Oktober-14 | N28: ="KB/TK "&E28 -> KB/TK Langganan Majalah/koran | P28: =E28 -> Langganan Majalah/koran | Q28: =F28+G28 -> 230000 | R28: =Q28 -> 230000 | T28: =$T$10 -> UNIT | U28: =CONCATENATE(T28,N28) -> UNITKB/TK Langganan Majalah/koran
B29: 45935 | E29: Biaya Administrasi | G29: 10000 | H29: =H28+F29-G29 -> 2.8872902e+08 | J29: =D29 -> 0 | K29: =DAY(B29) -> 5 | L29: =PROPER(TRIM(MID(SUBSTITUTE($B$3," ",REPT(" ",99)),99*INT((LEN($B$3)-LEN(SUBSTITUTE($B$3," ","")))/2),99))) -> Oktober | M29: =IF(J29<1," ","JV-KB/TK-"&$L$11&"-"&J29) | N29: ="KB/TK "&E29 -> KB/TK Biaya Administrasi | P29: =E29 -> Biaya Administrasi | Q29: =F29+G29 -> 10000 | R29: =Q29 -> 10000 | T29: =$T$10 -> UNIT | U29: =CONCATENATE(T29,N29) -> UNITKB/TK Biaya Administrasi
B30: 45936 | C30: 515116 | D30: 15 | E30: Perawatan Komputer | G30: 705000 | H30: =H29+F30-G30 -> 2.8802402e+08 | J30: =D30 -> 15 | K30: =DAY(B30) -> 6 | L30: =PROPER(TRIM(MID(SUBSTITUTE($B$3," ",REPT(" ",99)),99*INT((LEN($B$3)-LEN(SUBSTITUTE($B$3," ","")))/2),99))) -> Oktober | M30: =IF(J30<1," ","JV-KB/TK-"&$L$11&"-"&J30) -> JV-KB/TK-Oktober-15 | N30: ="KB/TK "&E30 -> KB/TK Perawatan Komputer | P30: =E30 -> Perawatan Komputer | Q30: =F30+G30 -> 705000 | R30: =Q30 -> 705000 | T30: =$T$10 -> UNIT | U30: =CONCATENATE(T30,N30) -> UNITKB/TK Perawatan Komputer
B31: 45936 | C31: 530701 | D31: 16 | E31: Air Mineral Galon | G31: 44000 | H31: =H30+F31-G31 -> 2.8798002e+08 | J31: =D31 -> 16 | K31: =DAY(B31) -> 6 | L31: =PROPER(TRIM(MID(SUBSTITUTE($B$3," ",REPT(" ",99)),99*INT((LEN($B$3)-LEN(SUBSTITUTE($B$3," ","")))/2),99))) -> Oktober | M31: =IF(J31<1," ","JV-KB/TK-"&$L$11&"-"&J31) -> JV-KB/TK-Oktober-16 | N31: ="KB/TK "&E31 -> KB/TK Air Mineral Galon | P31: =E31 -> Air Mineral Galon | Q31: =F31+G31 -> 44000 | R31: =Q31 -> 44000 | T31: =$T$10 -> UNIT | U31: =CONCATENATE(T31,N31) -> UNITKB/TK Air Mineral Galon
B32: 45936 | C32: 530801 | D32: 17 | E32: Internet | G32: 1065100 | H32: =H31+F32-G32 -> 2.8691492e+08 | J32: =D32 -> 17 | K32: =DAY(B32) -> 6 | L32: =PROPER(TRIM(MID(SUBSTITUTE($B$3," ",REPT(" ",99)),99*INT((LEN($B$3)-LEN(SUBSTITUTE($B$3," ","")))/2),99))) -> Oktober | M32: =IF(J32<1," ","JV-KB/TK-"&$L$11&"-"&J32) -> JV-KB/TK-Oktober-17 | N32: ="KB/TK "&E32 -> KB/TK Internet | P32: =E32 -> Internet | Q32: =F32+G32 -> 1065100 | R32: =Q32 -> 1065100 | T32: =$T$10 -> UNIT | U32: =CONCATENATE(T32,N32) -> UNITKB/TK Internet
B33: 45936 | C33: 530802 | D33: 18 | E33: Listrik | G33: 4158300 | H33: =H32+F33-G33 -> 2.8275662e+08 | J33: =D33 -> 18 | K33: =DAY(B33) -> 6 | L33: =PROPER(TRIM(MID(SUBSTITUTE($B$3," ",REPT(" ",99)),99*INT((LEN($B$3)-LEN(SUBSTITUTE($B$3," ","")))/2),99))) -> Oktober | M33: =IF(J33<1," ","JV-KB/TK-"&$L$11&"-"&J33) -> JV-KB/TK-Oktober-18 | N33: ="KB/TK "&E33 -> KB/TK Listrik | P33: =E33 -> Listrik | Q33: =F33+G33 -> 4158300 | R33: =Q33 -> 4158300 | T33: =$T$10 -> UNIT | U33: =CONCATENATE(T33,N33) -> UNITKB/TK Listrik
B34: 45936 | C34: 530803 | D34: 19 | E34: PDAM | G34: 331000 | H34: =H33+F34-G34 -> 2.8242562e+08 | J34: =D34 -> 19 | K34: =DAY(B34) -> 6 | L34: =PROPER(TRIM(MID(SUBSTITUTE($B$3," ",REPT(" ",99)),99*INT((LEN($B$3)-LEN(SUBSTITUTE($B$3," ","")))/2),99))) -> Oktober | M34: =IF(J34<1," ","JV-KB/TK-"&$L$11&"-"&J34) -> JV-KB/TK-Oktober-19 | N34: ="KB/TK "&E34 -> KB/TK PDAM | P34: =E34 -> PDAM | Q34: =F34+G34 -> 331000 | R34: =Q34 -> 331000 | T34: =$T$10 -> UNIT | U34: =CONCATENATE(T34,N34) -> UNITKB/TK PDAM
B35: 45937 | C35: 515102 | D35: 20 | E35: Perawatan AC | G35: 75000 | H35: =H34+F35-G35 -> 2.8235062e+08 | J35: =D35 -> 20 | K35: =DAY(B35) -> 7 | L35: =PROPER(TRIM(MID(SUBSTITUTE($B$3," ",REPT(" ",99)),99*INT((LEN($B$3)-LEN(SUBSTITUTE($B$3," ","")))/2),99))) -> Oktober | M35: =IF(J35<1," ","JV-KB/TK-"&$L$11&"-"&J35) -> JV-KB/TK-Oktober-20 | N35: ="KB/TK "&E35 -> KB/TK Perawatan AC | P35: =E35 -> Perawatan AC | Q35: =F35+G35 -> 75000 | R35: =Q35 -> 75000 | T35: =$T$10 -> UNIT | U35: =CONCATENATE(T35,N35) -> UNITKB/TK Perawatan AC
B36: 45937 | C36: 530701 | D36: 21 | E36: Air Mineral Galon | G36: 520000 | H36: =H35+F36-G36 -> 2.8183062e+08 | J36: =D36 -> 21 | K36: =DAY(B36) -> 7 | L36: =PROPER(TRIM(MID(SUBSTITUTE($B$3," ",REPT(" ",99)),99*INT((LEN($B$3)-LEN(SUBSTITUTE($B$3," ","")))/2),99))) -> Oktober | M36: =IF(J36<1," ","JV-KB/TK-"&$L$11&"-"&J36) -> JV-KB/TK-Oktober-21 | N36: ="KB/TK "&E36 -> KB/TK Air Mineral Galon | P36: =E36 -> Air Mineral Galon | Q36: =F36+G36 -> 520000 | R36: =Q36 -> 520000 | T36: =$T$10 -> UNIT | U36: =CONCATENATE(T36,N36) -> UNITKB/TK Air Mineral Galon
B37: 45938 | C37: 512301 | D37: 22 | E37: RPPH | G37: 254700 | H37: =H36+F37-G37 -> 2.8157592e+08 | J37: =D37 -> 22 | K37: =DAY(B37) -> 8 | L37: =PROPER(TRIM(MID(SUBSTITUTE($B$3," ",REPT(" ",99)),99*INT((LEN($B$3)-LEN(SUBSTITUTE($B$3," ","")))/2),99))) -> Oktober | M37: =IF(J37<1," ","JV-KB/TK-"&$L$11&"-"&J37) -> JV-KB/TK-Oktober-22 | N37: ="KB/TK "&E37 -> KB/TK RPPH | P37: =E37 -> RPPH | Q37: =F37+G37 -> 254700 | R37: =Q37 -> 254700 | T37: =$T$10 -> UNIT | U37: =CONCATENATE(T37,N37) -> UNITKB/TK RPPH
B38: 45938 | C38: 530127 | D38: 23 | E38: ATK Lain-lain | G38: 399500 | H38: =H37+F38-G38 -> 2.8117642e+08 | J38: =D38 -> 23 | K38: =DAY(B38) -> 8 | L38: =PROPER(TRIM(MID(SUBSTITUTE($B$3," ",REPT(" ",99)),99*INT((LEN($B$3)-LEN(SUBSTITUTE($B$3," ","")))/2),99))) -> Oktober | M38: =IF(J38<1," ","JV-KB/TK-"&$L$11&"-"&J38) -> JV-KB/TK-Oktober-23 | N38: ="KB/TK "&E38 -> KB/TK ATK Lain-lain | P38: =E38 -> ATK Lain-lain | Q38: =F38+G38 -> 399500 | R38: =Q38 -> 399500 | T38: =$T$10 -> UNIT | U38: =CONCATENATE(T38,N38) -> UNITKB/TK ATK Lain-lain
B39: 45940 | C39: 516080 | D39: 24 | E39: Kegiatan Parenting | G39: 135700 | H39: =H38+F39-G39 -> 2.8104072e+08 | J39: =D39 -> 24 | K39: =DAY(B39) -> 10 | L39: =PROPER(TRIM(MID(SUBSTITUTE($B$3," ",REPT(" ",99)),99*INT((LEN($B$3)-LEN(SUBSTITUTE($B$3," ","")))/2),99))) -> Oktober | M39: =IF(J39<1," ","JV-KB/TK-"&$L$11&"-"&J39) -> JV-KB/TK-Oktober-24 | N39: ="KB/TK "&E39 -> KB/TK Kegiatan Parenting | P39: =E39 -> Kegiatan Parenting | Q39: =F39+G39 -> 135700 | R39: =Q39 -> 135700 | T39: =$T$10 -> UNIT | U39: =CONCATENATE(T39,N39) -> UNITKB/TK Kegiatan Parenting
B40: 45940 | C40: 530914 | D40: 25 | E40: KKG/MGMP | G40: 670000 | H40: =H39+F40-G40 -> 2.8037072e+08 | J40: =D40 -> 25 | K40: =DAY(B40) -> 10 | L40: =PROPER(TRIM(MID(SUBSTITUTE($B$3," ",REPT(" ",99)),99*INT((LEN($B$3)-LEN(SUBSTITUTE($B$3," ","")))/2),99))) -> Oktober | M40: =IF(J40<1," ","JV-KB/TK-"&$L$11&"-"&J40) -> JV-KB/TK-Oktober-25 | N40: ="KB/TK "&E40 -> KB/TK KKG/MGMP | P40: =E40 -> KKG/MGMP | Q40: =F40+G40 -> 670000 | R40: =Q40 -> 670000 | T40: =$T$10 -> UNIT | U40: =CONCATENATE(T40,N40) -> UNITKB/TK KKG/MGMP
B41: 45941 | E41: Pencairan Droping Oktober 2025 | F41: 35648500 | H41: =H40+F41-G41 -> 3.1601922e+08 | J41: =D41 -> 0 | K41: =DAY(B41) -> 11 | L41: =PROPER(TRIM(MID(SUBSTITUTE($B$3," ",REPT(" ",99)),99*INT((LEN($B$3)-LEN(SUBSTITUTE($B$3," ","")))/2),99))) -> Oktober | M41: =IF(J41<1," ","JV-KB/TK-"&$L$11&"-"&J41) | N41: ="KB/TK "&E41 -> KB/TK Pencairan Droping Oktober 2025 | P41: =E41 -> Pencairan Droping Oktober 2025 | Q41: =F41+G41 -> 35648500 | R41: =Q41 -> 35648500 | T41: =$T$10 -> UNIT | U41: =CONCATENATE(T41,N41) -> UNITKB/TK Pencairan Droping Oktober 2025
B42: 45946 | C42: 530218 | D42: 26 | E42: Refill Gas | G42: 215000 | H42: =H41+F42-G42 -> 3.1580422e+08 | J42: =D42 -> 26 | K42: =DAY(B42) -> 16 | L42: =PROPER(TRIM(MID(SUBSTITUTE($B$3," ",REPT(" ",99)),99*INT((LEN($B$3)-LEN(SUBSTITUTE($B$3," ","")))/2),99))) -> Oktober | M42: =IF(J42<1," ","JV-KB/TK-"&$L$11&"-"&J42) -> JV-KB/TK-Oktober-26 | N42: ="KB/TK "&E42 -> KB/TK Refill Gas | P42: =E42 -> Refill Gas | Q42: =F42+G42 -> 215000 | R42: =Q42 -> 215000 | T42: =$T$10 -> UNIT | U42: =CONCATENATE(T42,N42) -> UNITKB/TK Refill Gas
B43: 45946 | C43: 540172 | D43: 27 | E43: Rak Tas | G43: 3000000 | H43: =H42+F43-G43 -> 3.1280422e+08 | J43: =D43 -> 27 | K43: =DAY(B43) -> 16 | L43: =PROPER(TRIM(MID(SUBSTITUTE($B$3," ",REPT(" ",99)),99*INT((LEN($B$3)-LEN(SUBSTITUTE($B$3," ","")))/2),99))) -> Oktober | M43: =IF(J43<1," ","JV-KB/TK-"&$L$11&"-"&J43) -> JV-KB/TK-Oktober-27 | N43: ="KB/TK "&E43 -> KB/TK Rak Tas | P43: =E43 -> Rak Tas | Q43: =F43+G43 -> 3000000 | R43: =Q43 -> 3000000 | T43: =$T$10 -> UNIT | U43: =CONCATENATE(T43,N43) -> UNITKB/TK Rak Tas
B44: 45947 | C44: 530304 | D44: 28 | E44: Batu Baterai | G44: 113500 | H44: =H43+F44-G44 -> 3.1269072e+08 | J44: =D44 -> 28 | K44: =DAY(B44) -> 17 | L44: =PROPER(TRIM(MID(SUBSTITUTE($B$3," ",REPT(" ",99)),99*INT((LEN($B$3)-LEN(SUBSTITUTE($B$3," ","")))/2),99))) -> Oktober | M44: =IF(J44<1," ","JV-KB/TK-"&$L$11&"-"&J44) -> JV-KB/TK-Oktober-28 | N44: ="KB/TK "&E44 -> KB/TK Batu Baterai | P44: =E44 -> Batu Baterai | Q44: =F44+G44 -> 113500 | R44: =Q44 -> 113500 | T44: =$T$10 -> UNIT | U44: =CONCATENATE(T44,N44) -> UNITKB/TK Batu Baterai
B45: 45950 | C45: 530709 | D45: 29 | E45: Minuman Guru dan Karyawan | G45: 236200 | H45: =H44+F45-G45 -> 3.1245452e+08 | J45: =D45 -> 29 | K45: =DAY(B45) -> 20 | L45: =PROPER(TRIM(MID(SUBSTITUTE($B$3," ",REPT(" ",99)),99*INT((LEN($B$3)-LEN(SUBSTITUTE($B$3," ","")))/2),99))) -> Oktober | M45: =IF(J45<1," ","JV-KB/TK-"&$L$11&"-"&J45) -> JV-KB/TK-Oktober-29 | N45: ="KB/TK "&E45 -> KB/TK Minuman Guru dan Karyawan | P45: =E45 -> Minuman Guru dan Karyawan | Q45: =F45+G45 -> 236200 | R45: =Q45 -> 236200 | T45: =$T$10 -> UNIT | U45: =CONCATENATE(T45,N45) -> UNITKB/TK Minuman Guru dan Karyawan
B46: 45951 | C46: 530202 | D46: 30 | E46: Alat kebersihan | G46: 660000 | H46: =H45+F46-G46 -> 3.1179452e+08 | J46: =D46 -> 30 | K46: =DAY(B46) -> 21 | L46: =PROPER(TRIM(MID(SUBSTITUTE($B$3," ",REPT(" ",99)),99*INT((LEN($B$3)-LEN(SUBSTITUTE($B$3," ","")))/2),99))) -> Oktober | M46: =IF(J46<1," ","JV-KB/TK-"&$L$11&"-"&J46) -> JV-KB/TK-Oktober-30 | N46: ="KB/TK "&E46 -> KB/TK Alat kebersihan | P46: =E46 -> Alat kebersihan | Q46: =F46+G46 -> 660000 | R46: =Q46 -> 660000 | T46: =$T$10 -> UNIT | U46: =CONCATENATE(T46,N46) -> UNITKB/TK Alat kebersihan
B47: 45951 | C47: 531006 | D47: 31 | E47: Home Visit Siswa Luar Kota | G47: 60000 | H47: =H46+F47-G47 -> 3.1173452e+08 | J47: =D47 -> 31 | K47: =DAY(B47) -> 21 | L47: =PROPER(TRIM(MID(SUBSTITUTE($B$3," ",REPT(" ",99)),99*INT((LEN($B$3)-LEN(SUBSTITUTE($B$3," ","")))/2),99))) -> Oktober | M47: =IF(J47<1," ","JV-KB/TK-"&$L$11&"-"&J47) -> JV-KB/TK-Oktober-31 | N47: ="KB/TK "&E47 -> KB/TK Home Visit Siswa Luar Kota | P47: =E47 -> Home Visit Siswa Luar Kota | Q47: =F47+G47 -> 60000 | R47: =Q47 -> 60000 | T47: =$T$10 -> UNIT | U47: =CONCATENATE(T47,N47) -> UNITKB/TK Home Visit Siswa Luar Kota
B48: 45952 | C48: 516264 | D48: 32 | E48: Media Pembelajaran | G48: 969700 | H48: =H47+F48-G48 -> 3.1076482e+08 | J48: =D48 -> 32 | K48: =DAY(B48) -> 22 | L48: =PROPER(TRIM(MID(SUBSTITUTE($B$3," ",REPT(" ",99)),99*INT((LEN($B$3)-LEN(SUBSTITUTE($B$3," ","")))/2),99))) -> Oktober | M48: =IF(J48<1," ","JV-KB/TK-"&$L$11&"-"&J48) -> JV-KB/TK-Oktober-32 | N48: ="KB/TK "&E48 -> KB/TK Media Pembelajaran | P48: =E48 -> Media Pembelajaran | Q48: =F48+G48 -> 969700 | R48: =Q48 -> 969700 | T48: =$T$10 -> UNIT | U48: =CONCATENATE(T48,N48) -> UNITKB/TK Media Pembelajaran
B49: 45953 | C49: 515113 | D49: 33 | E49: Perawatan Jaringan Listrik | G49: 200000 | H49: =H48+F49-G49 -> 3.1056482e+08 | J49: =D49 -> 33 | K49: =DAY(B49) -> 23 | L49: =PROPER(TRIM(MID(SUBSTITUTE($B$3," ",REPT(" ",99)),99*INT((LEN($B$3)-LEN(SUBSTITUTE($B$3," ","")))/2),99))) -> Oktober | M49: =IF(J49<1," ","JV-KB/TK-"&$L$11&"-"&J49) -> JV-KB/TK-Oktober-33 | N49: ="KB/TK "&E49 -> KB/TK Perawatan Jaringan Listrik | P49: =E49 -> Perawatan Jaringan Listrik | Q49: =F49+G49 -> 200000 | R49: =Q49 -> 200000 | T49: =$T$10 -> UNIT | U49: =CONCATENATE(T49,N49) -> UNITKB/TK Perawatan Jaringan Listrik
B50: 45953 | C50: 531008 | D50: 34 | E50: Home Visit SDM | G50: 400000 | H50: =H49+F50-G50 -> 3.1016482e+08 | J50: =D50 -> 34 | K50: =DAY(B50) -> 23 | L50: =PROPER(TRIM(MID(SUBSTITUTE($B$3," ",REPT(" ",99)),99*INT((LEN($B$3)-LEN(SUBSTITUTE($B$3," ","")))/2),99))) -> Oktober | M50: =IF(J50<1," ","JV-KB/TK-"&$L$11&"-"&J50) -> JV-KB/TK-Oktober-34 | N50: ="KB/TK "&E50 -> KB/TK Home Visit SDM | P50: =E50 -> Home Visit SDM | Q50: =F50+G50 -> 400000 | R50: =Q50 -> 400000 | T50: =$T$10 -> UNIT | U50: =CONCATENATE(T50,N50) -> UNITKB/TK Home Visit SDM
B51: 45954 | C51: 515806 | D51: 35 | E51: Studio Rekaman Mini | G51: 705100 | H51: =H50+F51-G51 -> 3.0945972e+08 | J51: =D51 -> 35 | K51: =DAY(B51) -> 24 | L51: =PROPER(TRIM(MID(SUBSTITUTE($B$3," ",REPT(" ",99)),99*INT((LEN($B$3)-LEN(SUBSTITUTE($B$3," ","")))/2),99))) -> Oktober | M51: =IF(J51<1," ","JV-KB/TK-"&$L$11&"-"&J51) -> JV-KB/TK-Oktober-35 | N51: ="KB/TK "&E51 -> KB/TK Studio Rekaman Mini | P51: =E51 -> Studio Rekaman Mini | Q51: =F51+G51 -> 705100 | R51: =Q51 -> 705100 | T51: =$T$10 -> UNIT | U51: =CONCATENATE(T51,N51) -> UNITKB/TK Studio Rekaman Mini
B52: 45954 | C52: 530906 | D52: 36 | E52: GOPTKI | G52: 20000 | H52: =H51+F52-G52 -> 3.0943972e+08 | J52: =D52 -> 36 | K52: =DAY(B52) -> 24 | L52: =PROPER(TRIM(MID(SUBSTITUTE($B$3," ",REPT(" ",99)),99*INT((LEN($B$3)-LEN(SUBSTITUTE($B$3," ","")))/2),99))) -> Oktober | M52: =IF(J52<1," ","JV-KB/TK-"&$L$11&"-"&J52) -> JV-KB/TK-Oktober-36 | N52: ="KB/TK "&E52 -> KB/TK GOPTKI | P52: =E52 -> GOPTKI | Q52: =F52+G52 -> 20000 | R52: =Q52 -> 20000 | T52: =$T$10 -> UNIT | U52: =CONCATENATE(T52,N52) -> UNITKB/TK GOPTKI
B53: 45955 | C53: 511241 | D53: 37 | E53: Pramuka Siaga | G53: 154000 | H53: =H52+F53-G53 -> 3.0928572e+08 | J53: =D53 -> 37 | K53: =DAY(B53) -> 25 | L53: =PROPER(TRIM(MID(SUBSTITUTE($B$3," ",REPT(" ",99)),99*INT((LEN($B$3)-LEN(SUBSTITUTE($B$3," ","")))/2),99))) -> Oktober | M53: =IF(J53<1," ","JV-KB/TK-"&$L$11&"-"&J53) -> JV-KB/TK-Oktober-37 | N53: ="KB/TK "&E53 -> KB/TK Pramuka Siaga | P53: =E53 -> Pramuka Siaga | Q53: =F53+G53 -> 154000 | R53: =Q53 -> 154000 | T53: =$T$10 -> UNIT | U53: =CONCATENATE(T53,N53) -> UNITKB/TK Pramuka Siaga
... B65: 45960 | C65: 531005 | D65: 49 | E65: Home Visit Siswa Dalam Kota | G65: 645000 | H65: =H64+F65-G65 -> 3.0265862e+08 | J65: =D65 -> 49 | K65: =DAY(B65) -> 30 | L65: =PROPER(TRIM(MID(SUBSTITUTE($B$3," ",REPT(" ",99)),99*INT((LEN($B$3)-LEN(SUBSTITUTE($B$3," ","")))/2),99))) -> Oktober | M65: =IF(J65<1," ","JV-KB/TK-"&$L$11&"-"&J65) -> JV-KB/TK-Oktober-49 | N65: ="KB/TK "&E65 -> KB/TK Home Visit Siswa Dalam Kota | P65: =E65 -> Home Visit Siswa Dalam Kota | Q65: =F65+G65 -> 645000 | R65: =Q65 -> 645000 | T65: =$T$10 -> UNIT | U65: =CONCATENATE(T65,N65) -> UNITKB/TK Home Visit Siswa Dalam Kota
B66: 45960 | E66: Pengambilan Dropping | F66: 15000000 | H66: =H65+F66-G66 -> 3.1765862e+08 | J66: =D66 -> 0 | K66: =DAY(B66) -> 30 | L66: =PROPER(TRIM(MID(SUBSTITUTE($B$3," ",REPT(" ",99)),99*INT((LEN($B$3)-LEN(SUBSTITUTE($B$3," ","")))/2),99))) -> Oktober | M66: =IF(J66<1," ","JV-KB/TK-"&$L$11&"-"&J66) | N66: ="KB/TK "&E66 -> KB/TK Pengambilan Dropping | P66: =E66 -> Pengambilan Dropping | Q66: =F66+G66 -> 15000000 | R66: =Q66 -> 15000000 | T66: =$T$10 -> UNIT | U66: =CONCATENATE(T66,N66) -> UNITKB/TK Pengambilan Dropping
B67: 45960 | E67: Diterima kas tunai di Bendahara | G67: 15000000 | H67: =H66+F67-G67 -> 3.0265862e+08 | J67: =D67 -> 0 | K67: =DAY(B67) -> 30 | L67: =PROPER(TRIM(MID(SUBSTITUTE($B$3," ",REPT(" ",99)),99*INT((LEN($B$3)-LEN(SUBSTITUTE($B$3," ","")))/2),99))) -> Oktober | M67: =IF(J67<1," ","JV-KB/TK-"&$L$11&"-"&J67) | N67: ="KB/TK "&E67 -> KB/TK Diterima kas tunai di Bendahara | P67: =E67 -> Diterima kas tunai di Bendahara | Q67: =F67+G67 -> 15000000 | R67: =Q67 -> 15000000 | T67: =$T$10 -> UNIT | U67: =CONCATENATE(T67,N67) -> UNITKB/TK Diterima kas tunai di Bendahara
B68: 45961 | C68: 512201 | D68: 50 | E68: Program Semester | G68: 758500 | H68: =H67+F68-G68 -> 3.0190012e+08 | J68: =D68 -> 50 | K68: =DAY(B68) -> 31 | L68: =PROPER(TRIM(MID(SUBSTITUTE($B$3," ",REPT(" ",99)),99*INT((LEN($B$3)-LEN(SUBSTITUTE($B$3," ","")))/2),99))) -> Oktober | M68: =IF(J68<1," ","JV-KB/TK-"&$L$11&"-"&J68) -> JV-KB/TK-Oktober-50 | N68: ="KB/TK "&E68 -> KB/TK Program Semester | P68: =E68 -> Program Semester | Q68: =F68+G68 -> 758500 | R68: =Q68 -> 758500 | T68: =$T$10 -> UNIT | U68: =CONCATENATE(T68,N68) -> UNITKB/TK Program Semester
B69: 45961 | C69: 516060 | D69: 51 | E69: Edu Fair / Open House (Milad Al Irsyad) | G69: 1000000 | H69: =H68+F69-G69 -> 3.0090012e+08 | J69: =D69 -> 51 | K69: =DAY(B69) -> 31 | L69: =PROPER(TRIM(MID(SUBSTITUTE($B$3," ",REPT(" ",99)),99*INT((LEN($B$3)-LEN(SUBSTITUTE($B$3," ","")))/2),99))) -> Oktober | M69: =IF(J69<1," ","JV-KB/TK-"&$L$11&"-"&J69) -> JV-KB/TK-Oktober-51 | N69: ="KB/TK "&E69 -> KB/TK Edu Fair / Open House (Milad Al Irsyad) | P69: =E69 -> Edu Fair / Open House (Milad Al Irsyad) | Q69: =F69+G69 -> 1000000 | R69: =Q69 -> 1000000 | T69: =$T$10 -> UNIT | U69: =CONCATENATE(T69,N69) -> UNITKB/TK Edu Fair / Open House (Milad Al Irsyad)
B70: 45961 | C70: 518112 | D70: 52 | E70: Progres Report | G70: 240000 | H70: =H69+F70-G70 -> 3.0066012e+08 | J70: =D70 -> 52 | K70: =DAY(B70) -> 31 | L70: =PROPER(TRIM(MID(SUBSTITUTE($B$3," ",REPT(" ",99)),99*INT((LEN($B$3)-LEN(SUBSTITUTE($B$3," ","")))/2),99))) -> Oktober | M70: =IF(J70<1," ","JV-KB/TK-"&$L$11&"-"&J70) -> JV-KB/TK-Oktober-52 | N70: ="KB/TK "&E70 -> KB/TK Progres Report | P70: =E70 -> Progres Report | Q70: =F70+G70 -> 240000 | R70: =Q70 -> 240000 | T70: =$T$10 -> UNIT | U70: =CONCATENATE(T70,N70) -> UNITKB/TK Progres Report
B71: 45961 | C71: 530303 | D71: 53 | E71: Bahan media pembelajaran habis pakai | G71: 415000 | H71: =H70+F71-G71 -> 3.0024512e+08 | J71: =D71 -> 53 | K71: =DAY(B71) -> 31 | L71: =PROPER(TRIM(MID(SUBSTITUTE($B$3," ",REPT(" ",99)),99*INT((LEN($B$3)-LEN(SUBSTITUTE($B$3," ","")))/2),99))) -> Oktober | M71: =IF(J71<1," ","JV-KB/TK-"&$L$11&"-"&J71) -> JV-KB/TK-Oktober-53 | N71: ="KB/TK "&E71 -> KB/TK Bahan media pembelajaran habis pakai | P71: =E71 -> Bahan media pembelajaran habis pakai | Q71: =F71+G71 -> 415000 | R71: =Q71 -> 415000 | T71: =$T$10 -> UNIT | U71: =CONCATENATE(T71,N71) -> UNITKB/TK Bahan media pembelajaran habis pakai
B72: 45961 | C72: 530419 | D72: 54 | E72: Tartili | G72: 32000 | H72: =H71+F72-G72 -> 3.0021312e+08 | J72: =D72 -> 54 | K72: =DAY(B72) -> 31 | L72: =PROPER(TRIM(MID(SUBSTITUTE($B$3," ",REPT(" ",99)),99*INT((LEN($B$3)-LEN(SUBSTITUTE($B$3," ","")))/2),99))) -> Oktober | M72: =IF(J72<1," ","JV-KB/TK-"&$L$11&"-"&J72) -> JV-KB/TK-Oktober-54 | N72: ="KB/TK "&E72 -> KB/TK Tartili | P72: =E72 -> Tartili | Q72: =F72+G72 -> 32000 | R72: =Q72 -> 32000 | T72: =$T$10 -> UNIT | U72: =CONCATENATE(T72,N72) -> UNITKB/TK Tartili
B73: 45961 | C73: 530601 | D73: 55 | E73: Perkantoran | G73: 96000 | H73: =H72+F73-G73 -> 3.0011712e+08 | J73: =D73 -> 55 | K73: =DAY(B73) -> 31 | L73: =PROPER(TRIM(MID(SUBSTITUTE($B$3," ",REPT(" ",99)),99*INT((LEN($B$3)-LEN(SUBSTITUTE($B$3," ","")))/2),99))) -> Oktober | M73: =IF(J73<1," ","JV-KB/TK-"&$L$11&"-"&J73) -> JV-KB/TK-Oktober-55 | N73: ="KB/TK "&E73 -> KB/TK Perkantoran | P73: =E73 -> Perkantoran | Q73: =F73+G73 -> 96000 | R73: =Q73 -> 96000 | T73: =$T$10 -> UNIT | U73: =CONCATENATE(T73,N73) -> UNITKB/TK Perkantoran
B74: 45961 | C74: 530602 | D74: 56 | E74: Work sheet | G74: 510750 | H74: =H73+F74-G74 -> 2.9960637e+08 | J74: =D74 -> 56 | K74: =DAY(B74) -> 31 | L74: =PROPER(TRIM(MID(SUBSTITUTE($B$3," ",REPT(" ",99)),99*INT((LEN($B$3)-LEN(SUBSTITUTE($B$3," ","")))/2),99))) -> Oktober | M74: =IF(J74<1," ","JV-KB/TK-"&$L$11&"-"&J74) -> JV-KB/TK-Oktober-56 | N74: ="KB/TK "&E74 -> KB/TK Work sheet | P74: =E74 -> Work sheet | Q74: =F74+G74 -> 510750 | R74: =Q74 -> 510750 | T74: =$T$10 -> UNIT | U74: =CONCATENATE(T74,N74) -> UNITKB/TK Work sheet
B75: 45961 | C75: 530707 | D75: 57 | E75: Kunjungan Tamu | G75: 1036400 | H75: =H74+F75-G75 -> 2.9856997e+08 | J75: =D75 -> 57 | K75: =DAY(B75) -> 31 | L75: =PROPER(TRIM(MID(SUBSTITUTE($B$3," ",REPT(" ",99)),99*INT((LEN($B$3)-LEN(SUBSTITUTE($B$3," ","")))/2),99))) -> Oktober | M75: =IF(J75<1," ","JV-KB/TK-"&$L$11&"-"&J75) -> JV-KB/TK-Oktober-57 | N75: ="KB/TK "&E75 -> KB/TK Kunjungan Tamu | P75: =E75 -> Kunjungan Tamu | Q75: =F75+G75 -> 1036400 | R75: =Q75 -> 1036400 | T75: =$T$10 -> UNIT | U75: =CONCATENATE(T75,N75) -> UNITKB/TK Kunjungan Tamu
B76: 45961 | E76: Pajak | G76: 12053.86 | H76: =H75+F76-G76 -> 2.9855791e+08 | J76: =D76 -> 0 | K76: =DAY(B76) -> 31 | L76: =PROPER(TRIM(MID(SUBSTITUTE($B$3," ",REPT(" ",99)),99*INT((LEN($B$3)-LEN(SUBSTITUTE($B$3," ","")))/2),99))) -> Oktober | M76: =IF(J76<1," ","JV-KB/TK-"&$L$11&"-"&J76) | N76: ="KB/TK "&E76 -> KB/TK Pajak | P76: =E76 -> Pajak | Q76: =F76+G76 -> 12053.86 | R76: =Q76 -> 12053.86 | T76: =$T$10 -> UNIT | U76: =CONCATENATE(T76,N76) -> UNITKB/TK Pajak
B77: 45961 | E77: Bagi Hasil atau Bonus | F77: 60269.29 | H77: =H76+F77-G77 -> 2.9861818e+08 | J77: =D77 -> 0 | K77: =DAY(B77) -> 31 | L77: =PROPER(TRIM(MID(SUBSTITUTE($B$3," ",REPT(" ",99)),99*INT((LEN($B$3)-LEN(SUBSTITUTE($B$3," ","")))/2),99))) -> Oktober | M77: =IF(J77<1," ","JV-KB/TK-"&$L$11&"-"&J77) | N77: ="KB/TK "&E77 -> KB/TK Bagi Hasil atau Bonus | P77: =E77 -> Bagi Hasil atau Bonus | Q77: =F77+G77 -> 60269.29 | R77: =Q77 -> 60269.29 | T77: =$T$10 -> UNIT | U77: =CONCATENATE(T77,N77) -> UNITKB/TK Bagi Hasil atau Bonus
B80: Pada hari ini Jum'at, 31 Oktober 2025 Buku Kas Umum ditutup dengan keadaan / posisi buku sebagai berikut : | M80: =SUM(G11:G75) -> 65336350
B81: Saldo kas Umum | F81: =H77 -> 2.9861818e+08 | M81: =G22+G27+G29+G36+G67+G69 -> 36540000 | N81: =G27+G67+G22+G29 -> 35020000
B82: Terdiri dari : | M82: =M80-M81 -> 28796350 | N82: =M80-N81 -> 30316350
B83: Saldo Bank | E83: 2.6595723e+08
B84: Saldo Kas Tunai | E84: 32660950
B85: Jumlah | E85: =SUM(E83:E84) -> 2.9861818e+08
B88: Mengetahui, | F88: Purwoketo, 31 Oktober 2025
B89: Kepala Sekolah | F89: Bendahara
B93: Khusnul Khotimah, S.Si., S.Pd. | F93: Sigit Purwanto, A.Md.Kom.

Sheet Nov25
B1: Tanggal | C1: No. Kode | D1: No. Bukti | E1: Uraian | F1: Penerimaan (Debit) | G1: Pengeluaran (Kredit) | H1: Saldo Kas | I1: 1 | J1: no | K1: tgl | L1: bulan | M1: jurnal voucher | N1: KB/TK+uraian | O1: COA | P1: URAIAN | Q1: JUMLAH (DEBIT+KREDIT) | R1: JUMLAH (DEBIT+KREDIT)2 | S1: KOSONGI | T1: UNIT | U1: CONCENATE | V1: KB/TK
B2: BUKU KAS UMUM
B3: BULAN NOVEMBER 2025
B5: Sekolah | D5: : KB & TK AL IRSYAD AL ISLAMIYYAH PURWOKERTO
B6: Desa / Kecamatan | D6: : SOKANEGARA / PURWOKERTO TIMUR
B7: Kabupaten | D7: : BANYUMAS
B8: Provinsi | D8: : JAWA TENGAH
L9: 2 | T9: KB/TK
B10: Tanggal | C10: No. Kode | D10: No. Bukti | E10: Uraian | F10: Penerimaan (Kredit) | G10: Pengeluaran (Debit) | H10: Saldo Kas | J10: no | K10: tgl | L10: bulan | M10: jurnal voucher | N10: KB/TK+uraian | O10: COA | P10: URAIAN | Q10: JUMLAH (DEBIT+KREDIT) | R10: JUMLAH (DEBIT+KREDIT)2 | S10: KOSONGI | T10: UNIT | U10: CONCENATE | V10: KB/TK
B11: 45962 | E11: Saldo bulan lalu | F11: 2.9861818e+08 | H11: =F11 -> 2.9861818e+08 | J11: =D11 -> 0 | K11: =DAY(B11) -> 1 | L11: =PROPER(TRIM(MID(SUBSTITUTE($B$3," ",REPT(" ",99)),99*INT((LEN($B$3)-LEN(SUBSTITUTE($B$3," ","")))/2),99))) -> November | M11: =IF(J11<1," ","JV-KB/TK-"&$L$11&"-"&J11) | N11: ="KB/TK "&E11 -> KB/TK Saldo bulan lalu | P11: =E11 -> Saldo bulan lalu | Q11: =F11+G11 -> 2.9861818e+08 | R11: =Q11 -> 2.9861818e+08 | T11: =$T$10 -> UNIT | U11: =CONCATENATE(T11,N11) -> UNITKB/TK Saldo bulan lalu
B12: 45962 | C12: 515108 | D12: 1 | E12: Perawatan Gedung | G12: 103000 | H12: =H11+F12-G12 -> 2.9851518e+08 | J12: =D12 -> 1 | K12: =DAY(B12) -> 1 | L12: =PROPER(TRIM(MID(SUBSTITUTE($B$3," ",REPT(" ",99)),99*INT((LEN($B$3)-LEN(SUBSTITUTE($B$3," ","")))/2),99))) -> November | M12: =IF(J12<1," ","JV-KB/TK-"&$L$11&"-"&J12) -> JV-KB/TK-November-1 | N12: ="KB/TK "&E12 -> KB/TK Perawatan Gedung | P12: =E12 -> Perawatan Gedung | Q12: =F12+G12 -> 103000 | R12: =Q12 -> 103000 | T12: =$T$10 -> UNIT | U12: =CONCATENATE(T12,N12) -> UNITKB/TK Perawatan Gedung
B13: 45962 | C13: 530411 | D13: 2 | E13: Mengenal Hijaiyah | G13: 11280000 | H13: =H12+F13-G13 -> 2.8723518e+08 | J13: =D13 -> 2 | K13: =DAY(B13) -> 1 | L13: =PROPER(TRIM(MID(SUBSTITUTE($B$3," ",REPT(" ",99)),99*INT((LEN($B$3)-LEN(SUBSTITUTE($B$3," ","")))/2),99))) -> November | M13: =IF(J13<1," ","JV-KB/TK-"&$L$11&"-"&J13) -> JV-KB/TK-November-2 | N13: ="KB/TK "&E13 -> KB/TK Mengenal Hijaiyah | P13: =E13 -> Mengenal Hijaiyah | Q13: =F13+G13 -> 11280000 | R13: =Q13 -> 11280000 | T13: =$T$10 -> UNIT | U13: =CONCATENATE(T13,N13) -> UNITKB/TK Mengenal Hijaiyah
B14: 45962 | E14: Biaya Pemindahbukuan e-Banking | G14: 2500 | H14: =H13+F14-G14 -> 2.8723268e+08 | J14: =D14 -> 0 | K14: =DAY(B14) -> 1 | L14: =PROPER(TRIM(MID(SUBSTITUTE($B$3," ",REPT(" ",99)),99*INT((LEN($B$3)-LEN(SUBSTITUTE($B$3," ","")))/2),99))) -> November | M14: =IF(J14<1," ","JV-KB/TK-"&$L$11&"-"&J14) | N14: ="KB/TK "&E14 -> KB/TK Biaya Pemindahbukuan e-Banking | P14: =E14 -> Biaya Pemindahbukuan e-Banking | Q14: =F14+G14 -> 2500 | R14: =Q14 -> 2500 | T14: =$T$10 -> UNIT | U14: =CONCATENATE(T14,N14) -> UNITKB/TK Biaya Pemindahbukuan e-Banking
B15: 45962 | C15: 530805 | D15: 3 | E15: Bantuan Pulsa KS | G15: 150000 | H15: =H14+F15-G15 -> 2.8708268e+08 | J15: =D15 -> 3 | K15: =DAY(B15) -> 1 | L15: =PROPER(TRIM(MID(SUBSTITUTE($B$3," ",REPT(" ",99)),99*INT((LEN($B$3)-LEN(SUBSTITUTE($B$3," ","")))/2),99))) -> November | M15: =IF(J15<1," ","JV-KB/TK-"&$L$11&"-"&J15) -> JV-KB/TK-November-3 | N15: ="KB/TK "&E15 -> KB/TK Bantuan Pulsa KS | P15: =E15 -> Bantuan Pulsa KS | Q15: =F15+G15 -> 150000 | R15: =Q15 -> 150000 | T15: =$T$10 -> UNIT | U15: =CONCATENATE(T15,N15) -> UNITKB/TK Bantuan Pulsa KS
B16: 45962 | C16: 530806 | D16: 4 | E16: Bantuan Pulsa WKS | G16: 375000 | H16: =H15+F16-G16 -> 2.8670768e+08 | J16: =D16 -> 4 | K16: =DAY(B16) -> 1 | L16: =PROPER(TRIM(MID(SUBSTITUTE($B$3," ",REPT(" ",99)),99*INT((LEN($B$3)-LEN(SUBSTITUTE($B$3," ","")))/2),99))) -> November | M16: =IF(J16<1," ","JV-KB/TK-"&$L$11&"-"&J16) -> JV-KB/TK-November-4 | N16: ="KB/TK "&E16 -> KB/TK Bantuan Pulsa WKS | P16: =E16 -> Bantuan Pulsa WKS | Q16: =F16+G16 -> 375000 | R16: =Q16 -> 375000 | T16: =$T$10 -> UNIT | U16: =CONCATENATE(T16,N16) -> UNITKB/TK Bantuan Pulsa WKS
B17: 45962 | C17: 530807 | D17: 5 | E17: Bantuan Pulsa Wali Kelas | G17: 975000 | H17: =H16+F17-G17 -> 2.8573268e+08 | J17: =D17 -> 5 | K17: =DAY(B17) -> 1 | L17: =PROPER(TRIM(MID(SUBSTITUTE($B$3," ",REPT(" ",99)),99*INT((LEN($B$3)-LEN(SUBSTITUTE($B$3," ","")))/2),99))) -> November | M17: =IF(J17<1," ","JV-KB/TK-"&$L$11&"-"&J17) -> JV-KB/TK-November-5 | N17: ="KB/TK "&E17 -> KB/TK Bantuan Pulsa Wali Kelas | P17: =E17 -> Bantuan Pulsa Wali Kelas | Q17: =F17+G17 -> 975000 | R17: =Q17 -> 975000 | T17: =$T$10 -> UNIT | U17: =CONCATENATE(T17,N17) -> UNITKB/TK Bantuan Pulsa Wali Kelas
B18: 45962 | C18: 530817 | D18: 6 | E18: Bantuan Pulsa Bendahara | G18: 50000 | H18: =H17+F18-G18 -> 2.8568268e+08 | J18: =D18 -> 6 | K18: =DAY(B18) -> 1 | L18: =PROPER(TRIM(MID(SUBSTITUTE($B$3," ",REPT(" ",99)),99*INT((LEN($B$3)-LEN(SUBSTITUTE($B$3," ","")))/2),99))) -> November | M18: =IF(J18<1," ","JV-KB/TK-"&$L$11&"-"&J18) -> JV-KB/TK-November-6 | N18: ="KB/TK "&E18 -> KB/TK Bantuan Pulsa Bendahara | P18: =E18 -> Bantuan Pulsa Bendahara | Q18: =F18+G18 -> 50000 | R18: =Q18 -> 50000 | T18: =$T$10 -> UNIT | U18: =CONCATENATE(T18,N18) -> UNITKB/TK Bantuan Pulsa Bendahara
B19: 45962 | C19: 531001 | D19: 7 | E19: Transport KS | G19: 200000 | H19: =H18+F19-G19 -> 2.8548268e+08 | J19: =D19 -> 7 | K19: =DAY(B19) -> 1 | L19: =PROPER(TRIM(MID(SUBSTITUTE($B$3," ",REPT(" ",99)),99*INT((LEN($B$3)-LEN(SUBSTITUTE($B$3," ","")))/2),99))) -> November | M19: =IF(J19<1," ","JV-KB/TK-"&$L$11&"-"&J19) -> JV-KB/TK-November-7 | N19: ="KB/TK "&E19 -> KB/TK Transport KS | P19: =E19 -> Transport KS | Q19: =F19+G19 -> 200000 | R19: =Q19 -> 200000 | T19: =$T$10 -> UNIT | U19: =CONCATENATE(T19,N19) -> UNITKB/TK Transport KS
B20: 45962 | C20: 531002 | D20: 8 | E20: Transport WKS | G20: 450000 | H20: =H19+F20-G20 -> 2.8503268e+08 | J20: =D20 -> 8 | K20: =DAY(B20) -> 1 | L20: =PROPER(TRIM(MID(SUBSTITUTE($B$3," ",REPT(" ",99)),99*INT((LEN($B$3)-LEN(SUBSTITUTE($B$3," ","")))/2),99))) -> November | M20: =IF(J20<1," ","JV-KB/TK-"&$L$11&"-"&J20) -> JV-KB/TK-November-8 | N20: ="KB/TK "&E20 -> KB/TK Transport WKS | P20: =E20 -> Transport WKS | Q20: =F20+G20 -> 450000 | R20: =Q20 -> 450000 | T20: =$T$10 -> UNIT | U20: =CONCATENATE(T20,N20) -> UNITKB/TK Transport WKS
B21: 45962 | C21: 531022 | D21: 9 | E21: Transport Bendahara | G21: 150000 | H21: =H20+F21-G21 -> 2.8488268e+08 | J21: =D21 -> 9 | K21: =DAY(B21) -> 1 | L21: =PROPER(TRIM(MID(SUBSTITUTE($B$3," ",REPT(" ",99)),99*INT((LEN($B$3)-LEN(SUBSTITUTE($B$3," ","")))/2),99))) -> November | M21: =IF(J21<1," ","JV-KB/TK-"&$L$11&"-"&J21) -> JV-KB/TK-November-9 | N21: ="KB/TK "&E21 -> KB/TK Transport Bendahara | P21: =E21 -> Transport Bendahara | Q21: =F21+G21 -> 150000 | R21: =Q21 -> 150000 | T21: =$T$10 -> UNIT | U21: =CONCATENATE(T21,N21) -> UNITKB/TK Transport Bendahara
B22: 45962 | C22: 553100 | D22: 10 | E22: Biaya Lain-Lain | G22: 368100 | H22: =H21+F22-G22 -> 2.8451458e+08 | J22: =D22 -> 10 | K22: =DAY(B22) -> 1 | L22: =PROPER(TRIM(MID(SUBSTITUTE($B$3," ",REPT(" ",99)),99*INT((LEN($B$3)-LEN(SUBSTITUTE($B$3," ","")))/2),99))) -> November | M22: =IF(J22<1," ","JV-KB/TK-"&$L$11&"-"&J22) -> JV-KB/TK-November-10 | N22: ="KB/TK "&E22 -> KB/TK Biaya Lain-Lain | P22: =E22 -> Biaya Lain-Lain | Q22: =F22+G22 -> 368100 | R22: =Q22 -> 368100 | T22: =$T$10 -> UNIT | U22: =CONCATENATE(T22,N22) -> UNITKB/TK Biaya Lain-Lain
B23: 45963 | E23: By. Adm.BSINet OCT 25 | G23: 10000 | H23: =H22+F23-G23 -> 2.8450458e+08 | J23: =D23 -> 0 | K23: =DAY(B23) -> 2 | L23: =PROPER(TRIM(MID(SUBSTITUTE($B$3," ",REPT(" ",99)),99*INT((LEN($B$3)-LEN(SUBSTITUTE($B$3," ","")))/2),99))) -> November | M23: =IF(J23<1," ","JV-KB/TK-"&$L$11&"-"&J23) | N23: ="KB/TK "&E23 -> KB/TK By. Adm.BSINet OCT 25 | P23: =E23 -> By. Adm.BSINet OCT 25 | Q23: =F23+G23 -> 10000 | R23: =Q23 -> 10000 | T23: =$T$10 -> UNIT | U23: =CONCATENATE(T23,N23) -> UNITKB/TK By. Adm.BSINet OCT 25
B24: 45964 | C24: 515110 | D24: 11 | E24: Perawatan Jaringan Air | G24: 371000 | H24: =H23+F24-G24 -> 2.8413358e+08 | J24: =D24 -> 11 | K24: =DAY(B24) -> 3 | L24: =PROPER(TRIM(MID(SUBSTITUTE($B$3," ",REPT(" ",99)),99*INT((LEN($B$3)-LEN(SUBSTITUTE($B$3," ","")))/2),99))) -> November | M24: =IF(J24<1," ","JV-KB/TK-"&$L$11&"-"&J24) -> JV-KB/TK-November-11 | N24: ="KB/TK "&E24 -> KB/TK Perawatan Jaringan Air | P24: =E24 -> Perawatan Jaringan Air | Q24: =F24+G24 -> 371000 | R24: =Q24 -> 371000 | T24: =$T$10 -> UNIT | U24: =CONCATENATE(T24,N24) -> UNITKB/TK Perawatan Jaringan Air
B25: 45964 | C25: 530701 | D25: 12 | E25: Air Mineral Galon | G25: 460000 | H25: =H24+F25-G25 -> 2.8367358e+08 | J25: =D25 -> 12 | K25: =DAY(B25) -> 3 | L25: =PROPER(TRIM(MID(SUBSTITUTE($B$3," ",REPT(" ",99)),99*INT((LEN($B$3)-LEN(SUBSTITUTE($B$3," ","")))/2),99))) -> November | M25: =IF(J25<1," ","JV-KB/TK-"&$L$11&"-"&J25) -> JV-KB/TK-November-12 | N25: ="KB/TK "&E25 -> KB/TK Air Mineral Galon | P25: =E25 -> Air Mineral Galon | Q25: =F25+G25 -> 460000 | R25: =Q25 -> 460000 | T25: =$T$10 -> UNIT | U25: =CONCATENATE(T25,N25) -> UNITKB/TK Air Mineral Galon
B26: 45966 | E26: Pengambilan Dropping | F26: 15000000 | H26: =H25+F26-G26 -> 2.9867358e+08 | J26: =D26 -> 0 | K26: =DAY(B26) -> 5 | L26: =PROPER(TRIM(MID(SUBSTITUTE($B$3," ",REPT(" ",99)),99*INT((LEN($B$3)-LEN(SUBSTITUTE($B$3," ","")))/2),99))) -> November | M26: =IF(J26<1," ","JV-KB/TK-"&$L$11&"-"&J26) | N26: ="KB/TK "&E26 -> KB/TK Pengambilan Dropping | P26: =E26 -> Pengambilan Dropping | Q26: =F26+G26 -> 15000000 | R26: =Q26 -> 15000000 | T26: =$T$10 -> UNIT | U26: =CONCATENATE(T26,N26) -> UNITKB/TK Pengambilan Dropping
B27: 45966 | E27: Diterima kas tunai di Bendahara | G27: 15000000 | H27: =H26+F27-G27 -> 2.8367358e+08 | J27: =D27 -> 0 | K27: =DAY(B27) -> 5 | L27: =PROPER(TRIM(MID(SUBSTITUTE($B$3," ",REPT(" ",99)),99*INT((LEN($B$3)-LEN(SUBSTITUTE($B$3," ","")))/2),99))) -> November | M27: =IF(J27<1," ","JV-KB/TK-"&$L$11&"-"&J27) | N27: ="KB/TK "&E27 -> KB/TK Diterima kas tunai di Bendahara | P27: =E27 -> Diterima kas tunai di Bendahara | Q27: =F27+G27 -> 15000000 | R27: =Q27 -> 15000000 | T27: =$T$10 -> UNIT | U27: =CONCATENATE(T27,N27) -> UNITKB/TK Diterima kas tunai di Bendahara
B28: 45966 | C28: 530801 | D28: 13 | E28: Internet | G28: 1065100 | H28: =H27+F28-G28 -> 2.8260848e+08 | J28: =D28 -> 13 | K28: =DAY(B28) -> 5 | L28: =PROPER(TRIM(MID(SUBSTITUTE($B$3," ",REPT(" ",99)),99*INT((LEN($B$3)-LEN(SUBSTITUTE($B$3," ","")))/2),99))) -> November | M28: =IF(J28<1," ","JV-KB/TK-"&$L$11&"-"&J28) -> JV-KB/TK-November-13 | N28: ="KB/TK "&E28 -> KB/TK Internet | P28: =E28 -> Internet | Q28: =F28+G28 -> 1065100 | R28: =Q28 -> 1065100 | T28: =$T$10 -> UNIT | U28: =CONCATENATE(T28,N28) -> UNITKB/TK Internet
B29: 45966 | C29: 530802 | D29: 14 | E29: Listrik | G29: 5193650 | H29: =H28+F29-G29 -> 2.7741483e+08 | J29: =D29 -> 14 | K29: =DAY(B29) -> 5 | L29: =PROPER(TRIM(MID(SUBSTITUTE($B$3," ",REPT(" ",99)),99*INT((LEN($B$3)-LEN(SUBSTITUTE($B$3," ","")))/2),99))) -> November | M29: =IF(J29<1," ","JV-KB/TK-"&$L$11&"-"&J29) -> JV-KB/TK-November-14 | N29: ="KB/TK "&E29 -> KB/TK Listrik | P29: =E29 -> Listrik | Q29: =F29+G29 -> 5193650 | R29: =Q29 -> 5193650 | T29: =$T$10 -> UNIT | U29: =CONCATENATE(T29,N29) -> UNITKB/TK Listrik
B30: 45966 | C30: 530803 | D30: 15 | E30: PDAM | G30: 559400 | H30: =H29+F30-G30 -> 2.7685543e+08 | J30: =D30 -> 15 | K30: =DAY(B30) -> 5 | L30: =PROPER(TRIM(MID(SUBSTITUTE($B$3," ",REPT(" ",99)),99*INT((LEN($B$3)-LEN(SUBSTITUTE($B$3," ","")))/2),99))) -> November | M30: =IF(J30<1," ","JV-KB/TK-"&$L$11&"-"&J30) -> JV-KB/TK-November-15 | N30: ="KB/TK "&E30 -> KB/TK PDAM | P30: =E30 -> PDAM | Q30: =F30+G30 -> 559400 | R30: =Q30 -> 559400 | T30: =$T$10 -> UNIT | U30: =CONCATENATE(T30,N30) -> UNITKB/TK PDAM
B31: 45966 | C31: 530918 | D31: 16 | E31: Penarikan Sampah | G31: 350000 | H31: =H30+F31-G31 -> 2.7650543e+08 | J31: =D31 -> 16 | K31: =DAY(B31) -> 5 | L31: =PROPER(TRIM(MID(SUBSTITUTE($B$3," ",REPT(" ",99)),99*INT((LEN($B$3)-LEN(SUBSTITUTE($B$3," ","")))/2),99))) -> November | M31: =IF(J31<1," ","JV-KB/TK-"&$L$11&"-"&J31) -> JV-KB/TK-November-16 | N31: ="KB/TK "&E31 -> KB/TK Penarikan Sampah | P31: =E31 -> Penarikan Sampah | Q31: =F31+G31 -> 350000 | R31: =Q31 -> 350000 | T31: =$T$10 -> UNIT | U31: =CONCATENATE(T31,N31) -> UNITKB/TK Penarikan Sampah
B32: 45967 | E32: Biaya Administrasi | G32: 10000 | H32: =H31+F32-G32 -> 2.7649543e+08 | J32: =D32 -> 0 | K32: =DAY(B32) -> 6 | L32: =PROPER(TRIM(MID(SUBSTITUTE($B$3," ",REPT(" ",99)),99*INT((LEN($B$3)-LEN(SUBSTITUTE($B$3," ","")))/2),99))) -> November | M32: =IF(J32<1," ","JV-KB/TK-"&$L$11&"-"&J32) | N32: ="KB/TK "&E32 -> KB/TK Biaya Administrasi | P32: =E32 -> Biaya Administrasi | Q32: =F32+G32 -> 10000 | R32: =Q32 -> 10000 | T32: =$T$10 -> UNIT | U32: =CONCATENATE(T32,N32) -> UNITKB/TK Biaya Administrasi
B33: 45967 | C33: 511303 | D33: 17 | E33: Perlengkapan Alat Ekstrakurikuler | G33: 44200 | H33: =H32+F33-G33 -> 2.7645123e+08 | J33: =D33 -> 17 | K33: =DAY(B33) -> 6 | L33: =PROPER(TRIM(MID(SUBSTITUTE($B$3," ",REPT(" ",99)),99*INT((LEN($B$3)-LEN(SUBSTITUTE($B$3," ","")))/2),99))) -> November | M33: =IF(J33<1," ","JV-KB/TK-"&$L$11&"-"&J33) -> JV-KB/TK-November-17 | N33: ="KB/TK "&E33 -> KB/TK Perlengkapan Alat Ekstrakurikuler | P33: =E33 -> Perlengkapan Alat Ekstrakurikuler | Q33: =F33+G33 -> 44200 | R33: =Q33 -> 44200 | T33: =$T$10 -> UNIT | U33: =CONCATENATE(T33,N33) -> UNITKB/TK Perlengkapan Alat Ekstrakurikuler
B34: 45968 | C34: 515107 | D34: 18 | E34: Perawatan Elektronik Lain | G34: 1373000 | H34: =H33+F34-G34 -> 2.7507823e+08 | J34: =D34 -> 18 | K34: =DAY(B34) -> 7 | L34: =PROPER(TRIM(MID(SUBSTITUTE($B$3," ",REPT(" ",99)),99*INT((LEN($B$3)-LEN(SUBSTITUTE($B$3," ","")))/2),99))) -> November | M34: =IF(J34<1," ","JV-KB/TK-"&$L$11&"-"&J34) -> JV-KB/TK-November-18 | N34: ="KB/TK "&E34 -> KB/TK Perawatan Elektronik Lain | P34: =E34 -> Perawatan Elektronik Lain | Q34: =F34+G34 -> 1373000 | R34: =Q34 -> 1373000 | T34: =$T$10 -> UNIT | U34: =CONCATENATE(T34,N34) -> UNITKB/TK Perawatan Elektronik Lain
B35: 45968 | C35: 516050 | D35: 19 | E35: Desain Sekolah | G35: 254200 | H35: =H34+F35-G35 -> 2.7482403e+08 | J35: =D35 -> 19 | K35: =DAY(B35) -> 7 | L35: =PROPER(TRIM(MID(SUBSTITUTE($B$3," ",REPT(" ",99)),99*INT((LEN($B$3)-LEN(SUBSTITUTE($B$3," ","")))/2),99))) -> November | M35: =IF(J35<1," ","JV-KB/TK-"&$L$11&"-"&J35) -> JV-KB/TK-November-19 | N35: ="KB/TK "&E35 -> KB/TK Desain Sekolah | P35: =E35 -> Desain Sekolah | Q35: =F35+G35 -> 254200 | R35: =Q35 -> 254200 | T35: =$T$10 -> UNIT | U35: =CONCATENATE(T35,N35) -> UNITKB/TK Desain Sekolah
B36: 45969 | C36: 511404 | D36: 20 | E36: Pelaksanaan Lomba tk kabupaten | G36: 261400 | H36: =H35+F36-G36 -> 2.7456263e+08 | J36: =D36 -> 20 | K36: =DAY(B36) -> 8 | L36: =PROPER(TRIM(MID(SUBSTITUTE($B$3," ",REPT(" ",99)),99*INT((LEN($B$3)-LEN(SUBSTITUTE($B$3," ","")))/2),99))) -> November | M36: =IF(J36<1," ","JV-KB/TK-"&$L$11&"-"&J36) -> JV-KB/TK-November-20 | N36: ="KB/TK "&E36 -> KB/TK Pelaksanaan Lomba tk kabupaten | P36: =E36 -> Pelaksanaan Lomba tk kabupaten | Q36: =F36+G36 -> 261400 | R36: =Q36 -> 261400 | T36: =$T$10 -> UNIT | U36: =CONCATENATE(T36,N36) -> UNITKB/TK Pelaksanaan Lomba tk kabupaten
B37: 45971 | C37: 530303 | D37: 21 | E37: Bahan media pembelajaran habis pakai | G37: 141200 | H37: =H36+F37-G37 -> 2.7442143e+08 | J37: =D37 -> 21 | K37: =DAY(B37) -> 10 | L37: =PROPER(TRIM(MID(SUBSTITUTE($B$3," ",REPT(" ",99)),99*INT((LEN($B$3)-LEN(SUBSTITUTE($B$3," ","")))/2),99))) -> November | M37: =IF(J37<1," ","JV-KB/TK-"&$L$11&"-"&J37) -> JV-KB/TK-November-21 | N37: ="KB/TK "&E37 -> KB/TK Bahan media pembelajaran habis pakai | P37: =E37 -> Bahan media pembelajaran habis pakai | Q37: =F37+G37 -> 141200 | R37: =Q37 -> 141200 | T37: =$T$10 -> UNIT | U37: =CONCATENATE(T37,N37) -> UNITKB/TK Bahan media pembelajaran habis pakai
B38: 45972 | C38: 530914 | D38: 22 | E38: KKG/MGMP | G38: 288000 | H38: =H37+F38-G38 -> 2.7413343e+08 | J38: =D38 -> 22 | K38: =DAY(B38) -> 11 | L38: =PROPER(TRIM(MID(SUBSTITUTE($B$3," ",REPT(" ",99)),99*INT((LEN($B$3)-LEN(SUBSTITUTE($B$3," ","")))/2),99))) -> November | M38: =IF(J38<1," ","JV-KB/TK-"&$L$11&"-"&J38) -> JV-KB/TK-November-22 | N38: ="KB/TK "&E38 -> KB/TK KKG/MGMP | P38: =E38 -> KKG/MGMP | Q38: =F38+G38 -> 288000 | R38: =Q38 -> 288000 | T38: =$T$10 -> UNIT | U38: =CONCATENATE(T38,N38) -> UNITKB/TK KKG/MGMP
B39: 45973 | C39: 530701 | D39: 23 | E39: Air Mineral Galon | G39: 65100 | H39: =H38+F39-G39 -> 2.7406833e+08 | J39: =D39 -> 23 | K39: =DAY(B39) -> 12 | L39: =PROPER(TRIM(MID(SUBSTITUTE($B$3," ",REPT(" ",99)),99*INT((LEN($B$3)-LEN(SUBSTITUTE($B$3," ","")))/2),99))) -> November | M39: =IF(J39<1," ","JV-KB/TK-"&$L$11&"-"&J39) -> JV-KB/TK-November-23 | N39: ="KB/TK "&E39 -> KB/TK Air Mineral Galon | P39: =E39 -> Air Mineral Galon | Q39: =F39+G39 -> 65100 | R39: =Q39 -> 65100 | T39: =$T$10 -> UNIT | U39: =CONCATENATE(T39,N39) -> UNITKB/TK Air Mineral Galon
B40: 45975 | C40: 515107 | D40: 24 | E40: Perawatan Elektronik Lain | G40: 256000 | H40: =H39+F40-G40 -> 2.7381233e+08 | J40: =D40 -> 24 | K40: =DAY(B40) -> 14 | L40: =PROPER(TRIM(MID(SUBSTITUTE($B$3," ",REPT(" ",99)),99*INT((LEN($B$3)-LEN(SUBSTITUTE($B$3," ","")))/2),99))) -> November | M40: =IF(J40<1," ","JV-KB/TK-"&$L$11&"-"&J40) -> JV-KB/TK-November-24 | N40: ="KB/TK "&E40 -> KB/TK Perawatan Elektronik Lain | P40: =E40 -> Perawatan Elektronik Lain | Q40: =F40+G40 -> 256000 | R40: =Q40 -> 256000 | T40: =$T$10 -> UNIT | U40: =CONCATENATE(T40,N40) -> UNITKB/TK Perawatan Elektronik Lain
B41: 45975 | C41: 530212 | D41: 25 | E41: Obat pembersih & pengharum | G41: 642500 | H41: =H40+F41-G41 -> 2.7316983e+08 | J41: =D41 -> 25 | K41: =DAY(B41) -> 14 | L41: =PROPER(TRIM(MID(SUBSTITUTE($B$3," ",REPT(" ",99)),99*INT((LEN($B$3)-LEN(SUBSTITUTE($B$3," ","")))/2),99))) -> November | M41: =IF(J41<1," ","JV-KB/TK-"&$L$11&"-"&J41) -> JV-KB/TK-November-25 | N41: ="KB/TK "&E41 -> KB/TK Obat pembersih & pengharum | P41: =E41 -> Obat pembersih & pengharum | Q41: =F41+G41 -> 642500 | R41: =Q41 -> 642500 | T41: =$T$10 -> UNIT | U41: =CONCATENATE(T41,N41) -> UNITKB/TK Obat pembersih & pengharum
B42: 45976 | C42: 530201 | D42: 26 | E42: Alat Dapur | G42: 79000 | H42: =H41+F42-G42 -> 2.7309083e+08 | J42: =D42 -> 26 | K42: =DAY(B42) -> 15 | L42: =PROPER(TRIM(MID(SUBSTITUTE($B$3," ",REPT(" ",99)),99*INT((LEN($B$3)-LEN(SUBSTITUTE($B$3," ","")))/2),99))) -> November | M42: =IF(J42<1," ","JV-KB/TK-"&$L$11&"-"&J42) -> JV-KB/TK-November-26 | N42: ="KB/TK "&E42 -> KB/TK Alat Dapur | P42: =E42 -> Alat Dapur | Q42: =F42+G42 -> 79000 | R42: =Q42 -> 79000 | T42: =$T$10 -> UNIT | U42: =CONCATENATE(T42,N42) -> UNITKB/TK Alat Dapur
B43: 45976 | C43: 530709 | D43: 27 | E43: Minuman Guru dan Karyawan | G43: 281200 | H43: =H42+F43-G43 -> 2.7280963e+08 | J43: =D43 -> 27 | K43: =DAY(B43) -> 15 | L43: =PROPER(TRIM(MID(SUBSTITUTE($B$3," ",REPT(" ",99)),99*INT((LEN($B$3)-LEN(SUBSTITUTE($B$3," ","")))/2),99))) -> November | M43: =IF(J43<1," ","JV-KB/TK-"&$L$11&"-"&J43) -> JV-KB/TK-November-27 | N43: ="KB/TK "&E43 -> KB/TK Minuman Guru dan Karyawan | P43: =E43 -> Minuman Guru dan Karyawan | Q43: =F43+G43 -> 281200 | R43: =Q43 -> 281200 | T43: =$T$10 -> UNIT | U43: =CONCATENATE(T43,N43) -> UNITKB/TK Minuman Guru dan Karyawan
B44: 45977 | C44: 514080 | D44: 28 | E44: Pelatihan Guru | G44: 891000 | H44: =H43+F44-G44 -> 2.7191863e+08 | J44: =D44 -> 28 | K44: =DAY(B44) -> 16 | L44: =PROPER(TRIM(MID(SUBSTITUTE($B$3," ",REPT(" ",99)),99*INT((LEN($B$3)-LEN(SUBSTITUTE($B$3," ","")))/2),99))) -> November | M44: =IF(J44<1," ","JV-KB/TK-"&$L$11&"-"&J44) -> JV-KB/TK-November-28 | N44: ="KB/TK "&E44 -> KB/TK Pelatihan Guru | P44: =E44 -> Pelatihan Guru | Q44: =F44+G44 -> 891000 | R44: =Q44 -> 891000 | T44: =$T$10 -> UNIT | U44: =CONCATENATE(T44,N44) -> UNITKB/TK Pelatihan Guru
B45: 45978 | C45: 515308 | D45: 29 | E45: Perlengkapan Desain UKS | G45: 99600 | H45: =H44+F45-G45 -> 2.7181903e+08 | J45: =D45 -> 29 | K45: =DAY(B45) -> 17 | L45: =PROPER(TRIM(MID(SUBSTITUTE($B$3," ",REPT(" ",99)),99*INT((LEN($B$3)-LEN(SUBSTITUTE($B$3," ","")))/2),99))) -> November | M45: =IF(J45<1," ","JV-KB/TK-"&$L$11&"-"&J45) -> JV-KB/TK-November-29 | N45: ="KB/TK "&E45 -> KB/TK Perlengkapan Desain UKS | P45: =E45 -> Perlengkapan Desain UKS | Q45: =F45+G45 -> 99600 | R45: =Q45 -> 99600 | T45: =$T$10 -> UNIT | U45: =CONCATENATE(T45,N45) -> UNITKB/TK Perlengkapan Desain UKS
B46: 45979 | E46: Dropping November 2025 | F46: 44262000 | H46: =H45+F46-G46 -> 3.1608103e+08 | J46: =D46 -> 0 | K46: =DAY(B46) -> 18 | L46: =PROPER(TRIM(MID(SUBSTITUTE($B$3," ",REPT(" ",99)),99*INT((LEN($B$3)-LEN(SUBSTITUTE($B$3," ","")))/2),99))) -> November | M46: =IF(J46<1," ","JV-KB/TK-"&$L$11&"-"&J46) | N46: ="KB/TK "&E46 -> KB/TK Dropping November 2025 | P46: =E46 -> Dropping November 2025 | Q46: =F46+G46 -> 44262000 | R46: =Q46 -> 44262000 | T46: =$T$10 -> UNIT | U46: =CONCATENATE(T46,N46) -> UNITKB/TK Dropping November 2025
B47: 45979 | E47: Pengambilan Dropping | F47: 14500000 | H47: =H46+F47-G47 -> 3.3058103e+08 | J47: =D47 -> 0 | K47: =DAY(B47) -> 18 | L47: =PROPER(TRIM(MID(SUBSTITUTE($B$3," ",REPT(" ",99)),99*INT((LEN($B$3)-LEN(SUBSTITUTE($B$3," ","")))/2),99))) -> November | M47: =IF(J47<1," ","JV-KB/TK-"&$L$11&"-"&J47) | N47: ="KB/TK "&E47 -> KB/TK Pengambilan Dropping | P47: =E47 -> Pengambilan Dropping | Q47: =F47+G47 -> 14500000 | R47: =Q47 -> 14500000 | T47: =$T$10 -> UNIT | U47: =CONCATENATE(T47,N47) -> UNITKB/TK Pengambilan Dropping
B48: 45980 | E48: Diterima kas tunai di Bendahara | G48: 14500000 | H48: =H47+F48-G48 -> 3.1608103e+08 | J48: =D48 -> 0 | K48: =DAY(B48) -> 19 | L48: =PROPER(TRIM(MID(SUBSTITUTE($B$3," ",REPT(" ",99)),99*INT((LEN($B$3)-LEN(SUBSTITUTE($B$3," ","")))/2),99))) -> November | M48: =IF(J48<1," ","JV-KB/TK-"&$L$11&"-"&J48) | N48: ="KB/TK "&E48 -> KB/TK Diterima kas tunai di Bendahara | P48: =E48 -> Diterima kas tunai di Bendahara | Q48: =F48+G48 -> 14500000 | R48: =Q48 -> 14500000 | T48: =$T$10 -> UNIT | U48: =CONCATENATE(T48,N48) -> UNITKB/TK Diterima kas tunai di Bendahara
B49: 45979 | C49: 518301 | D49: 30 | E49: Duplikat Piala | G49: 300000 | H49: =H48+F49-G49 -> 3.1578103e+08 | J49: =D49 -> 30 | K49: =DAY(B49) -> 18 | L49: =PROPER(TRIM(MID(SUBSTITUTE($B$3," ",REPT(" ",99)),99*INT((LEN($B$3)-LEN(SUBSTITUTE($B$3," ","")))/2),99))) -> November | M49: =IF(J49<1," ","JV-KB/TK-"&$L$11&"-"&J49) -> JV-KB/TK-November-30 | N49: ="KB/TK "&E49 -> KB/TK Duplikat Piala | P49: =E49 -> Duplikat Piala | Q49: =F49+G49 -> 300000 | R49: =Q49 -> 300000 | T49: =$T$10 -> UNIT | U49: =CONCATENATE(T49,N49) -> UNITKB/TK Duplikat Piala
B50: 45980 | C50: 511402 | D50: 31 | E50: Persiapan Lomba / pembinaan | G50: 404900 | H50: =H49+F50-G50 -> 3.1537613e+08 | J50: =D50 -> 31 | K50: =DAY(B50) -> 19 | L50: =PROPER(TRIM(MID(SUBSTITUTE($B$3," ",REPT(" ",99)),99*INT((LEN($B$3)-LEN(SUBSTITUTE($B$3," ","")))/2),99))) -> November | M50: =IF(J50<1," ","JV-KB/TK-"&$L$11&"-"&J50) -> JV-KB/TK-November-31 | N50: ="KB/TK "&E50 -> KB/TK Persiapan Lomba / pembinaan | P50: =E50 -> Persiapan Lomba / pembinaan | Q50: =F50+G50 -> 404900 | R50: =Q50 -> 404900 | T50: =$T$10 -> UNIT | U50: =CONCATENATE(T50,N50) -> UNITKB/TK Persiapan Lomba / pembinaan
B51: 45980 | C51: 553100 | D51: 32 | E51: Biaya Lain-Lain | G51: 664000 | H51: =H50+F51-G51 -> 3.1471213e+08 | J51: =D51 -> 32 | K51: =DAY(B51) -> 19 | L51: =PROPER(TRIM(MID(SUBSTITUTE($B$3," ",REPT(" ",99)),99*INT((LEN($B$3)-LEN(SUBSTITUTE($B$3," ","")))/2),99))) -> November | M51: =IF(J51<1," ","JV-KB/TK-"&$L$11&"-"&J51) -> JV-KB/TK-November-32 | N51: ="KB/TK "&E51 -> KB/TK Biaya Lain-Lain | P51: =E51 -> Biaya Lain-Lain | Q51: =F51+G51 -> 664000 | R51: =Q51 -> 664000 | T51: =$T$10 -> UNIT | U51: =CONCATENATE(T51,N51) -> UNITKB/TK Biaya Lain-Lain
B52: 45981 | C52: 511107 | D52: 33 | E52: Happy Day (Batike inyong / Cita-citaku / Aksiku) | G52: 274500 | H52: =H51+F52-G52 -> 3.1443763e+08 | J52: =D52 -> 33 | K52: =DAY(B52) -> 20 | L52: =PROPER(TRIM(MID(SUBSTITUTE($B$3," ",REPT(" ",99)),99*INT((LEN($B$3)-LEN(SUBSTITUTE($B$3," ","")))/2),99))) -> November | M52: =IF(J52<1," ","JV-KB/TK-"&$L$11&"-"&J52) -> JV-KB/TK-November-33 | N52: ="KB/TK "&E52 -> KB/TK Happy Day (Batike inyong / Cita-citaku / Aksiku) | P52: =E52 -> Happy Day (Batike inyong / Cita-citaku / Aksiku) | Q52: =F52+G52 -> 274500 | R52: =Q52 -> 274500 | T52: =$T$10 -> UNIT | U52: =CONCATENATE(T52,N52) -> UNITKB/TK Happy Day (Batike inyong / Cita-citaku / Aksiku)
B53: 45981 | C53: 530202 | D53: 34 | E53: Alat kebersihan | G53: 349300 | H53: =H52+F53-G53 -> 3.1408833e+08 | J53: =D53 -> 34 | K53: =DAY(B53) -> 20 | L53: =PROPER(TRIM(MID(SUBSTITUTE($B$3," ",REPT(" ",99)),99*INT((LEN($B$3)-LEN(SUBSTITUTE($B$3," ","")))/2),99))) -> November | M53: =IF(J53<1," ","JV-KB/TK-"&$L$11&"-"&J53) -> JV-KB/TK-November-34 | N53: ="KB/TK "&E53 -> KB/TK Alat kebersihan | P53: =E53 -> Alat kebersihan | Q53: =F53+G53 -> 349300 | R53: =Q53 -> 349300 | T53: =$T$10 -> UNIT | U53: =CONCATENATE(T53,N53) -> UNITKB/TK Alat kebersihan
B54: 45982 | C54: 515307 | D54: 35 | E54: Pengobatan cepat ( Pertolongan pertama ) | G54: 70000 | H54: =H53+F54-G54 -> 3.1401833e+08 | J54: =D54 -> 35 | K54: =DAY(B54) -> 21 | L54: =PROPER(TRIM(MID(SUBSTITUTE($B$3," ",REPT(" ",99)),99*INT((LEN($B$3)-LEN(SUBSTITUTE($B$3," ","")))/2),99))) -> November | M54: =IF(J54<1," ","JV-KB/TK-"&$L$11&"-"&J54) -> JV-KB/TK-November-35 | N54: ="KB/TK "&E54 -> KB/TK Pengobatan cepat ( Pertolongan pertama ) | P54: =E54 -> Pengobatan cepat ( Pertolongan pertama ) | Q54: =F54+G54 -> 70000 | R54: =Q54 -> 70000 | T54: =$T$10 -> UNIT | U54: =CONCATENATE(T54,N54) -> UNITKB/TK Pengobatan cepat ( Pertolongan pertama )
B55: 45982 | C55: 530218 | D55: 36 | E55: Refill Gas | G55: 215000 | H55: =H54+F55-G55 -> 3.1380333e+08 | J55: =D55 -> 36 | K55: =DAY(B55) -> 21 | L55: =PROPER(TRIM(MID(SUBSTITUTE($B$3," ",REPT(" ",99)),99*INT((LEN($B$3)-LEN(SUBSTITUTE($B$3," ","")))/2),99))) -> November | M55: =IF(J55<1," ","JV-KB/TK-"&$L$11&"-"&J55) -> JV-KB/TK-November-36 | N55: ="KB/TK "&E55 -> KB/TK Refill Gas | P55: =E55 -> Refill Gas | Q55: =F55+G55 -> 215000 | R55: =Q55 -> 215000 | T55: =$T$10 -> UNIT | U55: =CONCATENATE(T55,N55) -> UNITKB/TK Refill Gas
B56: 45982 | C56: 531008 | D56: 37 | E56: Home Visit SDM | G56: 400000 | H56: =H55+F56-G56 -> 3.1340333e+08 | J56: =D56 -> 37 | K56: =DAY(B56) -> 21 | L56: =PROPER(TRIM(MID(SUBSTITUTE($B$3," ",REPT(" ",99)),99*INT((LEN($B$3)-LEN(SUBSTITUTE($B$3," ","")))/2),99))) -> November | M56: =IF(J56<1," ","JV-KB/TK-"&$L$11&"-"&J56) -> JV-KB/TK-November-37 | N56: ="KB/TK "&E56 -> KB/TK Home Visit SDM | P56: =E56 -> Home Visit SDM | Q56: =F56+G56 -> 400000 | R56: =Q56 -> 400000 | T56: =$T$10 -> UNIT | U56: =CONCATENATE(T56,N56) -> UNITKB/TK Home Visit SDM
B57: 45982 | C57: 531010 | D57: 38 | E57: Operasional Mobil Sekolah | G57: 359000 | H57: =H56+F57-G57 -> 3.1304433e+08 | J57: =D57 -> 38 | K57: =DAY(B57) -> 21 | L57: =PROPER(TRIM(MID(SUBSTITUTE($B$3," ",REPT(" ",99)),99*INT((LEN($B$3)-LEN(SUBSTITUTE($B$3," ","")))/2),99))) -> November | M57: =IF(J57<1," ","JV-KB/TK-"&$L$11&"-"&J57) -> JV-KB/TK-November-38 | N57: ="KB/TK "&E57 -> KB/TK Operasional Mobil Sekolah | P57: =E57 -> Operasional Mobil Sekolah | Q57: =F57+G57 -> 359000 | R57: =Q57 -> 359000 | T57: =$T$10 -> UNIT | U57: =CONCATENATE(T57,N57) -> UNITKB/TK Operasional Mobil Sekolah
B58: 45985 | E58: Pengambilan Dropping | F58: 20000000 | H58: =H57+F58-G58 -> 3.3304433e+08 | J58: =D58 -> 0 | K58: =DAY(B58) -> 24 | L58: =PROPER(TRIM(MID(SUBSTITUTE($B$3," ",REPT(" ",99)),99*INT((LEN($B$3)-LEN(SUBSTITUTE($B$3," ","")))/2),99))) -> November | M58: =IF(J58<1," ","JV-KB/TK-"&$L$11&"-"&J58) | N58: ="KB/TK "&E58 -> KB/TK Pengambilan Dropping | P58: =E58 -> Pengambilan Dropping | Q58: =F58+G58 -> 20000000 | R58: =Q58 -> 20000000 | T58: =$T$10 -> UNIT | U58: =CONCATENATE(T58,N58) -> UNITKB/TK Pengambilan Dropping
B59: 45985 | E59: Diterima kas tunai di Bendahara | G59: 20000000 | H59: =H58+F59-G59 -> 3.1304433e+08 | J59: =D59 -> 0 | K59: =DAY(B59) -> 24 | L59: =PROPER(TRIM(MID(SUBSTITUTE($B$3," ",REPT(" ",99)),99*INT((LEN($B$3)-LEN(SUBSTITUTE($B$3," ","")))/2),99))) -> November | M59: =IF(J59<1," ","JV-KB/TK-"&$L$11&"-"&J59) | N59: ="KB/TK "&E59 -> KB/TK Diterima kas tunai di Bendahara | P59: =E59 -> Diterima kas tunai di Bendahara | Q59: =F59+G59 -> 20000000 | R59: =Q59 -> 20000000 | T59: =$T$10 -> UNIT | U59: =CONCATENATE(T59,N59) -> UNITKB/TK Diterima kas tunai di Bendahara
B60: 45986 | C60: 515104 | D60: 39 | E60: Perawatan Alat Permainan | G60: 60000 | H60: =H59+F60-G60 -> 3.1298433e+08 | J60: =D60 -> 39 | K60: =DAY(B60) -> 25 | L60: =PROPER(TRIM(MID(SUBSTITUTE($B$3," ",REPT(" ",99)),99*INT((LEN($B$3)-LEN(SUBSTITUTE($B$3," ","")))/2),99))) -> November | M60: =IF(J60<1," ","JV-KB/TK-"&$L$11&"-"&J60) -> JV-KB/TK-November-39 | N60: ="KB/TK "&E60 -> KB/TK Perawatan Alat Permainan | P60: =E60 -> Perawatan Alat Permainan | Q60: =F60+G60 -> 60000 | R60: =Q60 -> 60000 | T60: =$T$10 -> UNIT | U60: =CONCATENATE(T60,N60) -> UNITKB/TK Perawatan Alat Permainan
B61: 45986 | C61: 516010 | D61: 40 | E61: Akreditasi Sekolah | G61: 12375000 | H61: =H60+F61-G61 -> 3.0060933e+08 | J61: =D61 -> 40 | K61: =DAY(B61) -> 25 | L61: =PROPER(TRIM(MID(SUBSTITUTE($B$3," ",REPT(" ",99)),99*INT((LEN($B$3)-LEN(SUBSTITUTE($B$3," ","")))/2),99))) -> November | M61: =IF(J61<1," ","JV-KB/TK-"&$L$11&"-"&J61) -> JV-KB/TK-November-40 | N61: ="KB/TK "&E61 -> KB/TK Akreditasi Sekolah | P61: =E61 -> Akreditasi Sekolah | Q61: =F61+G61 -> 12375000 | R61: =Q61 -> 12375000 | T61: =$T$10 -> UNIT | U61: =CONCATENATE(T61,N61) -> UNITKB/TK Akreditasi Sekolah
B62: 45987 | C62: 530906 | D62: 41 | E62: GOPTKI | G62: 20000 | H62: =H61+F62-G62 -> 3.0058933e+08 | J62: =D62 -> 41 | K62: =DAY(B62) -> 26 | L62: =PROPER(TRIM(MID(SUBSTITUTE($B$3," ",REPT(" ",99)),99*INT((LEN($B$3)-LEN(SUBSTITUTE($B$3," ","")))/2),99))) -> November | M62: =IF(J62<1," ","JV-KB/TK-"&$L$11&"-"&J62) -> JV-KB/TK-November-41 | N62: ="KB/TK "&E62 -> KB/TK GOPTKI | P62: =E62 -> GOPTKI | Q62: =F62+G62 -> 20000 | R62: =Q62 -> 20000 | T62: =$T$10 -> UNIT | U62: =CONCATENATE(T62,N62) -> UNITKB/TK GOPTKI
B63: 45988 | C63: 515102 | D63: 42 | E63: Perawatan AC | G63: 2550000 | H63: =H62+F63-G63 -> 2.9803933e+08 | J63: =D63 -> 42 | K63: =DAY(B63) -> 27 | L63: =PROPER(TRIM(MID(SUBSTITUTE($B$3," ",REPT(" ",99)),99*INT((LEN($B$3)-LEN(SUBSTITUTE($B$3," ","")))/2),99))) -> November | M63: =IF(J63<1," ","JV-KB/TK-"&$L$11&"-"&J63) -> JV-KB/TK-November-42 | N63: ="KB/TK "&E63 -> KB/TK Perawatan AC | P63: =E63 -> Perawatan AC | Q63: =F63+G63 -> 2550000 | R63: =Q63 -> 2550000 | T63: =$T$10 -> UNIT | U63: =CONCATENATE(T63,N63) -> UNITKB/TK Perawatan AC
B64: 45988 | C64: 530702 | D64: 43 | E64: Kegiatan Insidental | G64: 358500 | H64: =H63+F64-G64 -> 2.9768083e+08 | J64: =D64 -> 43 | K64: =DAY(B64) -> 27 | L64: =PROPER(TRIM(MID(SUBSTITUTE($B$3," ",REPT(" ",99)),99*INT((LEN($B$3)-LEN(SUBSTITUTE($B$3," ","")))/2),99))) -> November | M64: =IF(J64<1," ","JV-KB/TK-"&$L$11&"-"&J64) -> JV-KB/TK-November-43 | N64: ="KB/TK "&E64 -> KB/TK Kegiatan Insidental | P64: =E64 -> Kegiatan Insidental | Q64: =F64+G64 -> 358500 | R64: =Q64 -> 358500 | T64: =$T$10 -> UNIT | U64: =CONCATENATE(T64,N64) -> UNITKB/TK Kegiatan Insidental
B65: 45988 | C65: 530921 | D65: 44 | E65: POPDA & Seni | G65: 533100 | H65: =H64+F65-G65 -> 2.9714773e+08 | J65: =D65 -> 44 | K65: =DAY(B65) -> 27 | L65: =PROPER(TRIM(MID(SUBSTITUTE($B$3," ",REPT(" ",99)),99*INT((LEN($B$3)-LEN(SUBSTITUTE($B$3," ","")))/2),99))) -> November | M65: =IF(J65<1," ","JV-KB/TK-"&$L$11&"-"&J65) -> JV-KB/TK-November-44 | N65: ="KB/TK "&E65 -> KB/TK POPDA & Seni | P65: =E65 -> POPDA & Seni | Q65: =F65+G65 -> 533100 | R65: =Q65 -> 533100 | T65: =$T$10 -> UNIT | U65: =CONCATENATE(T65,N65) -> UNITKB/TK POPDA & Seni
B66: 45989 | C66: 515108 | D66: 45 | E66: Perawatan Gedung | G66: 1409500 | H66: =H65+F66-G66 -> 2.9573823e+08 | J66: =D66 -> 45 | K66: =DAY(B66) -> 28 | L66: =PROPER(TRIM(MID(SUBSTITUTE($B$3," ",REPT(" ",99)),99*INT((LEN($B$3)-LEN(SUBSTITUTE($B$3," ","")))/2),99))) -> November | M66: =IF(J66<1," ","JV-KB/TK-"&$L$11&"-"&J66) -> JV-KB/TK-November-45 | N66: ="KB/TK "&E66 -> KB/TK Perawatan Gedung | P66: =E66 -> Perawatan Gedung | Q66: =F66+G66 -> 1409500 | R66: =Q66 -> 1409500 | T66: =$T$10 -> UNIT | U66: =CONCATENATE(T66,N66) -> UNITKB/TK Perawatan Gedung
B67: 45989 | E67: Biaya Pemindahbukuan e-Banking | G67: 2500 | H67: =H66+F67-G67 -> 2.9573573e+08 | J67: =D67 -> 0 | K67: =DAY(B67) -> 28 | L67: =PROPER(TRIM(MID(SUBSTITUTE($B$3," ",REPT(" ",99)),99*INT((LEN($B$3)-LEN(SUBSTITUTE($B$3," ","")))/2),99))) -> November | M67: =IF(J67<1," ","JV-KB/TK-"&$L$11&"-"&J67) | N67: ="KB/TK "&E67 -> KB/TK Biaya Pemindahbukuan e-Banking | P67: =E67 -> Biaya Pemindahbukuan e-Banking | Q67: =F67+G67 -> 2500 | R67: =Q67 -> 2500 | T67: =$T$10 -> UNIT | U67: =CONCATENATE(T67,N67) -> UNITKB/TK Biaya Pemindahbukuan e-Banking
B68: 45989 | C68: 515113 | D68: 46 | E68: Perawatan Jaringan Listrik | G68: 817000 | H68: =H67+F68-G68 -> 2.9491873e+08 | J68: =D68 -> 46 | K68: =DAY(B68) -> 28 | L68: =PROPER(TRIM(MID(SUBSTITUTE($B$3," ",REPT(" ",99)),99*INT((LEN($B$3)-LEN(SUBSTITUTE($B$3," ","")))/2),99))) -> November | M68: =IF(J68<1," ","JV-KB/TK-"&$L$11&"-"&J68) -> JV-KB/TK-November-46 | N68: ="KB/TK "&E68 -> KB/TK Perawatan Jaringan Listrik | P68: =E68 -> Perawatan Jaringan Listrik | Q68: =F68+G68 -> 817000 | R68: =Q68 -> 817000 | T68: =$T$10 -> UNIT | U68: =CONCATENATE(T68,N68) -> UNITKB/TK Perawatan Jaringan Listrik
B69: 45983 | C69: 516150 | D69: 47 | E69: Orientasi Siswa Baru | G69: =5904100+14500000 -> 20404100 | H69: =H68+F69-G69 -> 2.7451463e+08 | J69: =D69 -> 47 | K69: =DAY(B69) -> 22 | L69: =PROPER(TRIM(MID(SUBSTITUTE($B$3," ",REPT(" ",99)),99*INT((LEN($B$3)-LEN(SUBSTITUTE($B$3," ","")))/2),99))) -> November | M69: =IF(J69<1," ","JV-KB/TK-"&$L$11&"-"&J69) -> JV-KB/TK-November-47 | N69: ="KB/TK "&E69 -> KB/TK Orientasi Siswa Baru | P69: =E69 -> Orientasi Siswa Baru | Q69: =F69+G69 -> 20404100 | R69: =Q69 -> 20404100 | T69: =$T$10 -> UNIT | U69: =CONCATENATE(T69,N69) -> UNITKB/TK Orientasi Siswa Baru
B70: 45989 | C70: 531006 | D70: 48 | E70: Home Visit Siswa Luar Kota | G70: 40000 | H70: =H69+F70-G70 -> 2.7447463e+08 | J70: =D70 -> 48 | K70: =DAY(B70) -> 28 | L70: =PROPER(TRIM(MID(SUBSTITUTE($B$3," ",REPT(" ",99)),99*INT((LEN($B$3)-LEN(SUBSTITUTE($B$3," ","")))/2),99))) -> November | M70: =IF(J70<1," ","JV-KB/TK-"&$L$11&"-"&J70) -> JV-KB/TK-November-48 | N70: ="KB/TK "&E70 -> KB/TK Home Visit Siswa Luar Kota | P70: =E70 -> Home Visit Siswa Luar Kota | Q70: =F70+G70 -> 40000 | R70: =Q70 -> 40000 | T70: =$T$10 -> UNIT | U70: =CONCATENATE(T70,N70) -> UNITKB/TK Home Visit Siswa Luar Kota
B71: 45990 | C71: 511302 | D71: 49 | E71: Honor Pelatih Ekstrakurikuler | G71: 3585000 | H71: =H70+F71-G71 -> 2.7088963e+08 | J71: =D71 -> 49 | K71: =DAY(B71) -> 29 | L71: =PROPER(TRIM(MID(SUBSTITUTE($B$3," ",REPT(" ",99)),99*INT((LEN($B$3)-LEN(SUBSTITUTE($B$3," ","")))/2),99))) -> November | M71: =IF(J71<1," ","JV-KB/TK-"&$L$11&"-"&J71) -> JV-KB/TK-November-49 | N71: ="KB/TK "&E71 -> KB/TK Honor Pelatih Ekstrakurikuler | P71: =E71 -> Honor Pelatih Ekstrakurikuler | Q71: =F71+G71 -> 3585000 | R71: =Q71 -> 3585000 | T71: =$T$10 -> UNIT | U71: =CONCATENATE(T71,N71) -> UNITKB/TK Honor Pelatih Ekstrakurikuler
B72: 45990 | C72: 516264 | D72: 50 | E72: Media Pembelajaran | G72: 2290600 | H72: =H71+F72-G72 -> 2.6859903e+08 | J72: =D72 -> 50 | K72: =DAY(B72) -> 29 | L72: =PROPER(TRIM(MID(SUBSTITUTE($B$3," ",REPT(" ",99)),99*INT((LEN($B$3)-LEN(SUBSTITUTE($B$3," ","")))/2),99))) -> November | M72: =IF(J72<1," ","JV-KB/TK-"&$L$11&"-"&J72) -> JV-KB/TK-November-50 | N72: ="KB/TK "&E72 -> KB/TK Media Pembelajaran | P72: =E72 -> Media Pembelajaran | Q72: =F72+G72 -> 2290600 | R72: =Q72 -> 2290600 | T72: =$T$10 -> UNIT | U72: =CONCATENATE(T72,N72) -> UNITKB/TK Media Pembelajaran
B73: 45990 | C73: 518101 | D73: 51 | E73: Album Raport | G73: 5370000 | H73: =H72+F73-G73 -> 2.6322903e+08 | J73: =D73 -> 51 | K73: =DAY(B73) -> 29 | L73: =PROPER(TRIM(MID(SUBSTITUTE($B$3," ",REPT(" ",99)),99*INT((LEN($B$3)-LEN(SUBSTITUTE($B$3," ","")))/2),99))) -> November | M73: =IF(J73<1," ","JV-KB/TK-"&$L$11&"-"&J73) -> JV-KB/TK-November-51 | N73: ="KB/TK "&E73 -> KB/TK Album Raport | P73: =E73 -> Album Raport | Q73: =F73+G73 -> 5370000 | R73: =Q73 -> 5370000 | T73: =$T$10 -> UNIT | U73: =CONCATENATE(T73,N73) -> UNITKB/TK Album Raport
B74: 45990 | C74: 518107 | D74: 52 | E74: Kertas Raport | G74: 875000 | H74: =H73+F74-G74 -> 2.6235403e+08 | J74: =D74 -> 52 | K74: =DAY(B74) -> 29 | L74: =PROPER(TRIM(MID(SUBSTITUTE($B$3," ",REPT(" ",99)),99*INT((LEN($B$3)-LEN(SUBSTITUTE($B$3," ","")))/2),99))) -> November | M74: =IF(J74<1," ","JV-KB/TK-"&$L$11&"-"&J74) -> JV-KB/TK-November-52 | N74: ="KB/TK "&E74 -> KB/TK Kertas Raport | P74: =E74 -> Kertas Raport | Q74: =F74+G74 -> 875000 | R74: =Q74 -> 875000 | T74: =$T$10 -> UNIT | U74: =CONCATENATE(T74,N74) -> UNITKB/TK Kertas Raport
B75: 45990 | C75: 530601 | D75: 53 | E75: Perkantoran | G75: 127000 | H75: =H74+F75-G75 -> 2.6222703e+08 | J75: =D75 -> 53 | K75: =DAY(B75) -> 29 | L75: =PROPER(TRIM(MID(SUBSTITUTE($B$3," ",REPT(" ",99)),99*INT((LEN($B$3)-LEN(SUBSTITUTE($B$3," ","")))/2),99))) -> November | M75: =IF(J75<1," ","JV-KB/TK-"&$L$11&"-"&J75) -> JV-KB/TK-November-53 | N75: ="KB/TK "&E75 -> KB/TK Perkantoran | P75: =E75 -> Perkantoran | Q75: =F75+G75 -> 127000 | R75: =Q75 -> 127000 | T75: =$T$10 -> UNIT | U75: =CONCATENATE(T75,N75) -> UNITKB/TK Perkantoran
B76: 45990 | C76: 530602 | D76: 54 | E76: Work sheet | G76: 289000 | H76: =H75+F76-G76 -> 2.6193803e+08 | J76: =D76 -> 54 | K76: =DAY(B76) -> 29 | L76: =PROPER(TRIM(MID(SUBSTITUTE($B$3," ",REPT(" ",99)),99*INT((LEN($B$3)-LEN(SUBSTITUTE($B$3," ","")))/2),99))) -> November | M76: =IF(J76<1," ","JV-KB/TK-"&$L$11&"-"&J76) -> JV-KB/TK-November-54 | N76: ="KB/TK "&E76 -> KB/TK Work sheet | P76: =E76 -> Work sheet | Q76: =F76+G76 -> 289000 | R76: =Q76 -> 289000 | T76: =$T$10 -> UNIT | U76: =CONCATENATE(T76,N76) -> UNITKB/TK Work sheet
B77: 45990 | C77: 530707 | D77: 55 | E77: Kunjungan Tamu | G77: 530700 | H77: =H76+F77-G77 -> 2.6140733e+08 | J77: =D77 -> 55 | K77: =DAY(B77) -> 29 | L77: =PROPER(TRIM(MID(SUBSTITUTE($B$3," ",REPT(" ",99)),99*INT((LEN($B$3)-LEN(SUBSTITUTE($B$3," ","")))/2),99))) -> November | M77: =IF(J77<1," ","JV-KB/TK-"&$L$11&"-"&J77) -> JV-KB/TK-November-55 | N77: ="KB/TK "&E77 -> KB/TK Kunjungan Tamu | P77: =E77 -> Kunjungan Tamu | Q77: =F77+G77 -> 530700 | R77: =Q77 -> 530700 | T77: =$T$10 -> UNIT | U77: =CONCATENATE(T77,N77) -> UNITKB/TK Kunjungan Tamu
B78: 45990 | C78: 531005 | D78: 56 | E78: Home Visit Siswa Dalam Kota | G78: 330000 | H78: =H77+F78-G78 -> 2.6107733e+08 | J78: =D78 -> 56 | K78: =DAY(B78) -> 29 | L78: =PROPER(TRIM(MID(SUBSTITUTE($B$3," ",REPT(" ",99)),99*INT((LEN($B$3)-LEN(SUBSTITUTE($B$3," ","")))/2),99))) -> November | M78: =IF(J78<1," ","JV-KB/TK-"&$L$11&"-"&J78) -> JV-KB/TK-November-56 | N78: ="KB/TK "&E78 -> KB/TK Home Visit Siswa Dalam Kota | P78: =E78 -> Home Visit Siswa Dalam Kota | Q78: =F78+G78 -> 330000 | R78: =Q78 -> 330000 | T78: =$T$10 -> UNIT | U78: =CONCATENATE(T78,N78) -> UNITKB/TK Home Visit Siswa Dalam Kota
B79: 45991 | C79: 515114 | D79: 57 | E79: Perawatan Karpet dan Sarana Ibadah | G79: 585000 | H79: =H78+F79-G79 -> 2.6049233e+08 | J79: =D79 -> 57 | K79: =DAY(B79) -> 30 | L79: =PROPER(TRIM(MID(SUBSTITUTE($B$3," ",REPT(" ",99)),99*INT((LEN($B$3)-LEN(SUBSTITUTE($B$3," ","")))/2),99))) -> November | M79: =IF(J79<1," ","JV-KB/TK-"&$L$11&"-"&J79) -> JV-KB/TK-November-57 | N79: ="KB/TK "&E79 -> KB/TK Perawatan Karpet dan Sarana Ibadah | P79: =E79 -> Perawatan Karpet dan Sarana Ibadah | Q79: =F79+G79 -> 585000 | R79: =Q79 -> 585000 | T79: =$T$10 -> UNIT | U79: =CONCATENATE(T79,N79) -> UNITKB/TK Perawatan Karpet dan Sarana Ibadah
B80: 45991 | C80: 516010 | D80: 58 | E80: Akreditasi Sekolah | G80: 7187500 | H80: =H79+F80-G80 -> 2.5330483e+08 | J80: =D80 -> 58 | K80: =DAY(B80) -> 30 | L80: =PROPER(TRIM(MID(SUBSTITUTE($B$3," ",REPT(" ",99)),99*INT((LEN($B$3)-LEN(SUBSTITUTE($B$3," ","")))/2),99))) -> November | M80: =IF(J80<1," ","JV-KB/TK-"&$L$11&"-"&J80) -> JV-KB/TK-November-58 | N80: ="KB/TK "&E80 -> KB/TK Akreditasi Sekolah | P80: =E80 -> Akreditasi Sekolah | Q80: =F80+G80 -> 7187500 | R80: =Q80 -> 7187500 | T80: =$T$10 -> UNIT | U80: =CONCATENATE(T80,N80) -> UNITKB/TK Akreditasi Sekolah
B81: 45991 | E81: Bagi Hasil atau Bonus | F81: 55293.71 | H81: =H80+F81-G81 -> 2.5336013e+08 | J81: =D81 -> 0 | K81: =DAY(B81) -> 30 | L81: =PROPER(TRIM(MID(SUBSTITUTE($B$3," ",REPT(" ",99)),99*INT((LEN($B$3)-LEN(SUBSTITUTE($B$3," ","")))/2),99))) -> November | M81: =IF(J81<1," ","JV-KB/TK-"&$L$11&"-"&J81) | N81: ="KB/TK "&E81 -> KB/TK Bagi Hasil atau Bonus | P81: =E81 -> Bagi Hasil atau Bonus | Q81: =F81+G81 -> 55293.71 | R81: =Q81 -> 55293.71 | T81: =$T$10 -> UNIT | U81: =CONCATENATE(T81,N81) -> UNITKB/TK Bagi Hasil atau Bonus
B82: 45991 | E82: Pajak | G82: 11058.74 | H82: =H81+F82-G82 -> 2.5334907e+08 | J82: =D82 -> 0 | K82: =DAY(B82) -> 30 | L82: =PROPER(TRIM(MID(SUBSTITUTE($B$3," ",REPT(" ",99)),99*INT((LEN($B$3)-LEN(SUBSTITUTE($B$3," ","")))/2),99))) -> November | M82: =IF(J82<1," ","JV-KB/TK-"&$L$11&"-"&J82) | N82: ="KB/TK "&E82 -> KB/TK Pajak | P82: =E82 -> Pajak | Q82: =F82+G82 -> 11058.74 | R82: =Q82 -> 11058.74 | T82: =$T$10 -> UNIT | U82: =CONCATENATE(T82,N82) -> UNITKB/TK Pajak
T83: =$T$10 -> UNIT | U83: =CONCATENATE(T83,N83) -> UNIT
B85: Pada hari ini Minggu, 30 November 2025 Buku Kas Umum ditutup dengan keadaan / posisi buku sebagai berikut : | M85: =SUM(G11:G83) -> 1.3908641e+08
B86: Saldo kas Umum | F86: =H82 -> 2.5334907e+08 | M86: =G13+G14+G23+G27+G32+G25+G34+G48+G59+G63+G66+G67+G73+G74+G80+G82 -> 80041059 | N86: Non Tunai
B87: Terdiri dari : | M87: =G14+G23+G27+G32+G48+G59+G82+G67 -> 49536059 | N87: pajak dll
B88: Saldo Bank | E88: 2.3023347e+08 | M88: =M85-M87 -> 89550350 | N88: Pengeluaran Total
B89: Saldo Kas Tunai | E89: 23115600 | M89: =M85-M86 -> 59045350 | N89: Pengeluaran Tunai
B90: Jumlah | E90: =SUM(E88:E89) -> 2.5334907e+08
M91: 89550350
B93: Mengetahui, | F93: Purwoketo, 30 November 2025 | M93: =M88-M91 -> 0
B94: Kepala Sekolah | F94: Bendahara
B98: Khusnul Khotimah, S.Si., S.Pd. | F98: Sigit Purwanto, A.Md.Kom.

Sheet DES25
B1: Tanggal | C1: No. Kode | D1: No. Bukti | E1: Uraian | F1: Penerimaan (Debit) | G1: Pengeluaran (Kredit) | H1: Saldo Kas | I1: 1 | J1: no | K1: tgl | L1: bulan | M1: jurnal voucher | N1: KB/TK+uraian | O1: COA | P1: URAIAN | Q1: JUMLAH (DEBIT+KREDIT) | R1: JUMLAH (DEBIT+KREDIT)2 | S1: KOSONGI | T1: UNIT | U1: CONCENATE | V1: KB/TK
B2: BUKU KAS UMUM
B3: BULAN DESEMBER 2025
B5: Sekolah | D5: : KB & TK AL IRSYAD AL ISLAMIYYAH PURWOKERTO
B6: Desa / Kecamatan | D6: : SOKANEGARA / PURWOKERTO TIMUR
B7: Kabupaten | D7: : BANYUMAS
B8: Provinsi | D8: : JAWA TENGAH
L9: 2 | T9: KB/TK
B10: Tanggal | C10: No. Kode | D10: No. Bukti | E10: Uraian | F10: Penerimaan (Kredit) | G10: Pengeluaran (Debit) | H10: Saldo Kas | J10: no | K10: tgl | L10: bulan | M10: jurnal voucher | N10: KB/TK+uraian | O10: COA | P10: URAIAN | Q10: JUMLAH (DEBIT+KREDIT) | R10: JUMLAH (DEBIT+KREDIT)2 | S10: KOSONGI | T10: UNIT | U10: CONCENATE | V10: KB/TK
B11: 45992 | E11: Saldo bulan lalu | F11: 2.5334907e+08 | H11: =F11 -> 2.5334907e+08 | J11: =D11 -> 0 | K11: =DAY(B11) -> 1 | L11: =PROPER(TRIM(MID(SUBSTITUTE($B$3," ",REPT(" ",99)),99*INT((LEN($B$3)-LEN(SUBSTITUTE($B$3," ","")))/2),99))) -> Desember | M11: =IF(J11<1," ","JV-KB/TK-"&$L$11&"-"&J11) | N11: ="KB/TK "&E11 -> KB/TK Saldo bulan lalu | P11: =E11 -> Saldo bulan lalu | Q11: =F11+G11 -> 2.5334907e+08 | R11: =Q11 -> 2.5334907e+08 | T11: =$T$10 -> UNIT | U11: =CONCATENATE(T11,N11) -> UNITKB/TK Saldo bulan lalu
A12: 1 | B12: 45992 | C12: 530701 | D12: 1 | E12: Air Mineral Galon | G12: 490000 | H12: =H11+F12-G12 -> 2.5285907e+08 | J12: =D12 -> 1 | K12: =DAY(B12) -> 1 | L12: =PROPER(TRIM(MID(SUBSTITUTE($B$3," ",REPT(" ",99)),99*INT((LEN($B$3)-LEN(SUBSTITUTE($B$3," ","")))/2),99))) -> Desember | M12: =IF(J12<1," ","JV-KB/TK-"&$L$11&"-"&J12) -> JV-KB/TK-Desember-1 | N12: ="KB/TK "&E12 -> KB/TK Air Mineral Galon | P12: =E12 -> Air Mineral Galon | Q12: =F12+G12 -> 490000 | R12: =Q12 -> 490000 | T12: =$T$10 -> UNIT | U12: =CONCATENATE(T12,N12) -> UNITKB/TK Air Mineral Galon
A13: 2 | B13: 45992 | C13: 530704 | D13: 2 | E13: Ketempatan Rapat | G13: 150000 | H13: =H12+F13-G13 -> 2.5270907e+08 | J13: =D13 -> 2 | K13: =DAY(B13) -> 1 | L13: =PROPER(TRIM(MID(SUBSTITUTE($B$3," ",REPT(" ",99)),99*INT((LEN($B$3)-LEN(SUBSTITUTE($B$3," ","")))/2),99))) -> Desember | M13: =IF(J13<1," ","JV-KB/TK-"&$L$11&"-"&J13) -> JV-KB/TK-Desember-2 | N13: ="KB/TK "&E13 -> KB/TK Ketempatan Rapat | P13: =E13 -> Ketempatan Rapat | Q13: =F13+G13 -> 150000 | R13: =Q13 -> 150000 | T13: =$T$10 -> UNIT | U13: =CONCATENATE(T13,N13) -> UNITKB/TK Ketempatan Rapat
A14: 3 | B14: 45992 | E14: Pengambilan Dropping | F14: 5000000 | H14: =H13+F14-G14 -> 2.5770907e+08 | J14: =D14 -> 0 | K14: =DAY(B14) -> 1 | L14: =PROPER(TRIM(MID(SUBSTITUTE($B$3," ",REPT(" ",99)),99*INT((LEN($B$3)-LEN(SUBSTITUTE($B$3," ","")))/2),99))) -> Desember | M14: =IF(J14<1," ","JV-KB/TK-"&$L$11&"-"&J14) | N14: ="KB/TK "&E14 -> KB/TK Pengambilan Dropping | P14: =E14 -> Pengambilan Dropping | Q14: =F14+G14 -> 5000000 | R14: =Q14 -> 5000000 | T14: =$T$10 -> UNIT | U14: =CONCATENATE(T14,N14) -> UNITKB/TK Pengambilan Dropping
A15: 4 | B15: 45992 | E15: Diterima kas tunai di Bendahara | G15: 5000000 | H15: =H14+F15-G15 -> 2.5270907e+08 | J15: =D15 -> 0 | K15: =DAY(B15) -> 1 | L15: =PROPER(TRIM(MID(SUBSTITUTE($B$3," ",REPT(" ",99)),99*INT((LEN($B$3)-LEN(SUBSTITUTE($B$3," ","")))/2),99))) -> Desember | M15: =IF(J15<1," ","JV-KB/TK-"&$L$11&"-"&J15) | N15: ="KB/TK "&E15 -> KB/TK Diterima kas tunai di Bendahara | P15: =E15 -> Diterima kas tunai di Bendahara | Q15: =F15+G15 -> 5000000 | R15: =Q15 -> 5000000 | T15: =$T$10 -> UNIT | U15: =CONCATENATE(T15,N15) -> UNITKB/TK Diterima kas tunai di Bendahara
A16: 5 | B16: 45992 | C16: 530704 | D16: 3 | E16: Ketempatan Rapat | G16: 462000 | H16: =H15+F16-G16 -> 2.5224707e+08 | J16: =D16 -> 3 | K16: =DAY(B16) -> 1 | L16: =PROPER(TRIM(MID(SUBSTITUTE($B$3," ",REPT(" ",99)),99*INT((LEN($B$3)-LEN(SUBSTITUTE($B$3," ","")))/2),99))) -> Desember | M16: =IF(J16<1," ","JV-KB/TK-"&$L$11&"-"&J16) -> JV-KB/TK-Desember-3 | N16: ="KB/TK "&E16 -> KB/TK Ketempatan Rapat | P16: =E16 -> Ketempatan Rapat | Q16: =F16+G16 -> 462000 | R16: =Q16 -> 462000 | T16: =$T$10 -> UNIT | U16: =CONCATENATE(T16,N16) -> UNITKB/TK Ketempatan Rapat
A17: 6 | B17: 45992 | C17: 530805 | D17: 4 | E17: Bantuan Pulsa KS | G17: 150000 | H17: =H16+F17-G17 -> 2.5209707e+08 | J17: =D17 -> 4 | K17: =DAY(B17) -> 1 | L17: =PROPER(TRIM(MID(SUBSTITUTE($B$3," ",REPT(" ",99)),99*INT((LEN($B$3)-LEN(SUBSTITUTE($B$3," ","")))/2),99))) -> Desember | M17: =IF(J17<1," ","JV-KB/TK-"&$L$11&"-"&J17) -> JV-KB/TK-Desember-4 | N17: ="KB/TK "&E17 -> KB/TK Bantuan Pulsa KS | P17: =E17 -> Bantuan Pulsa KS | Q17: =F17+G17 -> 150000 | R17: =Q17 -> 150000 | T17: =$T$10 -> UNIT | U17: =CONCATENATE(T17,N17) -> UNITKB/TK Bantuan Pulsa KS
A18: 7 | B18: 45992 | C18: 530806 | D18: 5 | E18: Bantuan Pulsa WKS | G18: 375000 | H18: =H17+F18-G18 -> 2.5172207e+08 | J18: =D18 -> 5 | K18: =DAY(B18) -> 1 | L18: =PROPER(TRIM(MID(SUBSTITUTE($B$3," ",REPT(" ",99)),99*INT((LEN($B$3)-LEN(SUBSTITUTE($B$3," ","")))/2),99))) -> Desember | M18: =IF(J18<1," ","JV-KB/TK-"&$L$11&"-"&J18) -> JV-KB/TK-Desember-5 | N18: ="KB/TK "&E18 -> KB/TK Bantuan Pulsa WKS | P18: =E18 -> Bantuan Pulsa WKS | Q18: =F18+G18 -> 375000 | R18: =Q18 -> 375000 | T18: =$T$10 -> UNIT | U18: =CONCATENATE(T18,N18) -> UNITKB/TK Bantuan Pulsa WKS
A19: 8 | B19: 45992 | C19: 530807 | D19: 6 | E19: Bantuan Pulsa Wali Kelas | G19: 975000 | H19: =H18+F19-G19 -> 2.5074707e+08 | J19: =D19 -> 6 | K19: =DAY(B19) -> 1 | L19: =PROPER(TRIM(MID(SUBSTITUTE($B$3," ",REPT(" ",99)),99*INT((LEN($B$3)-LEN(SUBSTITUTE($B$3," ","")))/2),99))) -> Desember | M19: =IF(J19<1," ","JV-KB/TK-"&$L$11&"-"&J19) -> JV-KB/TK-Desember-6 | N19: ="KB/TK "&E19 -> KB/TK Bantuan Pulsa Wali Kelas | P19: =E19 -> Bantuan Pulsa Wali Kelas | Q19: =F19+G19 -> 975000 | R19: =Q19 -> 975000 | T19: =$T$10 -> UNIT | U19: =CONCATENATE(T19,N19) -> UNITKB/TK Bantuan Pulsa Wali Kelas
A20: 9 | B20: 45992 | C20: 530817 | D20: 7 | E20: Bantuan Pulsa Bendahara | G20: 50000 | H20: =H19+F20-G20 -> 2.5069707e+08 | J20: =D20 -> 7 | K20: =DAY(B20) -> 1 | L20: =PROPER(TRIM(MID(SUBSTITUTE($B$3," ",REPT(" ",99)),99*INT((LEN($B$3)-LEN(SUBSTITUTE($B$3," ","")))/2),99))) -> Desember | M20: =IF(J20<1," ","JV-KB/TK-"&$L$11&"-"&J20) -> JV-KB/TK-Desember-7 | N20: ="KB/TK "&E20 -> KB/TK Bantuan Pulsa Bendahara | P20: =E20 -> Bantuan Pulsa Bendahara | Q20: =F20+G20 -> 50000 | R20: =Q20 -> 50000 | T20: =$T$10 -> UNIT | U20: =CONCATENATE(T20,N20) -> UNITKB/TK Bantuan Pulsa Bendahara
A21: 10 | B21: 45992 | C21: 531001 | D21: 8 | E21: Transport KS | G21: 200000 | H21: =H20+F21-G21 -> 2.5049707e+08 | J21: =D21 -> 8 | K21: =DAY(B21) -> 1 | L21: =PROPER(TRIM(MID(SUBSTITUTE($B$3," ",REPT(" ",99)),99*INT((LEN($B$3)-LEN(SUBSTITUTE($B$3," ","")))/2),99))) -> Desember | M21: =IF(J21<1," ","JV-KB/TK-"&$L$11&"-"&J21) -> JV-KB/TK-Desember-8 | N21: ="KB/TK "&E21 -> KB/TK Transport KS | P21: =E21 -> Transport KS | Q21: =F21+G21 -> 200000 | R21: =Q21 -> 200000 | T21: =$T$10 -> UNIT | U21: =CONCATENATE(T21,N21) -> UNITKB/TK Transport KS
A22: 11 | B22: 45992 | C22: 531002 | D22: 9 | E22: Transport WKS | G22: 450000 | H22: =H21+F22-G22 -> 2.5004707e+08 | J22: =D22 -> 9 | K22: =DAY(B22) -> 1 | L22: =PROPER(TRIM(MID(SUBSTITUTE($B$3," ",REPT(" ",99)),99*INT((LEN($B$3)-LEN(SUBSTITUTE($B$3," ","")))/2),99))) -> Desember | M22: =IF(J22<1," ","JV-KB/TK-"&$L$11&"-"&J22) -> JV-KB/TK-Desember-9 | N22: ="KB/TK "&E22 -> KB/TK Transport WKS | P22: =E22 -> Transport WKS | Q22: =F22+G22 -> 450000 | R22: =Q22 -> 450000 | T22: =$T$10 -> UNIT | U22: =CONCATENATE(T22,N22) -> UNITKB/TK Transport WKS
A23: 12 | B23: 45992 | C23: 531022 | D23: 10 | E23: Transport Bendahara | G23: 150000 | H23: =H22+F23-G23 -> 2.4989707e+08 | J23: =D23 -> 10 | K23: =DAY(B23) -> 1 | L23: =PROPER(TRIM(MID(SUBSTITUTE($B$3," ",REPT(" ",99)),99*INT((LEN($B$3)-LEN(SUBSTITUTE($B$3," ","")))/2),99))) -> Desember | M23: =IF(J23<1," ","JV-KB/TK-"&$L$11&"-"&J23) -> JV-KB/TK-Desember-10 | N23: ="KB/TK "&E23 -> KB/TK Transport Bendahara | P23: =E23 -> Transport Bendahara | Q23: =F23+G23 -> 150000 | R23: =Q23 -> 150000 | T23: =$T$10 -> UNIT | U23: =CONCATENATE(T23,N23) -> UNITKB/TK Transport Bendahara
A24: 13 | B24: 45993 | E24: By. Adm.BSINet NOV 25 | G24: 10000 | H24: =H23+F24-G24 -> 2.4988707e+08 | J24: =D24 -> 0 | K24: =DAY(B24) -> 2 | L24: =PROPER(TRIM(MID(SUBSTITUTE($B$3," ",REPT(" ",99)),99*INT((LEN($B$3)-LEN(SUBSTITUTE($B$3," ","")))/2),99))) -> Desember | M24: =IF(J24<1," ","JV-KB/TK-"&$L$11&"-"&J24) | N24: ="KB/TK "&E24 -> KB/TK By. Adm.BSINet NOV 25 | P24: =E24 -> By. Adm.BSINet NOV 25 | Q24: =F24+G24 -> 10000 | R24: =Q24 -> 10000 | T24: =$T$10 -> UNIT | U24: =CONCATENATE(T24,N24) -> UNITKB/TK By. Adm.BSINet NOV 25
A25: 14 | B25: 45993 | C25: 530212 | D25: 11 | E25: Obat pembersih & pengharum | G25: 684400 | H25: =H24+F25-G25 -> 2.4920267e+08 | J25: =D25 -> 11 | K25: =DAY(B25) -> 2 | L25: =PROPER(TRIM(MID(SUBSTITUTE($B$3," ",REPT(" ",99)),99*INT((LEN($B$3)-LEN(SUBSTITUTE($B$3," ","")))/2),99))) -> Desember | M25: =IF(J25<1," ","JV-KB/TK-"&$L$11&"-"&J25) -> JV-KB/TK-Desember-11 | N25: ="KB/TK "&E25 -> KB/TK Obat pembersih & pengharum | P25: =E25 -> Obat pembersih & pengharum | Q25: =F25+G25 -> 684400 | R25: =Q25 -> 684400 | T25: =$T$10 -> UNIT | U25: =CONCATENATE(T25,N25) -> UNITKB/TK Obat pembersih & pengharum
A26: 15 | B26: 45993 | C26: 530908 | D26: 12 | E26: IGTK Kecamatan | G26: 770000 | H26: =H25+F26-G26 -> 2.4843267e+08 | J26: =D26 -> 12 | K26: =DAY(B26) -> 2 | L26: =PROPER(TRIM(MID(SUBSTITUTE($B$3," ",REPT(" ",99)),99*INT((LEN($B$3)-LEN(SUBSTITUTE($B$3," ","")))/2),99))) -> Desember | M26: =IF(J26<1," ","JV-KB/TK-"&$L$11&"-"&J26) -> JV-KB/TK-Desember-12 | N26: ="KB/TK "&E26 -> KB/TK IGTK Kecamatan | P26: =E26 -> IGTK Kecamatan | Q26: =F26+G26 -> 770000 | R26: =Q26 -> 770000 | T26: =$T$10 -> UNIT | U26: =CONCATENATE(T26,N26) -> UNITKB/TK IGTK Kecamatan
A27: 16 | B27: 45993 | C27: 530916 | D27: 13 | E27: Langganan Majalah/koran | G27: 305000 | H27: =H26+F27-G27 -> 2.4812767e+08 | J27: =D27 -> 13 | K27: =DAY(B27) -> 2 | L27: =PROPER(TRIM(MID(SUBSTITUTE($B$3," ",REPT(" ",99)),99*INT((LEN($B$3)-LEN(SUBSTITUTE($B$3," ","")))/2),99))) -> Desember | M27: =IF(J27<1," ","JV-KB/TK-"&$L$11&"-"&J27) -> JV-KB/TK-Desember-13 | N27: ="KB/TK "&E27 -> KB/TK Langganan Majalah/koran | P27: =E27 -> Langganan Majalah/koran | Q27: =F27+G27 -> 305000 | R27: =Q27 -> 305000 | T27: =$T$10 -> UNIT | U27: =CONCATENATE(T27,N27) -> UNITKB/TK Langganan Majalah/koran
A28: 17 | B28: 45993 | C28: 553100 | D28: 14 | E28: Biaya Lain-Lain | G28: 371500 | H28: =H27+F28-G28 -> 2.4775617e+08 | J28: =D28 -> 14 | K28: =DAY(B28) -> 2 | L28: =PROPER(TRIM(MID(SUBSTITUTE($B$3," ",REPT(" ",99)),99*INT((LEN($B$3)-LEN(SUBSTITUTE($B$3," ","")))/2),99))) -> Desember | M28: =IF(J28<1," ","JV-KB/TK-"&$L$11&"-"&J28) -> JV-KB/TK-Desember-14 | N28: ="KB/TK "&E28 -> KB/TK Biaya Lain-Lain | P28: =E28 -> Biaya Lain-Lain | Q28: =F28+G28 -> 371500 | R28: =Q28 -> 371500 | T28: =$T$10 -> UNIT | U28: =CONCATENATE(T28,N28) -> UNITKB/TK Biaya Lain-Lain
A29: 18 | B29: 45994 | E29: Biaya Administrasi | G29: 10000 | H29: =H28+F29-G29 -> 2.4774617e+08 | J29: =D29 -> 0 | K29: =DAY(B29) -> 3 | L29: =PROPER(TRIM(MID(SUBSTITUTE($B$3," ",REPT(" ",99)),99*INT((LEN($B$3)-LEN(SUBSTITUTE($B$3," ","")))/2),99))) -> Desember | M29: =IF(J29<1," ","JV-KB/TK-"&$L$11&"-"&J29) | N29: ="KB/TK "&E29 -> KB/TK Biaya Administrasi | P29: =E29 -> Biaya Administrasi | Q29: =F29+G29 -> 10000 | R29: =Q29 -> 10000 | T29: =$T$10 -> UNIT | U29: =CONCATENATE(T29,N29) -> UNITKB/TK Biaya Administrasi
A30: 19 | B30: 45994 | E30: Pengambilan Dropping | F30: 10000000 | H30: =H29+F30-G30 -> 2.5774617e+08 | J30: =D30 -> 0 | K30: =DAY(B30) -> 3 | L30: =PROPER(TRIM(MID(SUBSTITUTE($B$3," ",REPT(" ",99)),99*INT((LEN($B$3)-LEN(SUBSTITUTE($B$3," ","")))/2),99))) -> Desember | M30: =IF(J30<1," ","JV-KB/TK-"&$L$11&"-"&J30) | N30: ="KB/TK "&E30 -> KB/TK Pengambilan Dropping | P30: =E30 -> Pengambilan Dropping | Q30: =F30+G30 -> 10000000 | R30: =Q30 -> 10000000 | T30: =$T$10 -> UNIT | U30: =CONCATENATE(T30,N30) -> UNITKB/TK Pengambilan Dropping
A31: 20 | B31: 45994 | E31: Diterima kas tunai di Bendahara | G31: 10000000 | H31: =H30+F31-G31 -> 2.4774617e+08 | J31: =D31 -> 0 | K31: =DAY(B31) -> 3 | L31: =PROPER(TRIM(MID(SUBSTITUTE($B$3," ",REPT(" ",99)),99*INT((LEN($B$3)-LEN(SUBSTITUTE($B$3," ","")))/2),99))) -> Desember | M31: =IF(J31<1," ","JV-KB/TK-"&$L$11&"-"&J31) | N31: ="KB/TK "&E31 -> KB/TK Diterima kas tunai di Bendahara | P31: =E31 -> Diterima kas tunai di Bendahara | Q31: =F31+G31 -> 10000000 | R31: =Q31 -> 10000000 | T31: =$T$10 -> UNIT | U31: =CONCATENATE(T31,N31) -> UNITKB/TK Diterima kas tunai di Bendahara
A32: 21 | B32: 45994 | C32: 518115 | D32: 15 | E32: Piagam Penghargaan Non Akademik | G32: 132000 | H32: =H31+F32-G32 -> 2.4761417e+08 | J32: =D32 -> 15 | K32: =DAY(B32) -> 3 | L32: =PROPER(TRIM(MID(SUBSTITUTE($B$3," ",REPT(" ",99)),99*INT((LEN($B$3)-LEN(SUBSTITUTE($B$3," ","")))/2),99))) -> Desember | M32: =IF(J32<1," ","JV-KB/TK-"&$L$11&"-"&J32) -> JV-KB/TK-Desember-15 | N32: ="KB/TK "&E32 -> KB/TK Piagam Penghargaan Non Akademik | P32: =E32 -> Piagam Penghargaan Non Akademik | Q32: =F32+G32 -> 132000 | R32: =Q32 -> 132000 | T32: =$T$10 -> UNIT | U32: =CONCATENATE(T32,N32) -> UNITKB/TK Piagam Penghargaan Non Akademik
A33: 22 | B33: 45995 | C33: 530918 | D33: 16 | E33: Penarikan Sampah | G33: 350000 | H33: =H32+F33-G33 -> 2.4726417e+08 | J33: =D33 -> 16 | K33: =DAY(B33) -> 4 | L33: =PROPER(TRIM(MID(SUBSTITUTE($B$3," ",REPT(" ",99)),99*INT((LEN($B$3)-LEN(SUBSTITUTE($B$3," ","")))/2),99))) -> Desember | M33: =IF(J33<1," ","JV-KB/TK-"&$L$11&"-"&J33) -> JV-KB/TK-Desember-16 | N33: ="KB/TK "&E33 -> KB/TK Penarikan Sampah | P33: =E33 -> Penarikan Sampah | Q33: =F33+G33 -> 350000 | R33: =Q33 -> 350000 | T33: =$T$10 -> UNIT | U33: =CONCATENATE(T33,N33) -> UNITKB/TK Penarikan Sampah
A34: 23 | B34: 45996 | C34: 518112 | D34: 17 | E34: Progres Report | G34: 310700 | H34: =H33+F34-G34 -> 2.4695347e+08 | J34: =D34 -> 17 | K34: =DAY(B34) -> 5 | L34: =PROPER(TRIM(MID(SUBSTITUTE($B$3," ",REPT(" ",99)),99*INT((LEN($B$3)-LEN(SUBSTITUTE($B$3," ","")))/2),99))) -> Desember | M34: =IF(J34<1," ","JV-KB/TK-"&$L$11&"-"&J34) -> JV-KB/TK-Desember-17 | N34: ="KB/TK "&E34 -> KB/TK Progres Report | P34: =E34 -> Progres Report | Q34: =F34+G34 -> 310700 | R34: =Q34 -> 310700 | T34: =$T$10 -> UNIT | U34: =CONCATENATE(T34,N34) -> UNITKB/TK Progres Report
A35: 24 | B35: 45996 | C35: 530801 | D35: 18 | E35: Internet | G35: 1065100 | H35: =H34+F35-G35 -> 2.4588837e+08 | J35: =D35 -> 18 | K35: =DAY(B35) -> 5 | L35: =PROPER(TRIM(MID(SUBSTITUTE($B$3," ",REPT(" ",99)),99*INT((LEN($B$3)-LEN(SUBSTITUTE($B$3," ","")))/2),99))) -> Desember | M35: =IF(J35<1," ","JV-KB/TK-"&$L$11&"-"&J35) -> JV-KB/TK-Desember-18 | N35: ="KB/TK "&E35 -> KB/TK Internet | P35: =E35 -> Internet | Q35: =F35+G35 -> 1065100 | R35: =Q35 -> 1065100 | T35: =$T$10 -> UNIT | U35: =CONCATENATE(T35,N35) -> UNITKB/TK Internet
A36: 25 | B36: 45996 | C36: 530802 | D36: 19 | E36: Listrik | G36: 4974900 | H36: =H35+F36-G36 -> 2.4091347e+08 | J36: =D36 -> 19 | K36: =DAY(B36) -> 5 | L36: =PROPER(TRIM(MID(SUBSTITUTE($B$3," ",REPT(" ",99)),99*INT((LEN($B$3)-LEN(SUBSTITUTE($B$3," ","")))/2),99))) -> Desember | M36: =IF(J36<1," ","JV-KB/TK-"&$L$11&"-"&J36) -> JV-KB/TK-Desember-19 | N36: ="KB/TK "&E36 -> KB/TK Listrik | P36: =E36 -> Listrik | Q36: =F36+G36 -> 4974900 | R36: =Q36 -> 4974900 | T36: =$T$10 -> UNIT | U36: =CONCATENATE(T36,N36) -> UNITKB/TK Listrik
A37: 26 | B37: 45996 | C37: 530803 | D37: 20 | E37: PDAM | G37: 604100 | H37: =H36+F37-G37 -> 2.4030937e+08 | J37: =D37 -> 20 | K37: =DAY(B37) -> 5 | L37: =PROPER(TRIM(MID(SUBSTITUTE($B$3," ",REPT(" ",99)),99*INT((LEN($B$3)-LEN(SUBSTITUTE($B$3," ","")))/2),99))) -> Desember | M37: =IF(J37<1," ","JV-KB/TK-"&$L$11&"-"&J37) -> JV-KB/TK-Desember-20 | N37: ="KB/TK "&E37 -> KB/TK PDAM | P37: =E37 -> PDAM | Q37: =F37+G37 -> 604100 | R37: =Q37 -> 604100 | T37: =$T$10 -> UNIT | U37: =CONCATENATE(T37,N37) -> UNITKB/TK PDAM
A38: 27 | B38: 45997 | C38: 530902 | D38: 21 | E38: Bamudik | G38: 288000 | H38: =H37+F38-G38 -> 2.4002137e+08 | J38: =D38 -> 21 | K38: =DAY(B38) -> 6 | L38: =PROPER(TRIM(MID(SUBSTITUTE($B$3," ",REPT(" ",99)),99*INT((LEN($B$3)-LEN(SUBSTITUTE($B$3," ","")))/2),99))) -> Desember | M38: =IF(J38<1," ","JV-KB/TK-"&$L$11&"-"&J38) -> JV-KB/TK-Desember-21 | N38: ="KB/TK "&E38 -> KB/TK Bamudik | P38: =E38 -> Bamudik | Q38: =F38+G38 -> 288000 | R38: =Q38 -> 288000 | T38: =$T$10 -> UNIT | U38: =CONCATENATE(T38,N38) -> UNITKB/TK Bamudik
A39: 28 | B39: 45997 | C39: 530914 | D39: 22 | E39: KKG/MGMP | G39: 670000 | H39: =H38+F39-G39 -> 2.3935137e+08 | J39: =D39 -> 22 | K39: =DAY(B39) -> 6 | L39: =PROPER(TRIM(MID(SUBSTITUTE($B$3," ",REPT(" ",99)),99*INT((LEN($B$3)-LEN(SUBSTITUTE($B$3," ","")))/2),99))) -> Desember | M39: =IF(J39<1," ","JV-KB/TK-"&$L$11&"-"&J39) -> JV-KB/TK-Desember-22 | N39: ="KB/TK "&E39 -> KB/TK KKG/MGMP | P39: =E39 -> KKG/MGMP | Q39: =F39+G39 -> 670000 | R39: =Q39 -> 670000 | T39: =$T$10 -> UNIT | U39: =CONCATENATE(T39,N39) -> UNITKB/TK KKG/MGMP
A40: 29 | B40: 45999 | E40: Pengambilan Droping (Penampung Air/Turn) | F40: 8000000 | H40: =H39+F40-G40 -> 2.4735137e+08 | J40: =D40 -> 0 | K40: =DAY(B40) -> 8 | L40: =PROPER(TRIM(MID(SUBSTITUTE($B$3," ",REPT(" ",99)),99*INT((LEN($B$3)-LEN(SUBSTITUTE($B$3," ","")))/2),99))) -> Desember | M40: =IF(J40<1," ","JV-KB/TK-"&$L$11&"-"&J40) | N40: ="KB/TK "&E40 -> KB/TK Pengambilan Droping (Penampung Air/Turn) | P40: =E40 -> Pengambilan Droping (Penampung Air/Turn) | Q40: =F40+G40 -> 8000000 | R40: =Q40 -> 8000000 | T40: =$T$10 -> UNIT | U40: =CONCATENATE(T40,N40) -> UNITKB/TK Pengambilan Droping (Penampung Air/Turn)
A41: 30 | B41: 45999 | E41: Diterima kas tunai di Bendahara | G41: 8000000 | H41: =H40+F41-G41 -> 2.3935137e+08 | J41: =D41 -> 0 | K41: =DAY(B41) -> 8 | L41: =PROPER(TRIM(MID(SUBSTITUTE($B$3," ",REPT(" ",99)),99*INT((LEN($B$3)-LEN(SUBSTITUTE($B$3," ","")))/2),99))) -> Desember | M41: =IF(J41<1," ","JV-KB/TK-"&$L$11&"-"&J41) | N41: ="KB/TK "&E41 -> KB/TK Diterima kas tunai di Bendahara | P41: =E41 -> Diterima kas tunai di Bendahara | Q41: =F41+G41 -> 8000000 | R41: =Q41 -> 8000000 | T41: =$T$10 -> UNIT | U41: =CONCATENATE(T41,N41) -> UNITKB/TK Diterima kas tunai di Bendahara
A42: 31 | B42: 45999 | E42: Biaya Pemindahbukuan e-Banking | G42: 2500 | H42: =H41+F42-G42 -> 2.3934887e+08 | J42: =D42 -> 0 | K42: =DAY(B42) -> 8 | L42: =PROPER(TRIM(MID(SUBSTITUTE($B$3," ",REPT(" ",99)),99*INT((LEN($B$3)-LEN(SUBSTITUTE($B$3," ","")))/2),99))) -> Desember | M42: =IF(J42<1," ","JV-KB/TK-"&$L$11&"-"&J42) | N42: ="KB/TK "&E42 -> KB/TK Biaya Pemindahbukuan e-Banking | P42: =E42 -> Biaya Pemindahbukuan e-Banking | Q42: =F42+G42 -> 2500 | R42: =Q42 -> 2500 | T42: =$T$10 -> UNIT | U42: =CONCATENATE(T42,N42) -> UNITKB/TK Biaya Pemindahbukuan e-Banking
A43: 32 | B43: 45999 | E43: Pengambilan Droping (Papan Nama Sekolah) | F43: 15000000 | H43: =H42+F43-G43 -> 2.5434887e+08 | J43: =D43 -> 0 | K43: =DAY(B43) -> 8 | L43: =PROPER(TRIM(MID(SUBSTITUTE($B$3," ",REPT(" ",99)),99*INT((LEN($B$3)-LEN(SUBSTITUTE($B$3," ","")))/2),99))) -> Desember | M43: =IF(J43<1," ","JV-KB/TK-"&$L$11&"-"&J43) | N43: ="KB/TK "&E43 -> KB/TK Pengambilan Droping (Papan Nama Sekolah) | P43: =E43 -> Pengambilan Droping (Papan Nama Sekolah) | Q43: =F43+G43 -> 15000000 | R43: =Q43 -> 15000000 | T43: =$T$10 -> UNIT | U43: =CONCATENATE(T43,N43) -> UNITKB/TK Pengambilan Droping (Papan Nama Sekolah)
A44: 33 | B44: 45999 | E44: Diterima kas tunai di Bendahara | G44: 15000000 | H44: =H43+F44-G44 -> 2.3934887e+08 | J44: =D44 -> 0 | K44: =DAY(B44) -> 8 | L44: =PROPER(TRIM(MID(SUBSTITUTE($B$3," ",REPT(" ",99)),99*INT((LEN($B$3)-LEN(SUBSTITUTE($B$3," ","")))/2),99))) -> Desember | M44: =IF(J44<1," ","JV-KB/TK-"&$L$11&"-"&J44) | N44: ="KB/TK "&E44 -> KB/TK Diterima kas tunai di Bendahara | P44: =E44 -> Diterima kas tunai di Bendahara | Q44: =F44+G44 -> 15000000 | R44: =Q44 -> 15000000 | T44: =$T$10 -> UNIT | U44: =CONCATENATE(T44,N44) -> UNITKB/TK Diterima kas tunai di Bendahara
A45: 34 | B45: 45999 | E45: Biaya Pemindahbukuan e-Banking | G45: 2500 | H45: =H44+F45-G45 -> 2.3934637e+08 | J45: =D45 -> 0 | K45: =DAY(B45) -> 8 | L45: =PROPER(TRIM(MID(SUBSTITUTE($B$3," ",REPT(" ",99)),99*INT((LEN($B$3)-LEN(SUBSTITUTE($B$3," ","")))/2),99))) -> Desember | M45: =IF(J45<1," ","JV-KB/TK-"&$L$11&"-"&J45) | N45: ="KB/TK "&E45 -> KB/TK Biaya Pemindahbukuan e-Banking | P45: =E45 -> Biaya Pemindahbukuan e-Banking | Q45: =F45+G45 -> 2500 | R45: =Q45 -> 2500 | T45: =$T$10 -> UNIT | U45: =CONCATENATE(T45,N45) -> UNITKB/TK Biaya Pemindahbukuan e-Banking
A46: 35 | B46: 45999 | C46: 515806 | D46: 23 | E46: Studio Rekaman Mini | G46: 129000 | H46: =H45+F46-G46 -> 2.3921737e+08 | J46: =D46 -> 23 | K46: =DAY(B46) -> 8 | L46: =PROPER(TRIM(MID(SUBSTITUTE($B$3," ",REPT(" ",99)),99*INT((LEN($B$3)-LEN(SUBSTITUTE($B$3," ","")))/2),99))) -> Desember | M46: =IF(J46<1," ","JV-KB/TK-"&$L$11&"-"&J46) -> JV-KB/TK-Desember-23 | N46: ="KB/TK "&E46 -> KB/TK Studio Rekaman Mini | P46: =E46 -> Studio Rekaman Mini | Q46: =F46+G46 -> 129000 | R46: =Q46 -> 129000 | T46: =$T$10 -> UNIT | U46: =CONCATENATE(T46,N46) -> UNITKB/TK Studio Rekaman Mini
A47: 36 | B47: 45999 | C47: 540101 | D47: 24 | E47: Almari Arsip | G47: 4398000 | H47: =H46+F47-G47 -> 2.3481937e+08 | J47: =D47 -> 24 | K47: =DAY(B47) -> 8 | L47: =PROPER(TRIM(MID(SUBSTITUTE($B$3," ",REPT(" ",99)),99*INT((LEN($B$3)-LEN(SUBSTITUTE($B$3," ","")))/2),99))) -> Desember | M47: =IF(J47<1," ","JV-KB/TK-"&$L$11&"-"&J47) -> JV-KB/TK-Desember-24 | N47: ="KB/TK "&E47 -> KB/TK Almari Arsip | P47: =E47 -> Almari Arsip | Q47: =F47+G47 -> 4398000 | R47: =Q47 -> 4398000 | T47: =$T$10 -> UNIT | U47: =CONCATENATE(T47,N47) -> UNITKB/TK Almari Arsip
A48: 37 | B48: 46000 | C48: 518110 | D48: 25 | E48: Pas Photo | G48: 18000 | H48: =H47+F48-G48 -> 2.3480137e+08 | J48: =D48 -> 25 | K48: =DAY(B48) -> 9 | L48: =PROPER(TRIM(MID(SUBSTITUTE($B$3," ",REPT(" ",99)),99*INT((LEN($B$3)-LEN(SUBSTITUTE($B$3," ","")))/2),99))) -> Desember | M48: =IF(J48<1," ","JV-KB/TK-"&$L$11&"-"&J48) -> JV-KB/TK-Desember-25 | N48: ="KB/TK "&E48 -> KB/TK Pas Photo | P48: =E48 -> Pas Photo | Q48: =F48+G48 -> 18000 | R48: =Q48 -> 18000 | T48: =$T$10 -> UNIT | U48: =CONCATENATE(T48,N48) -> UNITKB/TK Pas Photo
A49: 38 | B49: 46001 | E49: Pengambilan Dropping | F49: 15000000 | H49: =H48+F49-G49 -> 2.4980137e+08 | J49: =D49 -> 0 | K49: =DAY(B49) -> 10 | L49: =PROPER(TRIM(MID(SUBSTITUTE($B$3," ",REPT(" ",99)),99*INT((LEN($B$3)-LEN(SUBSTITUTE($B$3," ","")))/2),99))) -> Desember | M49: =IF(J49<1," ","JV-KB/TK-"&$L$11&"-"&J49) | N49: ="KB/TK "&E49 -> KB/TK Pengambilan Dropping | P49: =E49 -> Pengambilan Dropping | Q49: =F49+G49 -> 15000000 | R49: =Q49 -> 15000000 | T49: =$T$10 -> UNIT | U49: =CONCATENATE(T49,N49) -> UNITKB/TK Pengambilan Dropping
A50: 39 | B50: 46001 | E50: Diterima kas tunai di Bendahara | G50: 15000000 | H50: =H49+F50-G50 -> 2.3480137e+08 | J50: =D50 -> 0 | K50: =DAY(B50) -> 10 | L50: =PROPER(TRIM(MID(SUBSTITUTE($B$3," ",REPT(" ",99)),99*INT((LEN($B$3)-LEN(SUBSTITUTE($B$3," ","")))/2),99))) -> Desember | M50: =IF(J50<1," ","JV-KB/TK-"&$L$11&"-"&J50) | N50: ="KB/TK "&E50 -> KB/TK Diterima kas tunai di Bendahara | P50: =E50 -> Diterima kas tunai di Bendahara | Q50: =F50+G50 -> 15000000 | R50: =Q50 -> 15000000 | T50: =$T$10 -> UNIT | U50: =CONCATENATE(T50,N50) -> UNITKB/TK Diterima kas tunai di Bendahara
A51: 40 | B51: 46001 | C51: 516250 | D51: 26 | E51: Sistem Informasi Manajemen (SIM) atau Humas Sekolah | G51: 70000 | H51: =H50+F51-G51 -> 2.3473137e+08 | J51: =D51 -> 26 | K51: =DAY(B51) -> 10 | L51: =PROPER(TRIM(MID(SUBSTITUTE($B$3," ",REPT(" ",99)),99*INT((LEN($B$3)-LEN(SUBSTITUTE($B$3," ","")))/2),99))) -> Desember | M51: =IF(J51<1," ","JV-KB/TK-"&$L$11&"-"&J51) -> JV-KB/TK-Desember-26 | N51: ="KB/TK "&E51 -> KB/TK Sistem Informasi Manajemen (SIM) atau Humas Sekolah | P51: =E51 -> Sistem Informasi Manajemen (SIM) atau Humas Sekolah | Q51: =F51+G51 -> 70000 | R51: =Q51 -> 70000 | T51: =$T$10 -> UNIT | U51: =CONCATENATE(T51,N51) -> UNITKB/TK Sistem Informasi Manajemen (SIM) atau Humas Sekolah
A52: 41 | B52: 46001 | C52: 516264 | D52: 27 | E52: Media Pembelajaran | G52: 1970800 | H52: =H51+F52-G52 -> 2.3276057e+08 | J52: =D52 -> 27 | K52: =DAY(B52) -> 10 | L52: =PROPER(TRIM(MID(SUBSTITUTE($B$3," ",REPT(" ",99)),99*INT((LEN($B$3)-LEN(SUBSTITUTE($B$3," ","")))/2),99))) -> Desember | M52: =IF(J52<1," ","JV-KB/TK-"&$L$11&"-"&J52) -> JV-KB/TK-Desember-27 | N52: ="KB/TK "&E52 -> KB/TK Media Pembelajaran | P52: =E52 -> Media Pembelajaran | Q52: =F52+G52 -> 1970800 | R52: =Q52 -> 1970800 | T52: =$T$10 -> UNIT | U52: =CONCATENATE(T52,N52) -> UNITKB/TK Media Pembelajaran
A53: 42 | B53: 46001 | C53: 531010 | D53: 28 | E53: Operasional Mobil Sekolah/LPP | G53: 30000 | H53: =H52+F53-G53 -> 2.3273057e+08 | J53: =D53 -> 28 | K53: =DAY(B53) -> 10 | L53: =PROPER(TRIM(MID(SUBSTITUTE($B$3," ",REPT(" ",99)),99*INT((LEN($B$3)-LEN(SUBSTITUTE($B$3," ","")))/2),99))) -> Desember | M53: =IF(J53<1," ","JV-KB/TK-"&$L$11&"-"&J53) -> JV-KB/TK-Desember-28 | N53: ="KB/TK "&E53 -> KB/TK Operasional Mobil Sekolah/LPP | P53: =E53 -> Operasional Mobil Sekolah/LPP | Q53: =F53+G53 -> 30000 | R53: =Q53 -> 30000 | T53: =$T$10 -> UNIT | U53: =CONCATENATE(T53,N53) -> UNITKB/TK Operasional Mobil Sekolah/LPP
A54: 43 | B54: 46001 | C54: 552600 | D54: 29 | E54: Rehab Ringan Gedung | G54: 2250000 | H54: =H53+F54-G54 -> 2.3048057e+08 | J54: =D54 -> 29 | K54: =DAY(B54) -> 10 | L54: =PROPER(TRIM(MID(SUBSTITUTE($B$3," ",REPT(" ",99)),99*INT((LEN($B$3)-LEN(SUBSTITUTE($B$3," ","")))/2),99))) -> Desember | M54: =IF(J54<1," ","JV-KB/TK-"&$L$11&"-"&J54) -> JV-KB/TK-Desember-29 | N54: ="KB/TK "&E54 -> KB/TK Rehab Ringan Gedung | P54: =E54 -> Rehab Ringan Gedung | Q54: =F54+G54 -> 2250000 | R54: =Q54 -> 2250000 | T54: =$T$10 -> UNIT | U54: =CONCATENATE(T54,N54) -> UNITKB/TK Rehab Ringan Gedung
A55: 44 | B55: 46002 | C55: 511302 | D55: 30 | E55: Honor Pelatih Ekstrakurikuler | G55: 935000 | H55: =H54+F55-G55 -> 2.2954557e+08 | J55: =D55 -> 30 | K55: =DAY(B55) -> 11 | L55: =PROPER(TRIM(MID(SUBSTITUTE($B$3," ",REPT(" ",99)),99*INT((LEN($B$3)-LEN(SUBSTITUTE($B$3," ","")))/2),99))) -> Desember | M55: =IF(J55<1," ","JV-KB/TK-"&$L$11&"-"&J55) -> JV-KB/TK-Desember-30 | N55: ="KB/TK "&E55 -> KB/TK Honor Pelatih Ekstrakurikuler | P55: =E55 -> Honor Pelatih Ekstrakurikuler | Q55: =F55+G55 -> 935000 | R55: =Q55 -> 935000 | T55: =$T$10 -> UNIT | U55: =CONCATENATE(T55,N55) -> UNITKB/TK Honor Pelatih Ekstrakurikuler
A56: 45 | B56: 46002 | C56: 530707 | D56: 31 | E56: Kunjungan Tamu | G56: 148000 | H56: =H55+F56-G56 -> 2.2939757e+08 | J56: =D56 -> 31 | K56: =DAY(B56) -> 11 | L56: =PROPER(TRIM(MID(SUBSTITUTE($B$3," ",REPT(" ",99)),99*INT((LEN($B$3)-LEN(SUBSTITUTE($B$3," ","")))/2),99))) -> Desember | M56: =IF(J56<1," ","JV-KB/TK-"&$L$11&"-"&J56) -> JV-KB/TK-Desember-31 | N56: ="KB/TK "&E56 -> KB/TK Kunjungan Tamu | P56: =E56 -> Kunjungan Tamu | Q56: =F56+G56 -> 148000 | R56: =Q56 -> 148000 | T56: =$T$10 -> UNIT | U56: =CONCATENATE(T56,N56) -> UNITKB/TK Kunjungan Tamu
A57: 46 | B57: 46002 | C57: 551500 | D57: 32 | E57: Pajak Mobil | G57: 2553000 | H57: =H56+F57-G57 -> 2.2684457e+08 | J57: =D57 -> 32 | K57: =DAY(B57) -> 11 | L57: =PROPER(TRIM(MID(SUBSTITUTE($B$3," ",REPT(" ",99)),99*INT((LEN($B$3)-LEN(SUBSTITUTE($B$3," ","")))/2),99))) -> Desember | M57: =IF(J57<1," ","JV-KB/TK-"&$L$11&"-"&J57) -> JV-KB/TK-Desember-32 | N57: ="KB/TK "&E57 -> KB/TK Pajak Mobil | P57: =E57 -> Pajak Mobil | Q57: =F57+G57 -> 2553000 | R57: =Q57 -> 2553000 | T57: =$T$10 -> UNIT | U57: =CONCATENATE(T57,N57) -> UNITKB/TK Pajak Mobil
A58: 47 | B58: 46003 | C58: 518301 | D58: 33 | E58: Duplikat Piala | G58: 300000 | H58: =H57+F58-G58 -> 2.2654457e+08 | J58: =D58 -> 33 | K58: =DAY(B58) -> 12 | L58: =PROPER(TRIM(MID(SUBSTITUTE($B$3," ",REPT(" ",99)),99*INT((LEN($B$3)-LEN(SUBSTITUTE($B$3," ","")))/2),99))) -> Desember | M58: =IF(J58<1," ","JV-KB/TK-"&$L$11&"-"&J58) -> JV-KB/TK-Desember-33 | N58: ="KB/TK "&E58 -> KB/TK Duplikat Piala | P58: =E58 -> Duplikat Piala | Q58: =F58+G58 -> 300000 | R58: =Q58 -> 300000 | T58: =$T$10 -> UNIT | U58: =CONCATENATE(T58,N58) -> UNITKB/TK Duplikat Piala
A59: 48 | B59: 46003 | C59: 530203 | D59: 34 | E59: Alat Pertukangan | G59: 78000 | H59: =H58+F59-G59 -> 2.2646657e+08 | J59: =D59 -> 34 | K59: =DAY(B59) -> 12 | L59: =PROPER(TRIM(MID(SUBSTITUTE($B$3," ",REPT(" ",99)),99*INT((LEN($B$3)-LEN(SUBSTITUTE($B$3," ","")))/2),99))) -> Desember | M59: =IF(J59<1," ","JV-KB/TK-"&$L$11&"-"&J59) -> JV-KB/TK-Desember-34 | N59: ="KB/TK "&E59 -> KB/TK Alat Pertukangan | P59: =E59 -> Alat Pertukangan | Q59: =F59+G59 -> 78000 | R59: =Q59 -> 78000 | T59: =$T$10 -> UNIT | U59: =CONCATENATE(T59,N59) -> UNITKB/TK Alat Pertukangan
A60: 49 | B60: 46003 | C60: 530702 | D60: 35 | E60: Kegiatan Insidental | G60: 465200 | H60: =H59+F60-G60 -> 2.2600137e+08 | J60: =D60 -> 35 | K60: =DAY(B60) -> 12 | L60: =PROPER(TRIM(MID(SUBSTITUTE($B$3," ",REPT(" ",99)),99*INT((LEN($B$3)-LEN(SUBSTITUTE($B$3," ","")))/2),99))) -> Desember | M60: =IF(J60<1," ","JV-KB/TK-"&$L$11&"-"&J60) -> JV-KB/TK-Desember-35 | N60: ="KB/TK "&E60 -> KB/TK Kegiatan Insidental | P60: =E60 -> Kegiatan Insidental | Q60: =F60+G60 -> 465200 | R60: =Q60 -> 465200 | T60: =$T$10 -> UNIT | U60: =CONCATENATE(T60,N60) -> UNITKB/TK Kegiatan Insidental
A61: 50 | B61: 46003 | C61: 530907 | D61: 36 | E61: Himpaudi | G61: 326000 | H61: =H60+F61-G61 -> 2.2567537e+08 | J61: =D61 -> 36 | K61: =DAY(B61) -> 12 | L61: =PROPER(TRIM(MID(SUBSTITUTE($B$3," ",REPT(" ",99)),99*INT((LEN($B$3)-LEN(SUBSTITUTE($B$3," ","")))/2),99))) -> Desember | M61: =IF(J61<1," ","JV-KB/TK-"&$L$11&"-"&J61) -> JV-KB/TK-Desember-36 | N61: ="KB/TK "&E61 -> KB/TK Himpaudi | P61: =E61 -> Himpaudi | Q61: =F61+G61 -> 326000 | R61: =Q61 -> 326000 | T61: =$T$10 -> UNIT | U61: =CONCATENATE(T61,N61) -> UNITKB/TK Himpaudi
A62: 51 | B62: 46004 | E62: Dropping Bulan Desember 2025 | F62: 38350000 | H62: =H61+F62-G62 -> 2.6402537e+08 | J62: =D62 -> 0 | K62: =DAY(B62) -> 13 | L62: =PROPER(TRIM(MID(SUBSTITUTE($B$3," ",REPT(" ",99)),99*INT((LEN($B$3)-LEN(SUBSTITUTE($B$3," ","")))/2),99))) -> Desember | M62: =IF(J62<1," ","JV-KB/TK-"&$L$11&"-"&J62) | N62: ="KB/TK "&E62 -> KB/TK Dropping Bulan Desember 2025 | P62: =E62 -> Dropping Bulan Desember 2025 | Q62: =F62+G62 -> 38350000 | R62: =Q62 -> 38350000 | T62: =$T$10 -> UNIT | U62: =CONCATENATE(T62,N62) -> UNITKB/TK Dropping Bulan Desember 2025
A63: 52 | B63: 46006 | C63: 512301 | D63: 37 | E63: RPPH | G63: 1351000 | H63: =H62+F63-G63 -> 2.6267437e+08 | J63: =D63 -> 37 | K63: =DAY(B63) -> 15 | L63: =PROPER(TRIM(MID(SUBSTITUTE($B$3," ",REPT(" ",99)),99*INT((LEN($B$3)-LEN(SUBSTITUTE($B$3," ","")))/2),99))) -> Desember | M63: =IF(J63<1," ","JV-KB/TK-"&$L$11&"-"&J63) -> JV-KB/TK-Desember-37 | N63: ="KB/TK "&E63 -> KB/TK RPPH | P63: =E63 -> RPPH | Q63: =F63+G63 -> 1351000 | R63: =Q63 -> 1351000 | T63: =$T$10 -> UNIT | U63: =CONCATENATE(T63,N63) -> UNITKB/TK RPPH
A64: 53 | B64: 46006 | C64: 515108 | D64: 38 | E64: Perawatan Gedung | G64: 3086500 | H64: =H63+F64-G64 -> 2.5958787e+08 | J64: =D64 -> 38 | K64: =DAY(B64) -> 15 | L64: =PROPER(TRIM(MID(SUBSTITUTE($B$3," ",REPT(" ",99)),99*INT((LEN($B$3)-LEN(SUBSTITUTE($B$3," ","")))/2),99))) -> Desember | M64: =IF(J64<1," ","JV-KB/TK-"&$L$11&"-"&J64) -> JV-KB/TK-Desember-38 | N64: ="KB/TK "&E64 -> KB/TK Perawatan Gedung | P64: =E64 -> Perawatan Gedung | Q64: =F64+G64 -> 3086500 | R64: =Q64 -> 3086500 | T64: =$T$10 -> UNIT | U64: =CONCATENATE(T64,N64) -> UNITKB/TK Perawatan Gedung
A65: 54 | B65: 46006 | E65: Biaya Pemindahbukuan e-Banking | G65: 2500 | H65: =H64+F65-G65 -> 2.5958537e+08 | J65: =D65 -> 0 | K65: =DAY(B65) -> 15 | L65: =PROPER(TRIM(MID(SUBSTITUTE($B$3," ",REPT(" ",99)),99*INT((LEN($B$3)-LEN(SUBSTITUTE($B$3," ","")))/2),99))) -> Desember | M65: =IF(J65<1," ","JV-KB/TK-"&$L$11&"-"&J65) | N65: ="KB/TK "&E65 -> KB/TK Biaya Pemindahbukuan e-Banking | P65: =E65 -> Biaya Pemindahbukuan e-Banking | Q65: =F65+G65 -> 2500 | R65: =Q65 -> 2500 | T65: =$T$10 -> UNIT | U65: =CONCATENATE(T65,N65) -> UNITKB/TK Biaya Pemindahbukuan e-Banking
A66: 55 | B66: 46007 | E66: Pengambilan Dropping | F66: 15000000 | H66: =H65+F66-G66 -> 2.7458537e+08 | J66: =D66 -> 0 | K66: =DAY(B66) -> 16 | L66: =PROPER(TRIM(MID(SUBSTITUTE($B$3," ",REPT(" ",99)),99*INT((LEN($B$3)-LEN(SUBSTITUTE($B$3," ","")))/2),99))) -> Desember | M66: =IF(J66<1," ","JV-KB/TK-"&$L$11&"-"&J66) | N66: ="KB/TK "&E66 -> KB/TK Pengambilan Dropping | P66: =E66 -> Pengambilan Dropping | Q66: =F66+G66 -> 15000000 | R66: =Q66 -> 15000000 | T66: =$T$10 -> UNIT | U66: =CONCATENATE(T66,N66) -> UNITKB/TK Pengambilan Dropping
A67: 56 | B67: 46007 | E67: Diterima kas tunai di Bendahara | G67: 15000000 | H67: =H66+F67-G67 -> 2.5958537e+08 | J67: =D67 -> 0 | K67: =DAY(B67) -> 16 | L67: =PROPER(TRIM(MID(SUBSTITUTE($B$3," ",REPT(" ",99)),99*INT((LEN($B$3)-LEN(SUBSTITUTE($B$3," ","")))/2),99))) -> Desember | M67: =IF(J67<1," ","JV-KB/TK-"&$L$11&"-"&J67) | N67: ="KB/TK "&E67 -> KB/TK Diterima kas tunai di Bendahara | P67: =E67 -> Diterima kas tunai di Bendahara | Q67: =F67+G67 -> 15000000 | R67: =Q67 -> 15000000 | T67: =$T$10 -> UNIT | U67: =CONCATENATE(T67,N67) -> UNITKB/TK Diterima kas tunai di Bendahara
A68: 57 | B68: 46007 | C68: 515113 | D68: 39 | E68: Perawatan Jaringan Listrik | G68: 348000 | H68: =H67+F68-G68 -> 2.5923737e+08 | J68: =D68 -> 39 | K68: =DAY(B68) -> 16 | L68: =PROPER(TRIM(MID(SUBSTITUTE($B$3," ",REPT(" ",99)),99*INT((LEN($B$3)-LEN(SUBSTITUTE($B$3," ","")))/2),99))) -> Desember | M68: =IF(J68<1," ","JV-KB/TK-"&$L$11&"-"&J68) -> JV-KB/TK-Desember-39 | N68: ="KB/TK "&E68 -> KB/TK Perawatan Jaringan Listrik | P68: =E68 -> Perawatan Jaringan Listrik | Q68: =F68+G68 -> 348000 | R68: =Q68 -> 348000 | T68: =$T$10 -> UNIT | U68: =CONCATENATE(T68,N68) -> UNITKB/TK Perawatan Jaringan Listrik
A69: 58 | B69: 46007 | C69: 516140 | D69: 40 | E69: Sukses PPDB | G69: 1545400 | H69: =H68+F69-G69 -> 2.5769197e+08 | J69: =D69 -> 40 | K69: =DAY(B69) -> 16 | L69: =PROPER(TRIM(MID(SUBSTITUTE($B$3," ",REPT(" ",99)),99*INT((LEN($B$3)-LEN(SUBSTITUTE($B$3," ","")))/2),99))) -> Desember | M69: =IF(J69<1," ","JV-KB/TK-"&$L$11&"-"&J69) -> JV-KB/TK-Desember-40 | N69: ="KB/TK "&E69 -> KB/TK Sukses PPDB | P69: =E69 -> Sukses PPDB | Q69: =F69+G69 -> 1545400 | R69: =Q69 -> 1545400 | T69: =$T$10 -> UNIT | U69: =CONCATENATE(T69,N69) -> UNITKB/TK Sukses PPDB
A70: 59 | B70: 46007 | C70: 531005 | D70: 41 | E70: Home Visit Siswa Dalam Kota | G70: 315000 | H70: =H69+F70-G70 -> 2.5737697e+08 | J70: =D70 -> 41 | K70: =DAY(B70) -> 16 | L70: =PROPER(TRIM(MID(SUBSTITUTE($B$3," ",REPT(" ",99)),99*INT((LEN($B$3)-LEN(SUBSTITUTE($B$3," ","")))/2),99))) -> Desember | M70: =IF(J70<1," ","JV-KB/TK-"&$L$11&"-"&J70) -> JV-KB/TK-Desember-41 | N70: ="KB/TK "&E70 -> KB/TK Home Visit Siswa Dalam Kota | P70: =E70 -> Home Visit Siswa Dalam Kota | Q70: =F70+G70 -> 315000 | R70: =Q70 -> 315000 | T70: =$T$10 -> UNIT | U70: =CONCATENATE(T70,N70) -> UNITKB/TK Home Visit Siswa Dalam Kota
A71: 60 | B71: 46007 | C71: 531006 | D71: 42 | E71: Home Visit Siswa Luar Kota | G71: 60000 | H71: =H70+F71-G71 -> 2.5731697e+08 | J71: =D71 -> 42 | K71: =DAY(B71) -> 16 | L71: =PROPER(TRIM(MID(SUBSTITUTE($B$3," ",REPT(" ",99)),99*INT((LEN($B$3)-LEN(SUBSTITUTE($B$3," ","")))/2),99))) -> Desember | M71: =IF(J71<1," ","JV-KB/TK-"&$L$11&"-"&J71) -> JV-KB/TK-Desember-42 | N71: ="KB/TK "&E71 -> KB/TK Home Visit Siswa Luar Kota | P71: =E71 -> Home Visit Siswa Luar Kota | Q71: =F71+G71 -> 60000 | R71: =Q71 -> 60000 | T71: =$T$10 -> UNIT | U71: =CONCATENATE(T71,N71) -> UNITKB/TK Home Visit Siswa Luar Kota
A72: 61 | B72: 46007 | C72: 553100 | D72: 43 | E72: Biaya Lain-Lain | G72: 52000 | H72: =H71+F72-G72 -> 2.5726497e+08 | J72: =D72 -> 43 | K72: =DAY(B72) -> 16 | L72: =PROPER(TRIM(MID(SUBSTITUTE($B$3," ",REPT(" ",99)),99*INT((LEN($B$3)-LEN(SUBSTITUTE($B$3," ","")))/2),99))) -> Desember | M72: =IF(J72<1," ","JV-KB/TK-"&$L$11&"-"&J72) -> JV-KB/TK-Desember-43 | N72: ="KB/TK "&E72 -> KB/TK Biaya Lain-Lain | P72: =E72 -> Biaya Lain-Lain | Q72: =F72+G72 -> 52000 | R72: =Q72 -> 52000 | T72: =$T$10 -> UNIT | U72: =CONCATENATE(T72,N72) -> UNITKB/TK Biaya Lain-Lain
A73: 62 | B73: 46008 | E73: Pengambilan Droping | F73: 1700000 | H73: =H72+F73-G73 -> 2.5896497e+08 | J73: =D73 -> 0 | K73: =DAY(B73) -> 17 | L73: =PROPER(TRIM(MID(SUBSTITUTE($B$3," ",REPT(" ",99)),99*INT((LEN($B$3)-LEN(SUBSTITUTE($B$3," ","")))/2),99))) -> Desember | M73: =IF(J73<1," ","JV-KB/TK-"&$L$11&"-"&J73) | N73: ="KB/TK "&E73 -> KB/TK Pengambilan Droping | P73: =E73 -> Pengambilan Droping | Q73: =F73+G73 -> 1700000 | R73: =Q73 -> 1700000 | T73: =$T$10 -> UNIT | U73: =CONCATENATE(T73,N73) -> UNITKB/TK Pengambilan Droping
A74: 63 | B74: 46008 | E74: Diterima kas tunai di Bendahara | G74: 1700000 | H74: =H73+F74-G74 -> 2.5726497e+08 | J74: =D74 -> 0 | K74: =DAY(B74) -> 17 | L74: =PROPER(TRIM(MID(SUBSTITUTE($B$3," ",REPT(" ",99)),99*INT((LEN($B$3)-LEN(SUBSTITUTE($B$3," ","")))/2),99))) -> Desember | M74: =IF(J74<1," ","JV-KB/TK-"&$L$11&"-"&J74) | N74: ="KB/TK "&E74 -> KB/TK Diterima kas tunai di Bendahara | P74: =E74 -> Diterima kas tunai di Bendahara | Q74: =F74+G74 -> 1700000 | R74: =Q74 -> 1700000 | T74: =$T$10 -> UNIT | U74: =CONCATENATE(T74,N74) -> UNITKB/TK Diterima kas tunai di Bendahara
A75: 62 | B75: 46008 | E75: Pengambilan Droping | F75: 2500000 | H75: =H74+F75-G75 -> 2.5976497e+08 | J75: =D75 -> 0 | K75: =DAY(B75) -> 17 | L75: =PROPER(TRIM(MID(SUBSTITUTE($B$3," ",REPT(" ",99)),99*INT((LEN($B$3)-LEN(SUBSTITUTE($B$3," ","")))/2),99))) -> Desember | M75: =IF(J75<1," ","JV-KB/TK-"&$L$11&"-"&J75) | N75: ="KB/TK "&E75 -> KB/TK Pengambilan Droping | P75: =E75 -> Pengambilan Droping | Q75: =F75+G75 -> 2500000 | R75: =Q75 -> 2500000 | T75: =$T$10 -> UNIT | U75: =CONCATENATE(T75,N75) -> UNITKB/TK Pengambilan Droping
A76: 63 | B76: 46008 | E76: Diterima kas tunai di Bendahara | G76: 2500000 | H76: =H75+F76-G76 -> 2.5726497e+08 | J76: =D76 -> 0 | K76: =DAY(B76) -> 17 | L76: =PROPER(TRIM(MID(SUBSTITUTE($B$3," ",REPT(" ",99)),99*INT((LEN($B$3)-LEN(SUBSTITUTE($B$3," ","")))/2),99))) -> Desember | M76: =IF(J76<1," ","JV-KB/TK-"&$L$11&"-"&J76) | N76: ="KB/TK "&E76 -> KB/TK Diterima kas tunai di Bendahara | P76: =E76 -> Diterima kas tunai di Bendahara | Q76: =F76+G76 -> 2500000 | R76: =Q76 -> 2500000 | T76: =$T$10 -> UNIT | U76: =CONCATENATE(T76,N76) -> UNITKB/TK Diterima kas tunai di Bendahara
A77: 64 | B77: 46008 | C77: 511107 | D77: 44 | E77: Happy Day (Batike inyong / Cita-citaku / Aksiku) | G77: 755700 | H77: =H76+F77-G77 -> 2.5650927e+08 | J77: =D77 -> 44 | K77: =DAY(B77) -> 17 | L77: =PROPER(TRIM(MID(SUBSTITUTE($B$3," ",REPT(" ",99)),99*INT((LEN($B$3)-LEN(SUBSTITUTE($B$3," ","")))/2),99))) -> Desember | M77: =IF(J77<1," ","JV-KB/TK-"&$L$11&"-"&J77) -> JV-KB/TK-Desember-44 | N77: ="KB/TK "&E77 -> KB/TK Happy Day (Batike inyong / Cita-citaku / Aksiku) | P77: =E77 -> Happy Day (Batike inyong / Cita-citaku / Aksiku) | Q77: =F77+G77 -> 755700 | R77: =Q77 -> 755700 | T77: =$T$10 -> UNIT | U77: =CONCATENATE(T77,N77) -> UNITKB/TK Happy Day (Batike inyong / Cita-citaku / Aksiku)
A78: 65 | B78: 46008 | C78: 512101 | D78: 45 | E78: Program Tahunan | G78: 748000 | H78: =H77+F78-G78 -> 2.5576127e+08 | J78: =D78 -> 45 | K78: =DAY(B78) -> 17 | L78: =PROPER(TRIM(MID(SUBSTITUTE($B$3," ",REPT(" ",99)),99*INT((LEN($B$3)-LEN(SUBSTITUTE($B$3," ","")))/2),99))) -> Desember | M78: =IF(J78<1," ","JV-KB/TK-"&$L$11&"-"&J78) -> JV-KB/TK-Desember-45 | N78: ="KB/TK "&E78 -> KB/TK Program Tahunan | P78: =E78 -> Program Tahunan | Q78: =F78+G78 -> 748000 | R78: =Q78 -> 748000 | T78: =$T$10 -> UNIT | U78: =CONCATENATE(T78,N78) -> UNITKB/TK Program Tahunan
A79: 67 | B79: 46008 | C79: 515106 | D79: 46 | E79: Perawatan CCTV | G79: 377500 | H79: =H78+F79-G79 -> 2.5538377e+08 | J79: =D79 -> 46 | K79: =DAY(B79) -> 17 | L79: =PROPER(TRIM(MID(SUBSTITUTE($B$3," ",REPT(" ",99)),99*INT((LEN($B$3)-LEN(SUBSTITUTE($B$3," ","")))/2),99))) -> Desember | M79: =IF(J79<1," ","JV-KB/TK-"&$L$11&"-"&J79) -> JV-KB/TK-Desember-46 | N79: ="KB/TK "&E79 -> KB/TK Perawatan CCTV | P79: =E79 -> Perawatan CCTV | Q79: =F79+G79 -> 377500 | R79: =Q79 -> 377500 | T79: =$T$10 -> UNIT | U79: =CONCATENATE(T79,N79) -> UNITKB/TK Perawatan CCTV
A80: 68 | B80: 46010 | C80: 512201 | D80: 47 | E80: Program Semester | G80: 844700 | H80: =H79+F80-G80 -> 2.5453907e+08 | J80: =D80 -> 47 | K80: =DAY(B80) -> 19 | L80: =PROPER(TRIM(MID(SUBSTITUTE($B$3," ",REPT(" ",99)),99*INT((LEN($B$3)-LEN(SUBSTITUTE($B$3," ","")))/2),99))) -> Desember | M80: =IF(J80<1," ","JV-KB/TK-"&$L$11&"-"&J80) -> JV-KB/TK-Desember-47 | N80: ="KB/TK "&E80 -> KB/TK Program Semester | P80: =E80 -> Program Semester | Q80: =F80+G80 -> 844700 | R80: =Q80 -> 844700 | T80: =$T$10 -> UNIT | U80: =CONCATENATE(T80,N80) -> UNITKB/TK Program Semester
A81: 69 | B81: 46011 | C81: 531008 | D81: 48 | E81: Home Visit SDM | G81: 800000 | H81: =H80+F81-G81 -> 2.5373907e+08 | J81: =D81 -> 48 | K81: =DAY(B81) -> 20 | L81: =PROPER(TRIM(MID(SUBSTITUTE($B$3," ",REPT(" ",99)),99*INT((LEN($B$3)-LEN(SUBSTITUTE($B$3," ","")))/2),99))) -> Desember | M81: =IF(J81<1," ","JV-KB/TK-"&$L$11&"-"&J81) -> JV-KB/TK-Desember-48 | N81: ="KB/TK "&E81 -> KB/TK Home Visit SDM | P81: =E81 -> Home Visit SDM | Q81: =F81+G81 -> 800000 | R81: =Q81 -> 800000 | T81: =$T$10 -> UNIT | U81: =CONCATENATE(T81,N81) -> UNITKB/TK Home Visit SDM
A82: 70 | B82: 46020 | C82: 514060 | D82: 49 | E82: Mabit /Bina Ukhuwah Asatidzah | G82: 1705000 | H82: =H81+F82-G82 -> 2.5203407e+08 | J82: =D82 -> 49 | K82: =DAY(B82) -> 29 | L82: =PROPER(TRIM(MID(SUBSTITUTE($B$3," ",REPT(" ",99)),99*INT((LEN($B$3)-LEN(SUBSTITUTE($B$3," ","")))/2),99))) -> Desember | M82: =IF(J82<1," ","JV-KB/TK-"&$L$11&"-"&J82) -> JV-KB/TK-Desember-49 | N82: ="KB/TK "&E82 -> KB/TK Mabit /Bina Ukhuwah Asatidzah | P82: =E82 -> Mabit /Bina Ukhuwah Asatidzah | Q82: =F82+G82 -> 1705000 | R82: =Q82 -> 1705000 | T82: =$T$10 -> UNIT | U82: =CONCATENATE(T82,N82) -> UNITKB/TK Mabit /Bina Ukhuwah Asatidzah
A83: 71 | B83: 46020 | C83: 515114 | D83: 50 | E83: Perawatan Karpet dan Sarana Ibadah | G83: 1010000 | H83: =H82+F83-G83 -> 2.5102407e+08 | J83: =D83 -> 50 | K83: =DAY(B83) -> 29 | L83: =PROPER(TRIM(MID(SUBSTITUTE($B$3," ",REPT(" ",99)),99*INT((LEN($B$3)-LEN(SUBSTITUTE($B$3," ","")))/2),99))) -> Desember | M83: =IF(J83<1," ","JV-KB/TK-"&$L$11&"-"&J83) -> JV-KB/TK-Desember-50 | N83: ="KB/TK "&E83 -> KB/TK Perawatan Karpet dan Sarana Ibadah | P83: =E83 -> Perawatan Karpet dan Sarana Ibadah | Q83: =F83+G83 -> 1010000 | R83: =Q83 -> 1010000 | T83: =$T$10 -> UNIT | U83: =CONCATENATE(T83,N83) -> UNITKB/TK Perawatan Karpet dan Sarana Ibadah
A84: 72 | B84: 46020 | C84: 516120 | D84: 51 | E84: Rapat Kerja Sekolah | G84: 544700 | H84: =H83+F84-G84 -> 2.5047937e+08 | J84: =D84 -> 51 | K84: =DAY(B84) -> 29 | L84: =PROPER(TRIM(MID(SUBSTITUTE($B$3," ",REPT(" ",99)),99*INT((LEN($B$3)-LEN(SUBSTITUTE($B$3," ","")))/2),99))) -> Desember | M84: =IF(J84<1," ","JV-KB/TK-"&$L$11&"-"&J84) -> JV-KB/TK-Desember-51 | N84: ="KB/TK "&E84 -> KB/TK Rapat Kerja Sekolah | P84: =E84 -> Rapat Kerja Sekolah | Q84: =F84+G84 -> 544700 | R84: =Q84 -> 544700 | T84: =$T$10 -> UNIT | U84: =CONCATENATE(T84,N84) -> UNITKB/TK Rapat Kerja Sekolah
A85: 73 | B85: 46021 | C85: 516010 | D85: 52 | E85: Akreditasi Sekolah | G85: 3000000 | H85: =H84+F85-G85 -> 2.4747937e+08 | J85: =D85 -> 52 | K85: =DAY(B85) -> 30 | L85: =PROPER(TRIM(MID(SUBSTITUTE($B$3," ",REPT(" ",99)),99*INT((LEN($B$3)-LEN(SUBSTITUTE($B$3," ","")))/2),99))) -> Desember | M85: =IF(J85<1," ","JV-KB/TK-"&$L$11&"-"&J85) -> JV-KB/TK-Desember-52 | N85: ="KB/TK "&E85 -> KB/TK Akreditasi Sekolah | P85: =E85 -> Akreditasi Sekolah | Q85: =F85+G85 -> 3000000 | R85: =Q85 -> 3000000 | T85: =$T$10 -> UNIT | U85: =CONCATENATE(T85,N85) -> UNITKB/TK Akreditasi Sekolah
A86: 74 | B86: 46022 | E86: Pengambilan Droping | F86: 15950000 | G86: 0 | H86: =H85+F86-G86 -> 2.6342937e+08 | J86: =D86 -> 0 | K86: =DAY(B86) -> 31 | L86: =PROPER(TRIM(MID(SUBSTITUTE($B$3," ",REPT(" ",99)),99*INT((LEN($B$3)-LEN(SUBSTITUTE($B$3," ","")))/2),99))) -> Desember | M86: =IF(J86<1," ","JV-KB/TK-"&$L$11&"-"&J86) | N86: ="KB/TK "&E86 -> KB/TK Pengambilan Droping | P86: =E86 -> Pengambilan Droping | Q86: =F86+G86 -> 15950000 | R86: =Q86 -> 15950000 | T86: =$T$10 -> UNIT | U86: =CONCATENATE(T86,N86) -> UNITKB/TK Pengambilan Droping
A87: 75 | B87: 46022 | E87: Diterima kas tunai di Bendahara | G87: 15950000 | H87: =H86+F87-G87 -> 2.4747937e+08 | J87: =D87 -> 0 | K87: =DAY(B87) -> 31 | L87: =PROPER(TRIM(MID(SUBSTITUTE($B$3," ",REPT(" ",99)),99*INT((LEN($B$3)-LEN(SUBSTITUTE($B$3," ","")))/2),99))) -> Desember | M87: =IF(J87<1," ","JV-KB/TK-"&$L$11&"-"&J87) | N87: ="KB/TK "&E87 -> KB/TK Diterima kas tunai di Bendahara | P87: =E87 -> Diterima kas tunai di Bendahara | Q87: =F87+G87 -> 15950000 | R87: =Q87 -> 15950000 | T87: =$T$10 -> UNIT | U87: =CONCATENATE(T87,N87) -> UNITKB/TK Diterima kas tunai di Bendahara
